BEGIN:VCALENDAR
VERSION:2.0
PRODID:-//CIESAS - ECPv6.15.20//NONSGML v1.0//EN
CALSCALE:GREGORIAN
METHOD:PUBLISH
X-ORIGINAL-URL:https://ciesas.edu.mx
X-WR-CALDESC:Eventos para CIESAS
REFRESH-INTERVAL;VALUE=DURATION:PT1H
X-Robots-Tag:noindex
X-PUBLISHED-TTL:PT1H
BEGIN:VTIMEZONE
TZID:America/Mexico_City
BEGIN:DAYLIGHT
TZOFFSETFROM:-0600
TZOFFSETTO:-0500
TZNAME:CDT
DTSTART:20210404T080000
END:DAYLIGHT
BEGIN:STANDARD
TZOFFSETFROM:-0500
TZOFFSETTO:-0600
TZNAME:CST
DTSTART:20211031T070000
END:STANDARD
BEGIN:DAYLIGHT
TZOFFSETFROM:-0600
TZOFFSETTO:-0500
TZNAME:CDT
DTSTART:20220403T080000
END:DAYLIGHT
BEGIN:STANDARD
TZOFFSETFROM:-0500
TZOFFSETTO:-0600
TZNAME:CST
DTSTART:20221030T070000
END:STANDARD
END:VTIMEZONE
BEGIN:VEVENT
DTSTART;TZID=America/Mexico_City:20220927T170000
DTEND;TZID=America/Mexico_City:20220927T170000
DTSTAMP:20260424T091658
CREATED:20220907T145720Z
LAST-MODIFIED:20220907T150141Z
UID:25425-1664298000-1664298000@ciesas.edu.mx
SUMMARY:Seminario Interinstitucional de Antropología y Etnografía de la Educación. Sesión 1
DESCRIPTION:Seminario Interinstitucional de Antropología y Etnografía de la Educación presenta su primera sesión titulada Prácticas de re-existencia\, género e inseguridad en contextos de violencia escolar por el crimen organizado de Michoacán.  \n\n\n\nEl acceso es abierto al público\, pero deberá registrarse previamente para obtener la liga de Zoom enviando un  correo a semi.antropologiadelaeducacion@gmail.com \n\n\n\nPresentacion Seminario SIAEEDescarga
URL:https://ciesas.edu.mx/event/seminario-interinstitucional-de-antropologia-y-etnografia-de-la-educacion-sesion-1/
LOCATION:CDMX
CATEGORIES:Seminario
ATTACH;FMTTYPE=image/jpeg:https://ciesas.edu.mx/wp-content/uploads/2022/09/SeminarioInteInstitucional_AntropologíaEtnografíaDeLaEducacion.jpg
ORGANIZER;CN="Seminario Interinstitucional de Antropolog%C3%ADa y Etnograf%C3%ADa de la Educaci%C3%B3n":MAILTO:semi.antropologiadelaeducacion@gmail.com
END:VEVENT
END:VCALENDAR