BEGIN:VCALENDAR
VERSION:2.0
PRODID:-//CIESAS - ECPv6.15.20//NONSGML v1.0//EN
CALSCALE:GREGORIAN
METHOD:PUBLISH
X-ORIGINAL-URL:https://ciesas.edu.mx
X-WR-CALDESC:Eventos para CIESAS
REFRESH-INTERVAL;VALUE=DURATION:PT1H
X-Robots-Tag:noindex
X-PUBLISHED-TTL:PT1H
BEGIN:VTIMEZONE
TZID:America/Mexico_City
BEGIN:DAYLIGHT
TZOFFSETFROM:-0600
TZOFFSETTO:-0500
TZNAME:CDT
DTSTART:20210404T080000
END:DAYLIGHT
BEGIN:STANDARD
TZOFFSETFROM:-0500
TZOFFSETTO:-0600
TZNAME:CST
DTSTART:20211031T070000
END:STANDARD
BEGIN:DAYLIGHT
TZOFFSETFROM:-0600
TZOFFSETTO:-0500
TZNAME:CDT
DTSTART:20220403T080000
END:DAYLIGHT
BEGIN:STANDARD
TZOFFSETFROM:-0500
TZOFFSETTO:-0600
TZNAME:CST
DTSTART:20221030T070000
END:STANDARD
END:VTIMEZONE
BEGIN:VEVENT
DTSTART;TZID=America/Mexico_City:20220928T120000
DTEND;TZID=America/Mexico_City:20220928T140000
DTSTAMP:20260424T101917
CREATED:20220923T130800Z
LAST-MODIFIED:20220922T184745Z
UID:25172-1664366400-1664373600@ciesas.edu.mx
SUMMARY:Seminario Permanente Agua y Cultura
DESCRIPTION:Quinta sesión del año del Seminario Permanente Agua y Cultura\, coordinado por el profesor investigador Daniel Murillo Licea. \n\n\n\nII Panel de discusión sobre manejo comunitario del agua.  Presenta: Daniel Murillo Licea (CIESAS Ciudad de México)\, Margarita Gutiérrez Vizcaíno y José Luis Méndez Rodríguez (Cántaro Azul) \n\n\n\n \n\n\n\n\n\n\n\nLos objetivos del seminario son promover\, reconocer y comprender los vínculos entre el agua\, el ambiente y la diversidad cultural. También proporcionar una definición de la cultura hídrica al conjunto de los gestores del agua\, académicos\, sociedad civil\, estudiosos de las ciencias sociales y ciencias del agua que permita construir una serie de marcos teóricos conceptuales desde una perspectiva latinoamericana compleja e integradora.
URL:https://ciesas.edu.mx/event/seminario-permanente-agua-y-cultura-sesion5/
LOCATION:CDMX
CATEGORIES:Seminario
ATTACH;FMTTYPE=image/jpeg:https://ciesas.edu.mx/wp-content/uploads/2022/08/BannerBannersSeminarioPermanenteAgua_y_CulturaSeptiembre2022..jpg
END:VEVENT
BEGIN:VEVENT
DTSTART;TZID=America/Mexico_City:20220928T130000
DTEND;TZID=America/Mexico_City:20220928T150000
DTSTAMP:20260424T101917
CREATED:20220923T182728Z
LAST-MODIFIED:20220923T214830Z
UID:25569-1664370000-1664377200@ciesas.edu.mx
SUMMARY:Adquisición de verbos posicionales
DESCRIPTION:El Seminario Permanente de Lingüística Antropológica presenta «Adquisición de verbos posicionales en niños bilingües en un contexto de desplazamiento lingüístico en una comunidad zapoteca de Oaxaca»\, ponencia a cargo de la Dra. Ana Alonso Ortiz. \n\n\n\nLa conferencia será vía Zoom con registro previo en el correo sniasistente@gmail.com
URL:https://ciesas.edu.mx/event/adquisicion-de-verbos-posicionales/
LOCATION:CDMX
CATEGORIES:Seminario
ATTACH;FMTTYPE=image/jpeg:https://ciesas.edu.mx/wp-content/uploads/2022/09/BannerSeminarioPermanenteDeLinguistica_AdquisisionDeVerbos-CIESAS-Zapoteca-Oaxaca.jpg
ORGANIZER;CN="Seminario Permanente de Ling%C3%BC%C3%ADstica%C2%A0Antropol%C3%B3gica":MAILTO:sniasistente@gmail.com
END:VEVENT
END:VCALENDAR