BEGIN:VCALENDAR
VERSION:2.0
PRODID:-//CIESAS - ECPv6.15.20//NONSGML v1.0//EN
CALSCALE:GREGORIAN
METHOD:PUBLISH
X-WR-CALNAME:CIESAS
X-ORIGINAL-URL:https://ciesas.edu.mx
X-WR-CALDESC:Eventos para CIESAS
REFRESH-INTERVAL;VALUE=DURATION:PT1H
X-Robots-Tag:noindex
X-PUBLISHED-TTL:PT1H
BEGIN:VTIMEZONE
TZID:America/Mexico_City
BEGIN:DAYLIGHT
TZOFFSETFROM:-0600
TZOFFSETTO:-0500
TZNAME:CDT
DTSTART:20210404T080000
END:DAYLIGHT
BEGIN:STANDARD
TZOFFSETFROM:-0500
TZOFFSETTO:-0600
TZNAME:CST
DTSTART:20211031T070000
END:STANDARD
BEGIN:DAYLIGHT
TZOFFSETFROM:-0600
TZOFFSETTO:-0500
TZNAME:CDT
DTSTART:20220403T080000
END:DAYLIGHT
BEGIN:STANDARD
TZOFFSETFROM:-0500
TZOFFSETTO:-0600
TZNAME:CST
DTSTART:20221030T070000
END:STANDARD
END:VTIMEZONE
BEGIN:VEVENT
DTSTART;TZID=America/Mexico_City:20220929T093000
DTEND;TZID=America/Mexico_City:20220930T180000
DTSTAMP:20260422T073122
CREATED:20220923T192359Z
LAST-MODIFIED:20220923T215925Z
UID:25577-1664443800-1664560800@ciesas.edu.mx
SUMMARY:Foro final de Mujeres Indígenas Posdoctorantes STEM
DESCRIPTION:El CIESAS presenta el Foro final de Mujeres Indígenas Posdoctorantes STEM\, evento con el cual concluye el programa que tuvo como objetivo general construir capacidades entre las mujeres indígenas en México para que se conviertan en líderes en campos STEM.  \n\n\n\nEl foro se realizará los días 29 y 30 de septiembre\, en la ciudad de Mérida con transmisión en vivo a través del canal de YouTube del CIESAS. El programa incluye la presentación de resultados de los proyectos académicos de las 12 becarias del Programa\, de las convocatorias 2018 y 2019\, así como de los proyectos comunitarios que llevaron a cabo.
URL:https://ciesas.edu.mx/event/foro-final-de-mujeres-indigenas-posdoctorantes-stem/
LOCATION:Ciudad de México
CATEGORIES:Conferencia
ATTACH;FMTTYPE=image/jpeg:https://ciesas.edu.mx/wp-content/uploads/2022/09/BannerForoFinalDeMujeresIndigenasPosdoctorantesSTEM.jpg
END:VEVENT
BEGIN:VEVENT
DTSTART;TZID=America/Mexico_City:20220929T110000
DTEND;TZID=America/Mexico_City:20220929T110000
DTSTAMP:20260422T073122
CREATED:20220920T163000Z
LAST-MODIFIED:20220920T205823Z
UID:25530-1664449200-1664449200@ciesas.edu.mx
SUMMARY:Seminario Binacional Diversidad sin Violencia
DESCRIPTION:El Seminario Binacional Diversidad sin Violencia presenta las ponencias: \n\n\n\nExclusiones sociales por cuestiones de género: migrantes transexuales en Ciudad Juárez y El Paso. \n\n\n\n Aproximaciones a la diversidad de género en el islam contemporáneo. \n\n\n\nTransmisión vía Zoom. Se requiere registro previo en sads542@yahoo.com.mx
URL:https://ciesas.edu.mx/event/seminario-binacional-diversidad-sin-violencia-sesion-29-sep/
LOCATION:Ciudad de México
CATEGORIES:Seminario
ATTACH;FMTTYPE=image/jpeg:https://ciesas.edu.mx/wp-content/uploads/2022/09/BannerSeminario-Diversidad-sin-Violencia-invita-a-sesión-sobre-el-feminicidio.jpg
END:VEVENT
END:VCALENDAR