BEGIN:VCALENDAR
VERSION:2.0
PRODID:-//CIESAS - ECPv6.15.15//NONSGML v1.0//EN
CALSCALE:GREGORIAN
METHOD:PUBLISH
X-ORIGINAL-URL:https://ciesas.edu.mx
X-WR-CALDESC:Eventos para CIESAS
REFRESH-INTERVAL;VALUE=DURATION:PT1H
X-Robots-Tag:noindex
X-PUBLISHED-TTL:PT1H
BEGIN:VTIMEZONE
TZID:America/Mexico_City
BEGIN:DAYLIGHT
TZOFFSETFROM:-0600
TZOFFSETTO:-0500
TZNAME:CDT
DTSTART:20220403T080000
END:DAYLIGHT
BEGIN:STANDARD
TZOFFSETFROM:-0500
TZOFFSETTO:-0600
TZNAME:CST
DTSTART:20221030T070000
END:STANDARD
END:VTIMEZONE
BEGIN:VEVENT
DTSTART;TZID=America/Mexico_City:20230412T090000
DTEND;TZID=America/Mexico_City:20230414T170000
DTSTAMP:20260421T050020
CREATED:20230331T204640Z
LAST-MODIFIED:20230331T205211Z
UID:27549-1681290000-1681491600@ciesas.edu.mx
SUMMARY:8a Feria del Libro en Ciencias Sociales
DESCRIPTION:El CIESAS estará presente en la 8a Feria del Libro en Ciencias Sociales. Busca nuestro stand en el estacionamiento del Instituto de Investigaciones Sociales\, Circuito Mario de la Cueva\, Ciudad Univeristarias. Habrá descuentos en títulos seleccionados.
URL:https://ciesas.edu.mx/event/8a-feria-del-libro-en-ciencias-sociales/
LOCATION:IIS-UNAM\, Circuito\, Mario de La Cueva S/N\, Ciudad Universitaria\, Coyoacán\, 04510\, México
CATEGORIES:Festival/Feria
ATTACH;FMTTYPE=image/jpeg:https://ciesas.edu.mx/wp-content/uploads/2023/03/BannerWebFeriaDelLibroEnCienciasSocialesUNAM-CIESAS.jpg
END:VEVENT
END:VCALENDAR