BEGIN:VCALENDAR
VERSION:2.0
PRODID:-//CIESAS - ECPv6.15.20//NONSGML v1.0//EN
CALSCALE:GREGORIAN
METHOD:PUBLISH
X-ORIGINAL-URL:https://ciesas.edu.mx
X-WR-CALDESC:Eventos para CIESAS
REFRESH-INTERVAL;VALUE=DURATION:PT1H
X-Robots-Tag:noindex
X-PUBLISHED-TTL:PT1H
BEGIN:VTIMEZONE
TZID:America/Mexico_City
BEGIN:DAYLIGHT
TZOFFSETFROM:-0600
TZOFFSETTO:-0500
TZNAME:CDT
DTSTART:20220403T080000
END:DAYLIGHT
BEGIN:STANDARD
TZOFFSETFROM:-0500
TZOFFSETTO:-0600
TZNAME:CST
DTSTART:20221030T070000
END:STANDARD
END:VTIMEZONE
BEGIN:VEVENT
DTSTART;TZID=America/Mexico_City:20230420T100000
DTEND;TZID=America/Mexico_City:20230420T100000
DTSTAMP:20260425T222924
CREATED:20230331T174153Z
LAST-MODIFIED:20230331T174155Z
UID:27538-1681984800-1681984800@ciesas.edu.mx
SUMMARY:Nuevos escenarios migratorios en México
DESCRIPTION:El Seminario Interinstitucional Movilidades en Contextos Migratorio presenta Nuevos escenarios migratorios en México: población africana y centroamericana a cargo de Ester Serra Mingot\, Universidad de Bielefeld y Lisbeth Chávez Jiménez\, CIESAS-Ciudad de México. \n\n\n\nLa sesión será en modalidad híbrida y se podrá asistir a la Sala Juárez del CIESAS CDMX o ver la transmisión en directo por el Facebook Live del CIESAS.
URL:https://ciesas.edu.mx/event/nuevos-escenarios-migratorios-en-mexico/
LOCATION:Sala Juárez del CIESAS\, Juárez 87\, Tlalpan\, Tlalpan\, Ciudad de México\, MEXICO CITY\, 14000\, México
CATEGORIES:Seminario
ATTACH;FMTTYPE=image/jpeg:https://ciesas.edu.mx/wp-content/uploads/2023/03/InstagramSeminarioMovilidades_UNAM-e1680284499297.jpg
END:VEVENT
BEGIN:VEVENT
DTSTART;TZID=America/Mexico_City:20230420T110000
DTEND;TZID=America/Mexico_City:20230420T110000
DTSTAMP:20260425T222924
CREATED:20230410T162004Z
LAST-MODIFIED:20230410T162006Z
UID:27612-1681988400-1681988400@ciesas.edu.mx
SUMMARY:El Códice de Xilotepec
DESCRIPTION:El Seminario Tlatemoani presenta El Códice de Xilotepec\, sesión a cargo de la Dra. Rosa Brambila Paz (Dirección de Etnohistoria del INAH)\, basada en la publicación homónima\, la cual fue producto del esfuerzo conjunto de un grupo de investigadores y estudiosos de la cultura otomiana\, el Instituto Nacional de Antropología e Historia (inah)\, El Colegio Mexiquense\, A.C.\, y el Gobierno del Estado de México dan a conocer por primera vez una edición facsimilar completa del llamado Códice de Jilotepec\, pictografía colonial procedente de una de las poblaciones del actual territorio del Estado de México históricamente más importantes\, anterior y posterior a la conquista española. \n\n\n\n\n\n\n\n 
URL:https://ciesas.edu.mx/event/el-codice-de-xilotepec/
LOCATION:MEXICO CITY
CATEGORIES:Seminario
ATTACH;FMTTYPE=image/jpeg:https://ciesas.edu.mx/wp-content/uploads/2023/04/BannerCodice-Xilotepec.jpg
ORGANIZER;CN="Seminario Tlatemoani":MAILTO:quecholli@gmail.com
END:VEVENT
END:VCALENDAR