BEGIN:VCALENDAR
VERSION:2.0
PRODID:-//CIESAS - ECPv6.15.20//NONSGML v1.0//EN
CALSCALE:GREGORIAN
METHOD:PUBLISH
X-WR-CALNAME:CIESAS
X-ORIGINAL-URL:https://ciesas.edu.mx
X-WR-CALDESC:Eventos para CIESAS
REFRESH-INTERVAL;VALUE=DURATION:PT1H
X-Robots-Tag:noindex
X-PUBLISHED-TTL:PT1H
BEGIN:VTIMEZONE
TZID:America/Mexico_City
BEGIN:STANDARD
TZOFFSETFROM:-0600
TZOFFSETTO:-0600
TZNAME:CST
DTSTART:20230101T000000
END:STANDARD
END:VTIMEZONE
BEGIN:VEVENT
DTSTART;TZID=America/Mexico_City:20240808T090000
DTEND;TZID=America/Mexico_City:20240818T180000
DTSTAMP:20260424T101212
CREATED:20240716T180046Z
LAST-MODIFIED:20240716T183528Z
UID:32542-1723107600-1724004000@ciesas.edu.mx
SUMMARY:El CIESAS en la FILAH 2024
DESCRIPTION:El CIESAS estará en la 35 Feria Internacional del Libro de Antropología e Historia (FILAH)\, la cual se realizará del 8 al 18 de agosto de 2024 en el Museo Nacional de Antropología e Historia\, bajo los ejes temáticos «Patrimonio Cultural y Sostenibilidad»\, con la participación de Belice y el estado de Quintana Roo como invitados de honor. El público interesado podrá adquirir títulos de nuestro catálogo editorial en el Stand 42 o asistir a alguna de las presentaciones de los siguientes libros: \nPaseos por el campo. Santos\, meteorología indígena y religiosidad popularSábado 10 de agosto de 2024\, 14:00 hCarpa 2\, Patio central \nEl género del don. Problemas con las mujeres y problemas con la sociedad en MelanesiaJueves 15 de agosto de 2024Carpa 2\, Patio central \n\n\n\n\n\nDesde 1989\, la FILAH es un referente obligado dentro de la oferta cultural para México y Latinoamérica. Cada año\, se cuenta con un país y un estado invitados\, lo cual permite estrechar lazos culturales\, académicos y artísticos. El Museo Nacional de Antropología\, es el recinto que acoge la feria\, con más de un centenar de stands de los principales sellos editoriales de México y el país invitado\, donde tienen lugar presentaciones editoriales\, coloquios\, conferencias magistrales\, conversatorios\, mesas redondas\, ciclos de cine\, talleres y foros artísticos. Numerosas actividades\, todas ellas de entrada libre.
URL:https://ciesas.edu.mx/event/el-ciesas-en-la-filah-2024/
LOCATION:Museo Nacional de Antropología\, Av. Paseo de la Reforma y Calzada Gandhi s/n\, Miguel Hidalgo\, Cidudad de México\, 11560\, México
CATEGORIES:Festival/Feria,Presentación editorial
ATTACH;FMTTYPE=image/jpeg:https://ciesas.edu.mx/wp-content/uploads/2024/07/Banner1200-FILAH35-CIESAS-e1721152788321.jpg
ORGANIZER;CN="Feria Internacional del Libro de Antropolog%C3%ADa e Historia (FILAH)":MAILTO:feriafilah@inah.gob.mx
END:VEVENT
BEGIN:VEVENT
DTSTART;TZID=America/Mexico_City:20240814T140000
DTEND;TZID=America/Mexico_City:20240814T150000
DTSTAMP:20260424T101212
CREATED:20240716T182829Z
LAST-MODIFIED:20240716T182829Z
UID:32550-1723644000-1723647600@ciesas.edu.mx
SUMMARY:Presentación El género del don
DESCRIPTION:En el marco de la 35 Feria Internacional del Libro de Antropología e Historia (FILAH)\, la cual se realizará del 8 al 18 de agosto de 2024 en el Museo Nacional de Antropología e Historia\, el CIESAS presentará el libro El género del don. Problemas con las mujeres y problemas con la sociedad en Melanesia\, versión en español de la obra The Gender of the Gift (1988). Es posiblemente uno de los cinco libros más influyentes en la disciplina de la antropología de los últimos 50 años. Ha establecido nuevos estándares para el pensamiento antropológico sobre el intercambio\, la persona y el género. Además\, con su crítica a la universalidad de la dicotomía naturaleza versus cultura y su enfoque relacional\, es precursor e inspiración de lo que se ha conocido como el “giro ontológico” en la disciplina. \nLa actividad se llevará a cabo en la Carpa 2\, Patio central del Museo\, el jueves 15 de agosto\,  a las 14:00 h con la presencia de Gloria Elena Bernal\, Hiroko Asakura  y Roberto Melville\, investigadores del CIESAS Ciudad de México. 
URL:https://ciesas.edu.mx/event/presentacion-el-genero-del-don/
LOCATION:Museo Nacional de Antropología\, Av. Paseo de la Reforma y Calzada Gandhi s/n\, Miguel Hidalgo\, Cidudad de México\, 11560\, México
CATEGORIES:Festival/Feria,Presentación editorial
ATTACH;FMTTYPE=image/jpeg:https://ciesas.edu.mx/wp-content/uploads/2024/07/Banner1200_FILAH2024-ElGeneroDelDon-e1721154475789.jpg
ORGANIZER;CN="Feria Internacional del Libro de Antropolog%C3%ADa e Historia (FILAH)":MAILTO:feriafilah@inah.gob.mx
END:VEVENT
END:VCALENDAR