BEGIN:VCALENDAR
VERSION:2.0
PRODID:-//CIESAS - ECPv6.15.15//NONSGML v1.0//EN
CALSCALE:GREGORIAN
METHOD:PUBLISH
X-WR-CALNAME:CIESAS
X-ORIGINAL-URL:https://ciesas.edu.mx
X-WR-CALDESC:Eventos para CIESAS
REFRESH-INTERVAL;VALUE=DURATION:PT1H
X-Robots-Tag:noindex
X-PUBLISHED-TTL:PT1H
BEGIN:VTIMEZONE
TZID:America/Mexico_City
BEGIN:STANDARD
TZOFFSETFROM:-0600
TZOFFSETTO:-0600
TZNAME:CST
DTSTART:20230101T000000
END:STANDARD
END:VTIMEZONE
BEGIN:VEVENT
DTSTART;TZID=America/Mexico_City:20240826T090000
DTEND;TZID=America/Mexico_City:20240827T140000
DTSTAMP:20260419T151218
CREATED:20240819T215526Z
LAST-MODIFIED:20240816T215807Z
UID:32708-1724662800-1724767200@ciesas.edu.mx
SUMMARY:Semana de Inducción y Bienvenida 2024
DESCRIPTION:La Subdirección de Docencia del CIESAS\, en coordinación con la Dirección General\, presentan la Semana de Inducción y Bienvenida para los alumnos aceptados en las Maestrías promoción 2024-2026 y Doctorados promoción 2024-2028. Las actividades se realizarán de manera híbrida los días 26 y 27 de agosto en la Sala Juárez del CIESAS CDMX y por transmisión vía Facebook Live. \n\n\n\nLa modalidad del evento será híbrida por lo que se podrá asistir a las instalaciones del CIESAS ubicadas en en Juárez 222\, Tlalpan\, CDMX\, o bien\, seguir la transmisión por Facebook Live. \nConsulta el programa de la Semana Induccion 2024
URL:https://ciesas.edu.mx/event/semana-de-induccion-y-bienvenida-2024/
LOCATION:Sala Juárez del CIESAS\, Juárez 87\, Tlalpan\, Tlalpan\, Ciudad de México\, MEXICO CITY\, 14000\, México
CATEGORIES:Docencia
ATTACH;FMTTYPE=image/jpeg:https://ciesas.edu.mx/wp-content/uploads/2024/08/SBI-WEB-e1723844952287.jpg
ORGANIZER;CN="Subdirecci%C3%B3n de Docencia":MAILTO:docencia@ciesas.edu.mx
END:VEVENT
END:VCALENDAR