BEGIN:VCALENDAR
VERSION:2.0
PRODID:-//CIESAS - ECPv6.15.15//NONSGML v1.0//EN
CALSCALE:GREGORIAN
METHOD:PUBLISH
X-WR-CALNAME:CIESAS
X-ORIGINAL-URL:https://ciesas.edu.mx
X-WR-CALDESC:Eventos para CIESAS
REFRESH-INTERVAL;VALUE=DURATION:PT1H
X-Robots-Tag:noindex
X-PUBLISHED-TTL:PT1H
BEGIN:VTIMEZONE
TZID:America/Mexico_City
BEGIN:STANDARD
TZOFFSETFROM:-0600
TZOFFSETTO:-0600
TZNAME:CST
DTSTART:20230101T000000
END:STANDARD
END:VTIMEZONE
BEGIN:VEVENT
DTSTART;TZID=America/Mexico_City:20240910T100000
DTEND;TZID=America/Mexico_City:20240910T100000
DTSTAMP:20260419T150503
CREATED:20240903T223703Z
LAST-MODIFIED:20240903T223819Z
UID:32950-1725962400-1725962400@ciesas.edu.mx
SUMMARY:Sostener los cuidados en la movilidad
DESCRIPTION:El seminario permanente sobre migración TRAMOS invita a la sesión Sostener los cuidados en la movilidad: mujeres centroamericanas en la región centro de México con Dra. Itzel Abril Tinoco González y Mtra. Karla Ivonne Brito Gómez de la Universidad Autónoma del Estado de México (UAEMéx).La sesión podra seguirse vía YouTube: https://bit.ly/TRAMOS10sep24Inscripción: https://forms.gle/FpjJv6ShjEPWSVSU7 \nTRAMOS\, Trayectoria y Movilidad del CIESAS Occidente y la Cátedra MIFID\, da continuidad al Seminario Permanente sobre Migración (SEPEMIO)\, el cual pretende posicionarse como un espacio de reflexión y discusión con la participación de distintos actores\, organizaciones e instituciones.
URL:https://ciesas.edu.mx/event/sostener-los-cuidados-en-la-movilidad/
LOCATION:Ciudad de México
CATEGORIES:Conferencia
ATTACH;FMTTYPE=image/png:https://ciesas.edu.mx/wp-content/uploads/2024/09/TRAMOS_20240910-e1725402959489.png
END:VEVENT
BEGIN:VEVENT
DTSTART;TZID=America/Mexico_City:20240910T143000
DTEND;TZID=America/Mexico_City:20240910T163000
DTSTAMP:20260419T150503
CREATED:20240830T184653Z
LAST-MODIFIED:20240830T184653Z
UID:32911-1725978600-1725985800@ciesas.edu.mx
SUMMARY:Cuidados\, trabajo y sostenibilidad de la vida
DESCRIPTION:El CIESAS y el Colegio de México invitan a la primera sesión de su Seminario Cuidados\, trabajo y sostenibilidad de la vida\, el cual busca presentar y dialogar colectivamente la elaboración de borradores de publicación de artículos sobre investigaciones etnográficas que aborden temáticas en torno a las prácticas de cuidado vinculadas al trabajo\, a las experiencias de personas trabajadoras\, en viejos y nuevos oficios\, ante las nuevas condiciones para el cuidado y la sostenibilidad de la vida en contextos de recrudecimiento de la explotación capitalista neoliberal en América Latina\, con aproximaciones teóricas desde los feminismos y otras perspectivas críticas. \n \n 
URL:https://ciesas.edu.mx/event/cuidados-trabajo-y-sostenibilidad-de-la-vida/
LOCATION:Sala Juárez del CIESAS\, Juárez 87\, Tlalpan\, Tlalpan\, Ciudad de México\, MEXICO CITY\, 14000\, México
CATEGORIES:Seminario
ATTACH;FMTTYPE=image/jpeg:https://ciesas.edu.mx/wp-content/uploads/2024/08/Banner1200_CuidadosTrabajoSostenibilidad--e1725043592614.jpg
END:VEVENT
END:VCALENDAR