BEGIN:VCALENDAR
VERSION:2.0
PRODID:-//CIESAS - ECPv6.15.15//NONSGML v1.0//EN
CALSCALE:GREGORIAN
METHOD:PUBLISH
X-WR-CALNAME:CIESAS
X-ORIGINAL-URL:https://ciesas.edu.mx
X-WR-CALDESC:Eventos para CIESAS
REFRESH-INTERVAL;VALUE=DURATION:PT1H
X-Robots-Tag:noindex
X-PUBLISHED-TTL:PT1H
BEGIN:VTIMEZONE
TZID:America/Mexico_City
BEGIN:STANDARD
TZOFFSETFROM:-0600
TZOFFSETTO:-0600
TZNAME:CST
DTSTART:20230101T000000
END:STANDARD
END:VTIMEZONE
BEGIN:VEVENT
DTSTART;TZID=America/Mexico_City:20240919T180000
DTEND;TZID=America/Mexico_City:20240919T190000
DTSTAMP:20260419T150439
CREATED:20240819T160047Z
LAST-MODIFIED:20240815T232057Z
UID:32514-1726768800-1726772400@ciesas.edu.mx
SUMMARY:Presentación editorial Infancias Amputadas
DESCRIPTION:El CIESAS Noreste y la Subdirección de Publicaciones invitan a la presentación de Infancias amputadas\, adolescencias en riesgo. Militarización y violencias en el noreste de México\, novedad editorial coordinada por la Dra. Séverine Durin. \nEl propósito de este libro es dar voz a niñas y niños que nacieron y crecieron en un país armado\, donde hay permiso para desaparecer personas\, y las fuerzas castrenses pueden disparar en contra de personas sospechosas de ser delincuentes armados. La investigación se ubica en el noreste mexicano\, para explorar  las vivencias de la niñez y adolescencia en el contexto de la actual crisis de seguridad pública después de que pasaron quince años desde que se emprendió el combate a la delincuencia organizada por la vía de las armas\, una estrategia militarizada de seguridad pública que hizo de México un país de dolientes\, de familias desgarradas por la ausencia de familiares desaparecidos y de personas desplazadas por la violencia generalizada. \nEl evento se realizará en las instalaciones del CIESAS Noreste\, dónde los asistentes podrán adquirir la publicación con un 40% de descuento en el día de dicha presentación.
URL:https://ciesas.edu.mx/event/presentacion-editorial-infancias-amputadas/
LOCATION:CIESAS Noreste\, Prolongación José María Morelos #822\, Barrio Antiguo.\, Monterrey\, Nuevo León\, 64000\, México
CATEGORIES:Festival/Feria
ATTACH;FMTTYPE=image/jpeg:https://ciesas.edu.mx/wp-content/uploads/2024/07/Banner1200_InfanciasAmputadas_Septiembre-e1720646951458.jpg
ORGANIZER;CN="CIESAS Noreste":MAILTO:recepcion.noreste@ciesas.edu.mx
END:VEVENT
END:VCALENDAR