BEGIN:VCALENDAR
VERSION:2.0
PRODID:-//CIESAS - ECPv6.15.15//NONSGML v1.0//EN
CALSCALE:GREGORIAN
METHOD:PUBLISH
X-WR-CALNAME:CIESAS
X-ORIGINAL-URL:https://ciesas.edu.mx
X-WR-CALDESC:Eventos para CIESAS
REFRESH-INTERVAL;VALUE=DURATION:PT1H
X-Robots-Tag:noindex
X-PUBLISHED-TTL:PT1H
BEGIN:VTIMEZONE
TZID:America/Mexico_City
BEGIN:STANDARD
TZOFFSETFROM:-0600
TZOFFSETTO:-0600
TZNAME:CST
DTSTART:20230101T000000
END:STANDARD
END:VTIMEZONE
BEGIN:VEVENT
DTSTART;TZID=America/Mexico_City:20240924T143000
DTEND;TZID=America/Mexico_City:20240924T163000
DTSTAMP:20260419T150459
CREATED:20240919T215339Z
LAST-MODIFIED:20240918T215434Z
UID:33244-1727188200-1727195400@ciesas.edu.mx
SUMMARY:Cuidados\, trabajo y sostenibilidad de la vida. Sesión 3
DESCRIPTION:El CIESAS y el Colegio de México invitan a la tercera sesión de su Seminario Cuidados\, trabajo y sostenibilidad de la vida\, en la cual se explorarán temas relacionados a la subrogación y  el cuidado a las personas mayores. \n \nEl Seminario busca presentar y dialogar colectivamente la elaboración de borradores de publicación de artículos sobre investigaciones etnográficas que aborden temáticas en torno a las prácticas de cuidado vinculadas al trabajo\, a las experiencias de personas trabajadoras\, en viejos y nuevos oficios\, ante las nuevas condiciones para el cuidado y la sostenibilidad de la vida en contextos de recrudecimiento de la explotación capitalista neoliberal en América Latina\, con aproximaciones teóricas desde los feminismos y otras perspectivas críticas. \n 
URL:https://ciesas.edu.mx/event/cuidados-trabajo-sostenibilidad-sesion-3/
LOCATION:Sala Juárez del CIESAS\, Juárez 87\, Tlalpan\, Tlalpan\, Ciudad de México\, MEXICO CITY\, 14000\, México
CATEGORIES:Seminario
ATTACH;FMTTYPE=image/jpeg:https://ciesas.edu.mx/wp-content/uploads/2024/09/Banner1200_CuidadosTrabajoSostenibilidad_20240924-e1726696412503.jpg
END:VEVENT
BEGIN:VEVENT
DTSTART;TZID=America/Mexico_City:20240924T170000
DTEND;TZID=America/Mexico_City:20240924T170000
DTSTAMP:20260419T150459
CREATED:20240918T220533Z
LAST-MODIFIED:20240918T220735Z
UID:33249-1727197200-1727197200@ciesas.edu.mx
SUMMARY:Sociología de la salud y respuestas sociales de cuidado
DESCRIPTION:El Seminario Permanente Socioantropología de la Salud en Occidente invita a la sesión Sociología de la salud y respuestas sociales de cuidado\, con Ramón Carlos Corona Manilla  de la Universidad de la Salud (UNISA)\, Karina García Jiménez de la Coordinación de Medicina (CUCS-UDG) e Iván Ulises Flores Quiroz; modera Lina Magdalena Conteras Gómez de la Universidad Autónoma del Estado de México (UAEMéx). \nEl público interesado podrá asistir a las instalaciones del CIESAS Occidente\, o bien\, seguir la transmisión vía Facebook Live.
URL:https://ciesas.edu.mx/event/sociologia-de-la-salud-y-respuestas-sociales-de-cuidado/
LOCATION:CIESAS Occidente\, Av. España #1359\, col. Moderna\, Guadalajara\, Jalisco\, 44190\, México
CATEGORIES:Seminario
ATTACH;FMTTYPE=image/png:https://ciesas.edu.mx/wp-content/uploads/2024/09/Banner_SSASO_20240924-e1726697247364.png
END:VEVENT
END:VCALENDAR