BEGIN:VCALENDAR
VERSION:2.0
PRODID:-//CIESAS - ECPv6.15.15//NONSGML v1.0//EN
CALSCALE:GREGORIAN
METHOD:PUBLISH
X-WR-CALNAME:CIESAS
X-ORIGINAL-URL:https://ciesas.edu.mx
X-WR-CALDESC:Eventos para CIESAS
REFRESH-INTERVAL;VALUE=DURATION:PT1H
X-Robots-Tag:noindex
X-PUBLISHED-TTL:PT1H
BEGIN:VTIMEZONE
TZID:America/Mexico_City
BEGIN:STANDARD
TZOFFSETFROM:-0600
TZOFFSETTO:-0600
TZNAME:CST
DTSTART:20230101T000000
END:STANDARD
END:VTIMEZONE
BEGIN:VEVENT
DTSTART;TZID=America/Mexico_City:20240927T100000
DTEND;TZID=America/Mexico_City:20240927T130000
DTSTAMP:20260420T002619
CREATED:20240912T175546Z
LAST-MODIFIED:20240911T212717Z
UID:33157-1727431200-1727442000@ciesas.edu.mx
SUMMARY:Dossier ¿Minería marginal?
DESCRIPTION:El Seminario Historia de la Minería en México y Regiones Comparadas presenta el Dossier ¿Minería marginal? Espacios\, minerales y productores no hegemónicos en México y Argentina\, siglos XVI-XIX. \nEste dossier toma dos realidades\, la mexicana y la argentina\, que permiten observar y examinar a la minería no hegemónica en sus distintos niveles: propietarios y/o empresarios\, minerales producidos y espacios productores. Analizar y poner en diálogo los paralelismos y especificidades del desarrollo minero mexicano y argentino abona al conocimiento\, entendimiento y visibilidad del amplio e importante sector económico y social que operó fuera de los márgenes de la gran minería .
URL:https://ciesas.edu.mx/event/dossier-mineria-marginal/
LOCATION:Auditorio Luis Reyes García\, Juárez 222\, Tlalpan\, Tlalpan\, CDMX\, 14000\, Mexico
CATEGORIES:Seminario
ATTACH;FMTTYPE=image/jpeg:https://ciesas.edu.mx/wp-content/uploads/2024/09/Banner1200_MineriaMarginal-e1726089937466.jpg
ORGANIZER;CN="Seminario Historia de la Miner%C3%ADa en M%C3%A9xico y Regiones Comparadas":MAILTO:seminariohistoriadelamineria@ciesas.edu.mx
END:VEVENT
END:VCALENDAR