BEGIN:VCALENDAR
VERSION:2.0
PRODID:-//CIESAS - ECPv6.15.20//NONSGML v1.0//EN
CALSCALE:GREGORIAN
METHOD:PUBLISH
X-WR-CALNAME:CIESAS
X-ORIGINAL-URL:https://ciesas.edu.mx
X-WR-CALDESC:Eventos para CIESAS
REFRESH-INTERVAL;VALUE=DURATION:PT1H
X-Robots-Tag:noindex
X-PUBLISHED-TTL:PT1H
BEGIN:VTIMEZONE
TZID:America/Mexico_City
BEGIN:STANDARD
TZOFFSETFROM:-0600
TZOFFSETTO:-0600
TZNAME:CST
DTSTART:20230101T000000
END:STANDARD
END:VTIMEZONE
BEGIN:VEVENT
DTSTART;TZID=America/Mexico_City:20241009T170000
DTEND;TZID=America/Mexico_City:20241009T170000
DTSTAMP:20260422T073122
CREATED:20240926T225837Z
LAST-MODIFIED:20240926T225837Z
UID:33356-1728493200-1728493200@ciesas.edu.mx
SUMMARY:Presentación editorial
DESCRIPTION:El Seminario Ecología Política\, Sufrimiento Socioambiental y Acción Política del CIESAS Occidente invita a la presentación del libro: Extractivismo\, contaminación y luchas socioambientales en México\, con la participación de Darcy Tetreault (Difusión. Unidad Académica de Estudios del Desarrollo)\, Carlos Lucio (Difusión. Unidad Académica de Estudios del Desarrollo) y Cindy McCulligh (CIESAS Occidente). \nEl público interesado podrá asistir a las instalaciones del CIESAS Occidente o seguir la transmisión por Facebook Live. 
URL:https://ciesas.edu.mx/event/presentacion-editorial-sepssap/
LOCATION:CIESAS Occidente\, Av. España #1359\, col. Moderna\, Guadalajara\, Jalisco\, 44190\, México
CATEGORIES:Seminario
ATTACH;FMTTYPE=image/png:https://ciesas.edu.mx/wp-content/uploads/2024/09/Banner_PresentacionEditorial_SEPSSAP-e1727391398963.png
ORGANIZER;CN="Seminario Ecolog%C3%ADa pol%C3%ADtica%2C sufrimiento socioambiental y acci%C3%B3n pol%C3%ADtica":MAILTO:sepsaas.20@gmail.com
END:VEVENT
END:VCALENDAR