BEGIN:VCALENDAR
VERSION:2.0
PRODID:-//CIESAS - ECPv6.15.20//NONSGML v1.0//EN
CALSCALE:GREGORIAN
METHOD:PUBLISH
X-ORIGINAL-URL:https://ciesas.edu.mx
X-WR-CALDESC:Eventos para CIESAS
REFRESH-INTERVAL;VALUE=DURATION:PT1H
X-Robots-Tag:noindex
X-PUBLISHED-TTL:PT1H
BEGIN:VTIMEZONE
TZID:America/Mexico_City
BEGIN:STANDARD
TZOFFSETFROM:-0600
TZOFFSETTO:-0600
TZNAME:CST
DTSTART:20230101T000000
END:STANDARD
END:VTIMEZONE
BEGIN:VEVENT
DTSTART;TZID=America/Mexico_City:20241010T110000
DTEND;TZID=America/Mexico_City:20241010T110000
DTSTAMP:20260425T204703
CREATED:20241003T173242Z
LAST-MODIFIED:20241004T203459Z
UID:33400-1728558000-1728558000@ciesas.edu.mx
SUMMARY:Variedades de tamales en la plástica Maya del posclásico
DESCRIPTION:El Seminario Tlatemoani presenta Variedades de tamales en la plástica Maya del posclásico\, ponencia impartida por la Dra. Laura Elena Sotelo (Centro de Estudios Mayas\, UNAM). \n\n\n\nEn esta sesión se dará un acercamiento que busca brindar una visión general de los tamales mayas desde distintas disciplinas como la arqueología\, la antropología\, la lingüística\, la epigrafía\, iconografía\, en el que se incorporan no sólo el análisis de elementos diacrónicos\, sino también bioculturales.  \nLos tamales del área mayas\, aunque son ampliamente consumidos y conocidos más allá de sus fronteras\, y están registrados en diversos recetarios que dan cuenta de la gastronomía regional (Cocina Mexicana\, Cocina Coleta\, Cocina Yucateca\, Cocina de Campeche\, entre otros) en diversas páginas de internet y redes sociales\, aún no están integrados desde una perspectiva histórica y cultural.  \nTransmisión vía Zoom: bit.ly/stloct2024
URL:https://ciesas.edu.mx/event/variedades-de-tamales-en-la-plastica-maya-del-posclasico/
LOCATION:MEXICO CITY
CATEGORIES:Seminario
ATTACH;FMTTYPE=image/jpeg:https://ciesas.edu.mx/wp-content/uploads/2024/10/Banner1200_Tlatemoani_VaiedadesTamales-e1728073920510.jpg
ORGANIZER;CN="Seminario Tlatemoani":MAILTO:quecholli@gmail.com
END:VEVENT
BEGIN:VEVENT
DTSTART;TZID=America/Mexico_City:20241010T120000
DTEND;TZID=America/Mexico_City:20241010T120000
DTSTAMP:20260425T204703
CREATED:20241003T204537Z
LAST-MODIFIED:20241008T175424Z
UID:33396-1728561600-1728561600@ciesas.edu.mx
SUMMARY:Transición energética y demanda de cobre
DESCRIPTION:El Seminario: Los Claroscuros de la Transición Energética en América Latina invita a la sesión Transición energética y demanda de cobre: efectos y desafíos con Mauricio Lorca (Universidad de Atacama) y Araceli Clavijo (CONICET). \nLa sesión podrá seguirse por Facebook Live. \nRegistro: https://bit.ly/TransEnerOct1
URL:https://ciesas.edu.mx/event/transicion-energetica-y-demanda-de-cobre/
LOCATION:MEXICO CITY
CATEGORIES:Seminario
ATTACH;FMTTYPE=image/png:https://ciesas.edu.mx/wp-content/uploads/2024/10/Banner_TransicionEnergeticaDemandaCobre-e1727988303136.png
END:VEVENT
END:VCALENDAR