BEGIN:VCALENDAR
VERSION:2.0
PRODID:-//CIESAS - ECPv6.15.15//NONSGML v1.0//EN
CALSCALE:GREGORIAN
METHOD:PUBLISH
X-WR-CALNAME:CIESAS
X-ORIGINAL-URL:https://ciesas.edu.mx
X-WR-CALDESC:Eventos para CIESAS
REFRESH-INTERVAL;VALUE=DURATION:PT1H
X-Robots-Tag:noindex
X-PUBLISHED-TTL:PT1H
BEGIN:VTIMEZONE
TZID:America/Mexico_City
BEGIN:STANDARD
TZOFFSETFROM:-0600
TZOFFSETTO:-0600
TZNAME:CST
DTSTART:20230101T000000
END:STANDARD
END:VTIMEZONE
BEGIN:VEVENT
DTSTART;TZID=America/Mexico_City:20241024T160000
DTEND;TZID=America/Mexico_City:20241025T120000
DTSTAMP:20260419T150242
CREATED:20241022T000924Z
LAST-MODIFIED:20241022T001046Z
UID:33539-1729785600-1729857600@ciesas.edu.mx
SUMMARY:Análisis de los huracanes Otis y John
DESCRIPTION:El Seminario Permanente de Vulnerabilidad Social a Desastres (SPVSD) del CIESAS invita a las sesiones sobre Análisis del desastre mediado por huracanes Otis (2023) y John (2024)\, que se llevarán a cabo los días 24 y 25 de octubre en la Sala Juárez del CIESAS CDMX. \nCabe mencionar que las sesiones también podrán seguirse por Facebook Live. \nConsulta el programa:
URL:https://ciesas.edu.mx/event/spvsd-20241025/
LOCATION:Sala Juárez del CIESAS\, Juárez 87\, Tlalpan\, Tlalpan\, Ciudad de México\, MEXICO CITY\, 14000\, México
CATEGORIES:Seminario
ATTACH;FMTTYPE=image/jpeg:https://ciesas.edu.mx/wp-content/uploads/2024/10/BannerWeb122x500-copia-e1729555829738.jpg
END:VEVENT
BEGIN:VEVENT
DTSTART;TZID=America/Mexico_City:20241025T100000
DTEND;TZID=America/Mexico_City:20241025T130000
DTSTAMP:20260419T150242
CREATED:20241014T203528Z
LAST-MODIFIED:20241014T203528Z
UID:33490-1729850400-1729861200@ciesas.edu.mx
SUMMARY:Las salinas de Lomas del Real en Altamira
DESCRIPTION:El Seminario Historia de la Minería en México y Regiones Comparadas presenta Las salinas de Lomas del Real en Altamira\, un patrimonio cultural tamaulipeco con tres mil años de antigüedad\, a cargo de Gustavo Alberto Ramírez Castilla. \nLa presentación refiere al proceso tradicional de producción de sal en la Laguna de San Andrés\, congregación de Lomas del Real (Tamaulipas)\, sus problemáticas de conservación y cómo se logró su declaratoria como patrimonio cultural inmaterial. De igual forma\, se tratan los retos a afrontar para el futuro.  \n 
URL:https://ciesas.edu.mx/event/las-salinas-de-lomas-del-real-en-altamira/
LOCATION:Auditorio Luis Reyes García\, Juárez 222\, Tlalpan\, Tlalpan\, CDMX\, 14000\, Mexico
CATEGORIES:Seminario
ATTACH;FMTTYPE=image/jpeg:https://ciesas.edu.mx/wp-content/uploads/2024/10/Banner1200_SalinasDeLomasRealAltamira-e1728938089915.jpg
ORGANIZER;CN="Seminario Historia de la Miner%C3%ADa en M%C3%A9xico y Regiones Comparadas":MAILTO:seminariohistoriadelamineria@ciesas.edu.mx
END:VEVENT
END:VCALENDAR