BEGIN:VCALENDAR
VERSION:2.0
PRODID:-//CIESAS - ECPv6.15.15//NONSGML v1.0//EN
CALSCALE:GREGORIAN
METHOD:PUBLISH
X-ORIGINAL-URL:https://ciesas.edu.mx
X-WR-CALDESC:Eventos para CIESAS
REFRESH-INTERVAL;VALUE=DURATION:PT1H
X-Robots-Tag:noindex
X-PUBLISHED-TTL:PT1H
BEGIN:VTIMEZONE
TZID:America/Mexico_City
BEGIN:STANDARD
TZOFFSETFROM:-0600
TZOFFSETTO:-0600
TZNAME:CST
DTSTART:20240101T000000
END:STANDARD
END:VTIMEZONE
BEGIN:VEVENT
DTSTART;TZID=America/Mexico_City:20250827T083000
DTEND;TZID=America/Mexico_City:20250828T180000
DTSTAMP:20260419T195844
CREATED:20250826T192702Z
LAST-MODIFIED:20250826T192702Z
UID:35294-1756283400-1756404000@ciesas.edu.mx
SUMMARY:Conmemoración 35 aniversario Posgrado en Lingüística
DESCRIPTION:El Posgrado en Lingüística Indoamericana del CIESAS invita a las actividades conmemorativas por su 35 aniversario que se llevarán a cabo los días 27 y 28 de agosto en las instalaciones de la Casa Chata.  \nLas actividades incluyen  conferencias\, entrega de reconocimientos\, presentaciones editoriales y un Coloquio de egresados\, este último tendrá transmisión en vivo vía Facebook. \nConsulta el Programa completo
URL:https://ciesas.edu.mx/event/conmemoracion-35-aniversario-pli/
LOCATION:Casa Chata\, Miguel Hidalgo s/n\, Tlalpan Centro\, Tlalpan\, Ciudad de México\, 14000\, México
CATEGORIES:Coloquio
ATTACH;FMTTYPE=image/jpeg:https://ciesas.edu.mx/wp-content/uploads/2025/08/Banner1200_AniversarioPLI-CIESAS2025-e1756236034235.jpg
ORGANIZER;CN="Posgrado en Ling%C3%BCistica Indoamericana":MAILTO:pli@ciesas.edu.mx
END:VEVENT
BEGIN:VEVENT
DTSTART;TZID=America/Mexico_City:20250828T110000
DTEND;TZID=America/Mexico_City:20250828T110000
DTSTAMP:20260419T195844
CREATED:20250815T222949Z
LAST-MODIFIED:20250815T222949Z
UID:35236-1756378800-1756378800@ciesas.edu.mx
SUMMARY:El refugio en México: historia y evoluciones recientes
DESCRIPTION:El Seminario Permanente Interinstitucional Movilidades en Contextos Migratorios invita a su sesión titulada Conversatorio sobre el refugio en México: historia y evoluciones recientes. \nLa sesión se llevará a cabo en la Sala Juárez del CIESAS CDMX\, asimismo se podrá seguir su transmisión en vivo a través de Facebook Live. \n\n\n\n\n\nEl seminario es un espacio permanente y colaborativo organizado por CIESAS Ciudad de México y el Instituto de Investigaciones Antropológicas de la UNAM. Su propósito es generar diálogo interdisciplinario alrededor de las dinámicas\, experiencias y representaciones de la movilidad humana en distintos contextos migratorios\, tanto nacionales como transnacionales.\n \nTemáticas abordadas\n\n\nNuevos escenarios de migración (por ejemplo\, población africana y centroamericana en México)\n\n\nRedes transnacionales y diásporas\n\n\nProcesos de tránsito y retorno\n\n\nPolíticas y regímenes fronterizos\n\n\nRepresentaciones culturales de la migración\n\n\nMetodologías innovadoras para el estudio de movilidades
URL:https://ciesas.edu.mx/event/el-refugio-en-mexico-historia-y-evoluciones-recientes/
LOCATION:Sala Juárez del CIESAS\, Juárez 87\, Tlalpan\, Tlalpan\, Ciudad de México\, MEXICO CITY\, 14000\, México
CATEGORIES:Seminario
END:VEVENT
BEGIN:VEVENT
DTSTART;TZID=America/Mexico_City:20250828T130000
DTEND;TZID=America/Mexico_City:20250828T150000
DTSTAMP:20260419T195844
CREATED:20250814T150002Z
LAST-MODIFIED:20250813T213519Z
UID:35221-1756386000-1756393200@ciesas.edu.mx
SUMMARY:La capilla musical novohispana
DESCRIPTION:El Seminario de Historia Económica del Sureste presenta La capilla musical novohispana: una unidad de trabajo musical corporativo\, a cargo del Mtro. Érik Alejandro Pérez Rodríguez (CIESAS Peninsular). \nLa ponencia tine como objetivo analizar la estructura jerárquica y funcionamiento de la capilla musical catedralicia novohispana\, así como la organización y distribución del trabajo al interior de esta unidad de trabajo corporativo para comprender su importancia como generador del ritual sonoro\, así como parte fundamental del poder simbólico emanado desde el recinto catedralicio. \nEste estudio tomo como caso la organismo\,e la Catedral de Puebla entre 1606 y 1678 y se elaboró a partir del análisis de actas capitulares donde las autoridades eclesiásticas dejaron testimonio\, por una parte\, del cuidado e importancia que se dio a la capilla musical para la conservación de las tradiciones del ritual sonoro\, la necesidad de generar nuevos bienes y servicios musicales que demostraran la importancia del organismo musical en la solemnidad del ritual divino y las fiestas paralitúrgicas\, el reclutamiento constante de infantes\, músicos y cantores para mantener el funcionamiento del organismo así como los movimientos económicos generados a partir del trabajo de la capilla musical. \nEl publico interesado podrá asistir a las instalaciones del CIESAS Peninsular\, o bien\, seguir la transmisión por Zoom.  \nID de reunión: 922 2588 0636Código de acceso: 525786 \n \n 
URL:https://ciesas.edu.mx/event/la-capilla-musical-novohispana/
LOCATION:CIESAS Peninsular\, Km 5.5 Carretera Sierra Papacal – Chuburná\, Merida\, Yucatán\, 97302\, México
CATEGORIES:Seminario
ATTACH;FMTTYPE=image/jpeg:https://ciesas.edu.mx/wp-content/uploads/2025/08/Banner1200_CapillaMusicalNovohispana-e1755120582489.jpg
ORGANIZER;CN="Seminario Historia de la Miner%C3%ADa en M%C3%A9xico y Regiones Comparadas":MAILTO:seminariohistoriadelamineria@ciesas.edu.mx
END:VEVENT
END:VCALENDAR