BEGIN:VCALENDAR
VERSION:2.0
PRODID:-//CIESAS - ECPv6.15.15//NONSGML v1.0//EN
CALSCALE:GREGORIAN
METHOD:PUBLISH
X-WR-CALNAME:CIESAS
X-ORIGINAL-URL:https://ciesas.edu.mx
X-WR-CALDESC:Eventos para CIESAS
REFRESH-INTERVAL;VALUE=DURATION:PT1H
X-Robots-Tag:noindex
X-PUBLISHED-TTL:PT1H
BEGIN:VTIMEZONE
TZID:America/Mexico_City
BEGIN:STANDARD
TZOFFSETFROM:-0600
TZOFFSETTO:-0600
TZNAME:CST
DTSTART:20240101T000000
END:STANDARD
END:VTIMEZONE
BEGIN:VEVENT
DTSTART;TZID=America/Mexico_City:20250902T100000
DTEND;TZID=America/Mexico_City:20250904T183000
DTSTAMP:20260419T150623
CREATED:20250819T190139Z
LAST-MODIFIED:20250819T190555Z
UID:35253-1756807200-1757010600@ciesas.edu.mx
SUMMARY:Nuevas miradas al siglo XIX mexicano
DESCRIPTION:El CIESAS\, el Instituto Mora y el  INEHRM  invitan al Coloquio Nuevas miradas al siglo XIX mexicano: balances y experiencias recientes de investigación\, cuyas ponencias se llevaran a cabo en las tres instituciones y podrán seguirse en por YouTube.\n\n\nDescargar programa
URL:https://ciesas.edu.mx/event/nuevas-miradas-al-siglo-xix-mexicano/
LOCATION:Ciudad de México
CATEGORIES:Coloquio
ATTACH;FMTTYPE=image/jpeg:https://ciesas.edu.mx/wp-content/uploads/2025/08/BannerColoquiXIX-e1755630046766.jpeg
END:VEVENT
BEGIN:VEVENT
DTSTART;TZID=America/Mexico_City:20250903T100000
DTEND;TZID=America/Mexico_City:20250903T130000
DTSTAMP:20260419T150623
CREATED:20250827T204140Z
LAST-MODIFIED:20250827T204208Z
UID:35303-1756893600-1756904400@ciesas.edu.mx
SUMMARY:Vivir la vejez en la Ciudad de México
DESCRIPTION:El Seminario Permanente: Subjetividad\, Cuerpos y Lenguajes presenta Vivir la vejez con un padecimiento crónico en la Ciudad de México\, ponencia a cargo de la Dra. Elia Nora Arganis Juárez. \nArganis Juárez es Doctora en Antropología Social\, egresada de la línea de investigación de Antropología Médica de la Escuela Nacional de Antropología e Historia. Sus líneas de investigación abarcan: padecimientos crónicos\, su atención y cuidado; envejecimiento y salud; grupos de ayuda mutua de enfermedades crónicas; así como redes sociales de apoyo. \nEl público interesado podrá asistir a las instalaciones del CIESAS CDMX \, o bien seguir la transmisión en vivo por Facebook Live. \nEl Seminario busca profundizar en la relación entre subjetividad\, cuerpos y lenguajes\, así como su aplicación heurística en diversos campos convergentes: psicoanálisis\, antropología\, sociología y ciencias médicas. \n \n  \n 
URL:https://ciesas.edu.mx/event/vivir-la-vejez-en-la-ciudad-de-mexico/
LOCATION:Sala Juárez del CIESAS\, Juárez 87\, Tlalpan\, Tlalpan\, Ciudad de México\, MEXICO CITY\, 14000\, México
CATEGORIES:Seminario
ATTACH;FMTTYPE=image/jpeg:https://ciesas.edu.mx/wp-content/uploads/2025/08/Banner1200_Vivir-la-vejez_SeminariosCIESAS-e1756327277964.jpg
END:VEVENT
BEGIN:VEVENT
DTSTART;TZID=America/Mexico_City:20250903T170000
DTEND;TZID=America/Mexico_City:20250903T190000
DTSTAMP:20260419T150623
CREATED:20250821T153258Z
LAST-MODIFIED:20250820T213409Z
UID:35265-1756918800-1756926000@ciesas.edu.mx
SUMMARY:Feminismos\, justicias y derechos frente al neoliberalismo
DESCRIPTION:El Seminario itinerante: Diálogos itinerantes sobre Justicia\, Memoria y Género\, en colaboración con el Laboratorio de Antropología de las Justicias y las Violencias\, invita a la ponencia dedicada al libro Feminismos\, justicias y derechos frente al neoliberalismo. \nLa sesión será presidida por Lucía Nuñez Rebolledo (CEIICH-UNAM)\, coordinadora de la publicación que surgió de la urgencia por responder múltiples interrogantes en torno a los feminismos y su relación con las justicias\, el poder estatal\, los aparatos carcelarios y el derecho en el contexto del neoliberalismo latinoamericano. Además\, pone en duda aquello que buena parte del movimiento feminista ha construido e impulsado durante los últimos años\, y se hace la inquietante pregunta de si aquello que durante tanto tiempo fue una victoria\, hoy puede significar la reproducción de las jerarquías de género\, clase\, raza\, etnia y sexualidad. \nLa ponencia se llevará a cabo en el Auditorio Arturo Warman de la Casa Chata del CIESAS CDMX.
URL:https://ciesas.edu.mx/event/feminismos-justicias-y-derechos-frente-al-neoliberalismo/
LOCATION:Casa Chata\, Miguel Hidalgo s/n\, Tlalpan Centro\, Tlalpan\, Ciudad de México\, 14000\, México
CATEGORIES:Conferencia
ATTACH;FMTTYPE=image/jpeg:https://ciesas.edu.mx/wp-content/uploads/2025/08/FacebookFeminismosFrenteAlNeoliberalismo-CIESAS_2025-e1755725567414.jpg
END:VEVENT
END:VCALENDAR