BEGIN:VCALENDAR
VERSION:2.0
PRODID:-//CIESAS - ECPv6.15.15//NONSGML v1.0//EN
CALSCALE:GREGORIAN
METHOD:PUBLISH
X-WR-CALNAME:CIESAS
X-ORIGINAL-URL:https://ciesas.edu.mx
X-WR-CALDESC:Eventos para CIESAS
REFRESH-INTERVAL;VALUE=DURATION:PT1H
X-Robots-Tag:noindex
X-PUBLISHED-TTL:PT1H
BEGIN:VTIMEZONE
TZID:America/Mexico_City
BEGIN:STANDARD
TZOFFSETFROM:-0600
TZOFFSETTO:-0600
TZNAME:CST
DTSTART:20240101T000000
END:STANDARD
END:VTIMEZONE
BEGIN:VEVENT
DTSTART;TZID=America/Mexico_City:20250905T100000
DTEND;TZID=America/Mexico_City:20250905T120000
DTSTAMP:20260419T150554
CREATED:20250901T194217Z
LAST-MODIFIED:20250901T194612Z
UID:35319-1757066400-1757073600@ciesas.edu.mx
SUMMARY:Presentación editorial "Matehuala. Poblamiento e incorporación de una frontera"
DESCRIPTION:En el marco del Seminario Sociedad Indiana\, la Subdirección de Publicaciones del CIESAS invita a la presentación editorial de Matehuala. Poblamiento e incorporación de una frontera de la América septentrional a la Monarquía Hispánica\, 1600-1750\, a cargo su autor el Dr. David Ricardo Martínez Romero. \nEl libro es fruto de un estudio rico en fuentes y reflexiones\, que reconstruyen una historia plural en la que todas sus voces y todos sus puntos de vista\, personales e institucionales\, compitieron por definir qué y cómo se debía entender la tierra y la jurisdicción. Este volumen ilumina la historia del poblado de  Matehuala\, para comprender sus tiempos y sus espacios\, construye un modelo de historia sobre cómo estudiar las fronteras y su gente\, un análisis que permite pensarlas mejor en América\, Europa y África. \nEl evento se llevará a cabo en el Salón Académico del Instituto de Investigaciones Históricas (IIH) de la UNAM y podrá seguirse su transmisión vía Zoom con registro previo en https://shorturl.at/H53tZ. El libro se puede descargar de manera gratuita en la Librería Virtual del CIESAS. \n \n 
URL:https://ciesas.edu.mx/event/presentacion-editorial-matehuala/
LOCATION:Instituto de Investigaciones Históricas (IIH)\, Circuito Mario de la Cueva s/n\, Ciudad Universitaria\, Coyoacán\, CDMX\, 04510\, Mexico
CATEGORIES:Presentación editorial
ATTACH;FMTTYPE=image/jpeg:https://ciesas.edu.mx/wp-content/uploads/2025/09/Banner1200_IIH-CIESAS-2025Matehuala-e1756755800429.jpg
END:VEVENT
END:VCALENDAR