BEGIN:VCALENDAR
VERSION:2.0
PRODID:-//CIESAS - ECPv6.15.20//NONSGML v1.0//EN
CALSCALE:GREGORIAN
METHOD:PUBLISH
X-WR-CALNAME:CIESAS
X-ORIGINAL-URL:https://ciesas.edu.mx
X-WR-CALDESC:Eventos para CIESAS
REFRESH-INTERVAL;VALUE=DURATION:PT1H
X-Robots-Tag:noindex
X-PUBLISHED-TTL:PT1H
BEGIN:VTIMEZONE
TZID:America/Mexico_City
BEGIN:STANDARD
TZOFFSETFROM:-0600
TZOFFSETTO:-0600
TZNAME:CST
DTSTART:20240101T000000
END:STANDARD
END:VTIMEZONE
BEGIN:VEVENT
DTSTART;TZID=America/Mexico_City:20250911T110000
DTEND;TZID=America/Mexico_City:20250911T130000
DTSTAMP:20260422T073233
CREATED:20250910T192007Z
LAST-MODIFIED:20250910T192007Z
UID:35408-1757588400-1757595600@ciesas.edu.mx
SUMMARY:Migración y precariedad laboral en la Central de Abasto
DESCRIPTION:La Dirección Regional del CIESAS CDMX y el Ciclo de presentaciones Investigación y cafecito invita a Migración y precariedad laboral de los trabajadores de la carga en la Central de Abasto de la Ciudad de México. \nEl objetivo es presentar a la comunidad académica del CIESAS el proyecto de investigación que desarrolla actualmente la Dra. Julieta Sierra Jiménez\, quién se incorporó a la planta de profesores e investigadores de la Unidad Ciudad de México en abril del año en curso. \nLa presentación se llevará a cabo en el CIESAS CDMX\, y también podrá seguirse por el Facebook del CIESAS. \n\n\n\n\n\nEl Ciclo de presentaciones Investigación y cafecito es organizado por la dirección regional del CIESAS CDMX\, el cual busca conocer las investigaciones de los nuevos Investigadores y los avances de aquellos que llevan poco tiempo en la Unidad Ciudad de México. \n \n 
URL:https://ciesas.edu.mx/event/migracion-y-precariedad-laboral-en-la-central-de-abasto/
LOCATION:Sala Juárez del CIESAS\, Juárez 87\, Tlalpan\, Tlalpan\, Ciudad de México\, MEXICO CITY\, 14000\, México
CATEGORIES:Ciclo,Homenaje
ATTACH;FMTTYPE=image/jpeg:https://ciesas.edu.mx/wp-content/uploads/2025/09/Banner1200x500CafecitoSeptiembreMigracion-e1757531979301.jpg
END:VEVENT
BEGIN:VEVENT
DTSTART;TZID=America/Mexico_City:20250911T170000
DTEND;TZID=America/Mexico_City:20250911T170000
DTSTAMP:20260422T073233
CREATED:20250903T150812Z
LAST-MODIFIED:20250828T201942Z
UID:35307-1757610000-1757610000@ciesas.edu.mx
SUMMARY:Presentación editorial de Resistir en la sombra de la pandemia
DESCRIPTION:La Subdirección de Publicaciones del CIESAS invita a la presentación de Resistir en la sombra de la pandemia: las violencias de género en México en el contexto del COVID-19\, libro que reúne la participación de diversas investigadoras de todo el país que laboran en instituciones de educación superior y se especializan en el estudio de la violencia de género.  \nLa obra fue coordinada por las investigadoras del CIESAS\, doctora Natalia De Marinis y doctora Aída Hernández\, y cuenta con la colaboración de la doctora Laura Edith Saavedra Hernández\, catedrática del Posgrado en Derecho de la UASLP». \n¿De qué trata? \nEste libro documenta cómo la pandemia agravó las violencias de género en México\, especialmente contra mujeres y defensoras de derechos humanos. Reúne investigaciones de especialistas de todo el país y se basa en informes de organismos como Naciones Unidas\, Amnistía Internacional y EQUIS Justicia para las Mujeres. \nEl evento se llevará a cabo en Auditorio de Juárez 87\, donde se podrá adquirir la publicación con un 40% de descuento. \n \n 
URL:https://ciesas.edu.mx/event/presentacion-editorial-20250811/
LOCATION:Sala Juárez del CIESAS\, Juárez 87\, Tlalpan\, Tlalpan\, Ciudad de México\, MEXICO CITY\, 14000\, México
CATEGORIES:Presentación editorial
ATTACH;FMTTYPE=image/jpeg:https://ciesas.edu.mx/wp-content/uploads/2025/08/Banner1200_ResistirEnLaSombraDeLaPandemia-Juarez87-e1756411657958.jpg
END:VEVENT
END:VCALENDAR