BEGIN:VCALENDAR
VERSION:2.0
PRODID:-//CIESAS - ECPv6.15.15//NONSGML v1.0//EN
CALSCALE:GREGORIAN
METHOD:PUBLISH
X-ORIGINAL-URL:https://ciesas.edu.mx
X-WR-CALDESC:Eventos para CIESAS
REFRESH-INTERVAL;VALUE=DURATION:PT1H
X-Robots-Tag:noindex
X-PUBLISHED-TTL:PT1H
BEGIN:VTIMEZONE
TZID:America/Mexico_City
BEGIN:STANDARD
TZOFFSETFROM:-0600
TZOFFSETTO:-0600
TZNAME:CST
DTSTART:20240101T000000
END:STANDARD
END:VTIMEZONE
BEGIN:VEVENT
DTSTART;TZID=America/Mexico_City:20250923T093000
DTEND;TZID=America/Mexico_City:20250924T130000
DTSTAMP:20260420T102400
CREATED:20250918T221823Z
LAST-MODIFIED:20250918T221823Z
UID:35463-1758619800-1758718800@ciesas.edu.mx
SUMMARY:III Coloquio Historia
DESCRIPTION:El CIESAS Peninsular invita al Tercer Coloquio Doctorado en Historia 2022-2026 que se llevará a cabo los días 23 y 24 de septiembre a través de Zoom\, en donde los alumnos del posgrado expondrán sus trabajos de investigación.     \n \nDescargar programa
URL:https://ciesas.edu.mx/event/iii-coloquio-historia/
LOCATION:Ciudad de México
CATEGORIES:Coloquio
ATTACH;FMTTYPE=image/png:https://ciesas.edu.mx/wp-content/uploads/2025/09/Banner1200_ColoquioPeninsular.png
END:VEVENT
BEGIN:VEVENT
DTSTART;TZID=America/Mexico_City:20250924T100000
DTEND;TZID=America/Mexico_City:20250924T100000
DTSTAMP:20260420T102400
CREATED:20250819T161715Z
LAST-MODIFIED:20250819T161715Z
UID:35242-1758708000-1758708000@ciesas.edu.mx
SUMMARY:Impactos psicosociales del Caso Ayotzinapa
DESCRIPTION:La Dirección Regional del CIESAS CDMX invita a la comunidad académica a Reflexiones sobre el informe Yo sólo quería que amaneciera. Impactos psicosociales del Caso Ayotzinapa\, octava sesión del Seminario Antropología Activista y Co-producción de conocimientos. \n\n\n\n\n\nEl seminario en esta primera etapa tendrá como propósito principal crear un espacio de diálogo de saberes entre la academia activista y los colectivos de búsqueda\, en torno a la co-producción de conocimiento. Se invitará lxs participantes a reflexionar en torno a los aportes que la investigación antropológica\, y en un sentido más amplio\, la investigación social puede hacer a sus luchas. Se priorizará la presentación de libro\, documentales u otro tipo de textos que hayan sido producto de este tipo de colaboración. En una primera etapa el seminario se centrará en las alianzas con colectivos de búsqueda en México y en una segunda etapa en experiencias de Argentina\, Colombia\, España y México. \nLa conferencia  podrá seguirse por el Facebook del CIESAS CDMX. \n\n\n\n\n\n \n 
URL:https://ciesas.edu.mx/event/impactos-psicosociales-del-caso-ayotzinapa/
LOCATION:Sala Juárez del CIESAS\, Juárez 87\, Tlalpan\, Tlalpan\, Ciudad de México\, MEXICO CITY\, 14000\, México
CATEGORIES:Seminario
ATTACH;FMTTYPE=image/jpeg:https://ciesas.edu.mx/wp-content/uploads/2025/08/Banner1200SeminarioInvestigacionActivistaAgostoCIESAS-e1755620194961.jpg
END:VEVENT
BEGIN:VEVENT
DTSTART;TZID=America/Mexico_City:20250924T100000
DTEND;TZID=America/Mexico_City:20250924T130000
DTSTAMP:20260420T102400
CREATED:20250919T210155Z
LAST-MODIFIED:20250919T210155Z
UID:35485-1758708000-1758718800@ciesas.edu.mx
SUMMARY:Padecer esclerosis: Narrativas inconclusas sobre el cuerpo
DESCRIPTION:El Seminario Permanente: Subjetividad\, Cuerpos y Lenguajes presenta Padecer esclerosis: Narrativas inconclusas sobre el cuerpo\, a cargo del Dr. Alfredo Paulo Maya de la UNAM. \nEl objetivo de la ponencia es profundizar en la relación entre subjetividad\, cuerpos y lenguajes\, así como su aplicación heurística en diversos campos convergentes: psicoanálisis\, antropología\, sociología y ciencias médicas. \nPaulo Maya es antropólogo social centrado en la aplicación de la antropología para la resolución de problemas de salud en contextos de diversidad cultural. Su trabajo responde a las necesidades en los procesos de salud-enfermedad-atención-desatención desde una perspectiva sociocultural perfilada hacia el humanismo. \nEl público interesado podrá asistir a las instalaciones del CIESAS CDMX \, o bien seguir la transmisión en vivo por Zoom\, para solicitar la liga es necesario solicitarla a jsanchez@ciesas.edu.mx. \nEl Seminario busca profundizar en la relación entre subjetividad\, cuerpos y lenguajes\, así como su aplicación heurística en diversos campos convergentes: psicoanálisis\, antropología\, sociología y ciencias médicas. \n \n  \n 
URL:https://ciesas.edu.mx/event/padecer-esclerosis-narrativas-inconclusas-sobre-el-cuerpo/
LOCATION:Sala Juárez del CIESAS\, Juárez 87\, Tlalpan\, Tlalpan\, Ciudad de México\, MEXICO CITY\, 14000\, México
CATEGORIES:Seminario
ATTACH;FMTTYPE=image/jpeg:https://ciesas.edu.mx/wp-content/uploads/2025/09/Banner1200WebSeminarioSubjetividadCuerposLenguajesSeptiembre2025CIESAS-e1758315633548.jpg
END:VEVENT
END:VCALENDAR