BEGIN:VCALENDAR
VERSION:2.0
PRODID:-//CIESAS - ECPv6.15.15//NONSGML v1.0//EN
CALSCALE:GREGORIAN
METHOD:PUBLISH
X-WR-CALNAME:CIESAS
X-ORIGINAL-URL:https://ciesas.edu.mx
X-WR-CALDESC:Eventos para CIESAS
REFRESH-INTERVAL;VALUE=DURATION:PT1H
X-Robots-Tag:noindex
X-PUBLISHED-TTL:PT1H
BEGIN:VTIMEZONE
TZID:America/Mexico_City
BEGIN:STANDARD
TZOFFSETFROM:-0600
TZOFFSETTO:-0600
TZNAME:CST
DTSTART:20240101T000000
END:STANDARD
END:VTIMEZONE
BEGIN:VEVENT
DTSTART;TZID=America/Mexico_City:20250925T110000
DTEND;TZID=America/Mexico_City:20250925T110000
DTSTAMP:20260419T150641
CREATED:20250829T221710Z
LAST-MODIFIED:20250829T221710Z
UID:35314-1758798000-1758798000@ciesas.edu.mx
SUMMARY:Reflexiones sobre política y cultura desde la frontera
DESCRIPTION:El Seminario Binacional Diversidad sin Violencia recibirá a la Dra. Areli Veloz (Instituto de Investigaciones Culturales-Museo\, UABC)\, quien presentará la conferencia magistral: La nueva derecha y la batalla cultural en Baja California: reflexiones sobre política y cultura desde la frontera. \nDurante la sesión\, se analizará el avance de las “nuevas” derechas y sus programas anti-derechos desde una mirada fronteriza\, crítica y situada. ¿Cómo se articulan los discursos anti-derechos en contextos fronterizos? ¿Qué estrategias de resistencia emergen desde los feminismos y los derechos humanos?\nEl público interesado podrá seguir la transmisión a través del Facebook de la Unidad CIESAS CDMX. \n \nEste Seminario sobre género\, violencia\, migraciones y afectividades continúa su labor crítica y transformadora desde las humanidades y ciencias sociales. En ocasión\, abrimos espacio a debates urgentes sobre feminicidios\, sexualidades contemporáneas\, desastres y resistencias en la frontera. \n\n 
URL:https://ciesas.edu.mx/event/reflexiones-sobre-politica-y-cultura-desde-la-frontera/
LOCATION:Ciudad de México
CATEGORIES:Seminario
ATTACH;FMTTYPE=image/jpeg:https://ciesas.edu.mx/wp-content/uploads/2025/08/Banner1200_SeminarioDiversidadsinViolencia-e1756505823432.jpg
END:VEVENT
BEGIN:VEVENT
DTSTART;TZID=America/Mexico_City:20250925T110000
DTEND;TZID=America/Mexico_City:20250925T110000
DTSTAMP:20260419T150641
CREATED:20250912T153449Z
LAST-MODIFIED:20250912T153723Z
UID:35422-1758798000-1758798000@ciesas.edu.mx
SUMMARY:Los Tarascos y sus fuentes etnohistóricas
DESCRIPTION:El Seminario Interinstitucional: Ritualidad\, Imagen y Etnografía del Mundo Indígena invita a Los Tarascos y sus fuentes etnohistóricas. Síntesis de investigaciones en curso\, a cargo de Dr. Carlos Paredes\, quien ha estudiado con detalle a los tarascos —también conocidos como purépechas— y su papel en los procesos migratorios impulsados por la Corona española. \nLo interesante es que\, lejos de ser simples víctimas del colonialismo\, los tarascos participaron activamente en la expansión hacia el norte del país\, colaborando en campañas como la conquista de la Gran Chichimeca. Paredes destaca cómo la nobleza indígena fue clave en este proceso\, actuando como mediadora entre los intereses españoles y las comunidades locales. \nSu investigación se basa en fuentes etnohistóricas como códices\, registros coloniales y toponimia indígena\, que permiten reconstruir cómo los tarascos conservaron sus tradiciones\, su organización política y sus prácticas agrícolas\, incluso en nuevos territorios.Este trabajo nos invita a repensar la historia indígena desde una perspectiva más compleja\, reconociendo a los pueblos originarios como actores estratégicos en la formación del México virreinal. \nEl Seminario espacio de diálogo y discusión académica organizado por el CIESAS y otras instituciones de investigación. Se enfoca en el estudio de la ritualidad\, la imagen y la etnografía dentro de los contextos indígenas\, ofreciendo ponencias y debates sobre diversos temas relacionados con la cultura y la sociedad.  \nLa sesión podrá seguirse en vivo por YouTube. \n \n  \n 
URL:https://ciesas.edu.mx/event/los-tarascos-y-sus-fuentes-etnohistoricas/
LOCATION:Ciudad de México
CATEGORIES:Seminario
ATTACH;FMTTYPE=image/jpeg:https://ciesas.edu.mx/wp-content/uploads/2025/09/Banner1200-CartelRitualidadImagenEtnografia-LosTarascos-e1757691280177.jpg
ORGANIZER;CN="SIAEE":MAILTO:semi.antropologiadelaeducacion@gmail.com
END:VEVENT
BEGIN:VEVENT
DTSTART;TZID=America/Mexico_City:20250925T130000
DTEND;TZID=America/Mexico_City:20250925T150000
DTSTAMP:20260419T150641
CREATED:20250912T152137Z
LAST-MODIFIED:20250912T152212Z
UID:35416-1758805200-1758812400@ciesas.edu.mx
SUMMARY:Los ahorros del imperio español
DESCRIPTION:El Seminario de Historia Económica del Sureste invita al conversatorio con el Dr. Sajid Herrera Mena sobre su libro Los ahorros del imperio. Los fondos de comunidad de los pueblos de indios: El Salvador\, 1776-1808. \nEsta charla busca mostrar una de las formas en las que se han llevado a cabo y ejercido las relaciones entre los imperios y sus colonias. A partir de un caso de la Audiencia de Guatemala\, en concreto de las provincias de San Salvador y Sonsonate (actual República de El Salvador)\, se muestra cómo\, entre 1776 y 1808\, la Corona española dispuso de normativas y de mecanismos para controlar y administrar los fondos de comunidad de los pueblos de indios. \nDe acuerdo con su discurso ilustrado\, La Corona pretendía evitar el despilfarro que los cabildos y sus pueblos hacían con dichos fondos para destinarlos a la castellanización de los indios\, en el marco de su proyecto imperial de una sociedad comercial. Sin embargo\, las prioridades de la Corona se impusieron y se focalizaron en la guerra y el crédito\, por lo que los fondos de comunidad terminaron convirtiéndose en su caja chica de ahorros. \nEl público interesado podrá asistir a las instalaciones del CIESAS Peninsular\, o bien\, seguir la transmisión por Zoom.  \nID de reunión: 922 2588 0636Código de acceso: 525786 \n \n 
URL:https://ciesas.edu.mx/event/los-ahorros-del-imperio-espanol/
LOCATION:CIESAS Peninsular\, Km 5.5 Carretera Sierra Papacal – Chuburná\, Merida\, Yucatán\, 97302\, México
CATEGORIES:Seminario
ATTACH;FMTTYPE=image/jpeg:https://ciesas.edu.mx/wp-content/uploads/2025/09/BannerWeb1200x500SHES_LosAhorrosDelImperio-CIESAS-e1757690489994.jpg
ORGANIZER;CN="Seminario Historia de la Miner%C3%ADa en M%C3%A9xico y Regiones Comparadas":MAILTO:seminariohistoriadelamineria@ciesas.edu.mx
END:VEVENT
END:VCALENDAR