BEGIN:VCALENDAR
VERSION:2.0
PRODID:-//CIESAS - ECPv6.15.20//NONSGML v1.0//EN
CALSCALE:GREGORIAN
METHOD:PUBLISH
X-WR-CALNAME:CIESAS
X-ORIGINAL-URL:https://ciesas.edu.mx
X-WR-CALDESC:Eventos para CIESAS
REFRESH-INTERVAL;VALUE=DURATION:PT1H
X-Robots-Tag:noindex
X-PUBLISHED-TTL:PT1H
BEGIN:VTIMEZONE
TZID:America/Mexico_City
BEGIN:STANDARD
TZOFFSETFROM:-0600
TZOFFSETTO:-0600
TZNAME:CST
DTSTART:20240101T000000
END:STANDARD
END:VTIMEZONE
BEGIN:VEVENT
DTSTART;TZID=America/Mexico_City:20250927T110000
DTEND;TZID=America/Mexico_City:20250927T110000
DTSTAMP:20260425T050530
CREATED:20251125T161132Z
LAST-MODIFIED:20251125T161227Z
UID:35866-1758970800-1758970800@ciesas.edu.mx
SUMMARY:Los tarascos y sus asentamientos fuera de Michoacán
DESCRIPTION:El Seminario Interinstitucional: Ritualidad\, Imagen y Etnografía del Mundo Indígena invita a Los tarascos y sus asentamientos fuera de Michoacán\, sesión que es la segunda parte de Los Tarascos y sus fuentes etnohistóricas. Síntesis de investigaciones en curso\, a cargo de Dr. Carlos Paredes\, quien ha estudiado con detalle a los tarascos —también conocidos como purépechas— y su papel en los procesos migratorios impulsados por la Corona española. \nEl ponente dará continuación a su investigación\, basada en fuentes etnohistóricas como códices\, registros coloniales y toponimia indígena\, que permiten reconstruir cómo los tarascos conservaron sus tradiciones\, su organización política y sus prácticas agrícolas\, incluso en nuevos territorios. Igualmente\, se repensará la historia indígena desde una perspectiva más compleja\, reconociendo a los pueblos originarios como actores estratégicos en la formación del México virreinal. \nEl Seminario espacio de diálogo y discusión académica organizado por el CIESAS y otras instituciones de investigación. Se enfoca en el estudio de la ritualidad\, la imagen y la etnografía dentro de los contextos indígenas\, ofreciendo ponencias y debates sobre diversos temas relacionados con la cultura y la sociedad.  \nLa sesión podrá seguirse en vivo por YouTube. \n \n  \n 
URL:https://ciesas.edu.mx/event/los-tarascos-y-sus-asentamientos-fuera-de-michoacan/
LOCATION:MEXICO CITY
CATEGORIES:Seminario
ATTACH;FMTTYPE=image/jpeg:https://ciesas.edu.mx/wp-content/uploads/2025/11/Banner1200_RitualidadImagenEtnografia-CIESAS-LosTarascos-e1764087137134.jpg
ORGANIZER;CN="SIAEE":MAILTO:semi.antropologiadelaeducacion@gmail.com
END:VEVENT
END:VCALENDAR