BEGIN:VCALENDAR
VERSION:2.0
PRODID:-//CIESAS - ECPv6.15.15//NONSGML v1.0//EN
CALSCALE:GREGORIAN
METHOD:PUBLISH
X-ORIGINAL-URL:https://ciesas.edu.mx
X-WR-CALDESC:Eventos para CIESAS
REFRESH-INTERVAL;VALUE=DURATION:PT1H
X-Robots-Tag:noindex
X-PUBLISHED-TTL:PT1H
BEGIN:VTIMEZONE
TZID:America/Mexico_City
BEGIN:STANDARD
TZOFFSETFROM:-0600
TZOFFSETTO:-0600
TZNAME:CST
DTSTART:20240101T000000
END:STANDARD
END:VTIMEZONE
BEGIN:VEVENT
DTSTART;TZID=America/Mexico_City:20251020T040000
DTEND;TZID=America/Mexico_City:20251020T180000
DTSTAMP:20260420T103244
CREATED:20251016T172759Z
LAST-MODIFIED:20251016T215911Z
UID:35605-1760932800-1760983200@ciesas.edu.mx
SUMMARY:Inteligencia Artificial y Derechos Humanos
DESCRIPTION:El CIESAS CDMX invita a la mesa redonda Inteligencia Artificial y Derechos Humanos en los horizontes de la ciencia aplicada\, en la que se abordará cómo en los últimos años\, la inteligencia artificial se ha consolidado como una de las herramientas tecnológicas más relevantes y de mayor impacto\, despertando un creciente interés en múltiples disciplinas científicas. \nDesde la antropología y las ciencias sociales\, planteamos la necesidad de reflexionar críticamente sobre su potencial y sus límites\, y de explorar cómo estas tecnologías pueden ponerse al servicio de la transformación social y de la defensa de los derechos humanos. Con este horizonte\, proponemos la organización de una mesa académica para compartir experiencias de investigación y acción en contextos de graves violaciones a los derechos humanos. El propósito es debatir y mostrar de qué manera la inteligencia artificial ha contribuido a: \n\nMejorar la documentación de casos y ampliar las dimensiones de análisis.\nFacilitar la búsqueda y el cruce de información en bases de datos complejas.\nPotenciar técnicas de análisis sobre múltiples fuentes\, permitiendo un conocimiento más profundo y la identificación de conexiones que suelen escapar a los enfoques tradicionales.\nFortalecer los abordajes interdisciplinarios en contextos de violencia extrema\, como feminicidios o desapariciones de personas.\nAportar al diseño de políticas públicas desde una perspectiva científica y social.\n\nDe este modo\, la mesa se plantea como un espacio de intercambio interdisciplinario y de construcción de horizontes comunes\, donde la tecnología no se piense como un fin en sí mismo\, sino como una herramienta puesta al servicio de la verdad\, la memoria\, la justicia y\, en última instancia\, de la dignidad humana. \nLa actividad se llevará a cabo en el Auditorio Arturo Warman\, de la Casa Chata\, en la Ciudad de México.
URL:https://ciesas.edu.mx/event/inteligencia-artificial-y-derechos-humanos/
LOCATION:Casa Chata\, Miguel Hidalgo s/n\, Tlalpan Centro\, Tlalpan\, Ciudad de México\, 14000\, México
CATEGORIES:Conversatorio
ATTACH;FMTTYPE=image/jpeg:https://ciesas.edu.mx/wp-content/uploads/2025/10/Banner1200x500InteligenciaArtificial_y_DDHH-CIESAS_2025-e1760480850513.jpg
END:VEVENT
BEGIN:VEVENT
DTSTART;TZID=America/Mexico_City:20251020T110000
DTEND;TZID=America/Mexico_City:20251020T140000
DTSTAMP:20260420T103244
CREATED:20251014T221058Z
LAST-MODIFIED:20251014T221320Z
UID:35601-1760958000-1760968800@ciesas.edu.mx
SUMMARY:Conversando sobre investigación y enseñanza audiovisual
DESCRIPTION:La Dirección Regional del CIESAS CDMX y el Ciclo de presentaciones Investigación y cafecito invita a Conversando sobre investigación y enseñanza audiovisual en CIESAS II\, con participantes de la Red de Antropología e Investigación Audiovisual comparten sus experiencias en el campo de la investigación y la docencia. \nLa presentación se llevará a cabo en el CIESAS CDMX\, y también podrá seguirse por el Facebook del CIESAS. \n\n\n\n\n\nEl Ciclo de presentaciones Investigación y cafecito es organizado por la dirección regional del CIESAS CDMX\, el cual busca conocer las investigaciones de los nuevos Investigadores y los avances de aquellos que llevan poco tiempo en la Unidad Ciudad de México. \n \n  \n 
URL:https://ciesas.edu.mx/event/conversando-sobre-investigacion-y-ensenanza-audiovisual/
LOCATION:Sala Juárez del CIESAS\, Juárez 87\, Tlalpan\, Tlalpan\, Ciudad de México\, MEXICO CITY\, 14000\, México
CATEGORIES:Ciclo
ATTACH;FMTTYPE=image/jpeg:https://ciesas.edu.mx/wp-content/uploads/2025/10/Banner1200x500Cafecito20Octubre-e1760479744182.jpg
END:VEVENT
END:VCALENDAR