BEGIN:VCALENDAR
VERSION:2.0
PRODID:-//CIESAS - ECPv6.15.20//NONSGML v1.0//EN
CALSCALE:GREGORIAN
METHOD:PUBLISH
X-ORIGINAL-URL:https://ciesas.edu.mx
X-WR-CALDESC:Eventos para CIESAS
REFRESH-INTERVAL;VALUE=DURATION:PT1H
X-Robots-Tag:noindex
X-PUBLISHED-TTL:PT1H
BEGIN:VTIMEZONE
TZID:America/Mexico_City
BEGIN:STANDARD
TZOFFSETFROM:-0600
TZOFFSETTO:-0600
TZNAME:CST
DTSTART:20240101T000000
END:STANDARD
END:VTIMEZONE
BEGIN:VEVENT
DTSTART;TZID=America/Mexico_City:20251022T100000
DTEND;TZID=America/Mexico_City:20251022T130000
DTSTAMP:20260425T122707
CREATED:20251017T214348Z
LAST-MODIFIED:20251017T214348Z
UID:35656-1761127200-1761138000@ciesas.edu.mx
SUMMARY:Cuidar la demencia en la vejez
DESCRIPTION:El Seminario Permanente: Subjetividad\, Cuerpos y Lenguajes presenta Cuidar la demencia en la vejez: Perspectivas desde el curso de vida y la familia\, a cargo de Dra. Leticia Huerta Benze. \nEl público interesado podrá asistir a las instalaciones del CIESAS CDMX \, o bien seguir la transmisión en vivo por Facebook Live. \nMayores informes a: jsanchez@ciesas.edu.mx \nEl Seminario busca profundizar en la relación entre subjetividad\, cuerpos y lenguajes\, así como su aplicación heurística en diversos campos convergentes: psicoanálisis\, antropología\, sociología y ciencias médicas. \n \n 
URL:https://ciesas.edu.mx/event/cuidar-la-demencia-en-la-vejez/
LOCATION:Sala Juárez del CIESAS\, Juárez 87\, Tlalpan\, Tlalpan\, Ciudad de México\, MEXICO CITY\, 14000\, México
CATEGORIES:Seminario
ATTACH;FMTTYPE=image/jpeg:https://ciesas.edu.mx/wp-content/uploads/2025/10/Banner1200WebSeminarioSubjetividadCuerposLenguajesOctubre2025CIESAS-e1760737399437.jpg
END:VEVENT
END:VCALENDAR