BEGIN:VCALENDAR
VERSION:2.0
PRODID:-//CIESAS - ECPv6.15.20//NONSGML v1.0//EN
CALSCALE:GREGORIAN
METHOD:PUBLISH
X-ORIGINAL-URL:https://ciesas.edu.mx
X-WR-CALDESC:Eventos para CIESAS
REFRESH-INTERVAL;VALUE=DURATION:PT1H
X-Robots-Tag:noindex
X-PUBLISHED-TTL:PT1H
BEGIN:VTIMEZONE
TZID:America/Mexico_City
BEGIN:STANDARD
TZOFFSETFROM:-0600
TZOFFSETTO:-0600
TZNAME:CST
DTSTART:20240101T000000
END:STANDARD
END:VTIMEZONE
BEGIN:VEVENT
DTSTART;TZID=America/Mexico_City:20251023T090000
DTEND;TZID=America/Mexico_City:20251024T180000
DTSTAMP:20260425T100616
CREATED:20251015T171326Z
LAST-MODIFIED:20251016T215503Z
UID:35640-1761210000-1761328800@ciesas.edu.mx
SUMMARY:Encuentro de Egresados del Probepi
DESCRIPTION:Como parte de la estrategia de seguimiento de los egresados del Programa de Becas de Posgrado para Indígenas\, Probepi\, se realiza este Encuentro con el propósito de reflexionar sobre diversas problemáticas alrededor de un eje transversal: Ser indígena en Posgrado. \nLos conversatorios y las mesas redondas se llevarán a cabo los días 23 y 24 de octubre en las instalaciones del CIESAS CDMX. Para conocer participantes y horarios se puede descargar el Programa. \n \nDescargar el Programa
URL:https://ciesas.edu.mx/event/encuentro-de-egresados-del-probepi/
LOCATION:Auditorio Luis Reyes García\, Juárez 222\, Tlalpan\, Tlalpan\, CDMX\, 14000\, Mexico
CATEGORIES:Coloquio
ATTACH;FMTTYPE=image/jpeg:https://ciesas.edu.mx/wp-content/uploads/2025/10/Banner1200_EncuentroEgresadosProbepi-2025-e1760562728603.jpg
END:VEVENT
END:VCALENDAR