BEGIN:VCALENDAR
VERSION:2.0
PRODID:-//CIESAS - ECPv6.15.15//NONSGML v1.0//EN
CALSCALE:GREGORIAN
METHOD:PUBLISH
X-WR-CALNAME:CIESAS
X-ORIGINAL-URL:https://ciesas.edu.mx
X-WR-CALDESC:Eventos para CIESAS
REFRESH-INTERVAL;VALUE=DURATION:PT1H
X-Robots-Tag:noindex
X-PUBLISHED-TTL:PT1H
BEGIN:VTIMEZONE
TZID:America/Mexico_City
BEGIN:STANDARD
TZOFFSETFROM:-0600
TZOFFSETTO:-0600
TZNAME:CST
DTSTART:20240101T000000
END:STANDARD
END:VTIMEZONE
BEGIN:VEVENT
DTSTART;TZID=America/Mexico_City:20251029T100000
DTEND;TZID=America/Mexico_City:20251029T120000
DTSTAMP:20260419T151222
CREATED:20251010T223422Z
LAST-MODIFIED:20251010T223422Z
UID:35587-1761732000-1761739200@ciesas.edu.mx
SUMMARY:Memorias de mujeres mapuche familiares de detenidos desaparecidos
DESCRIPTION:El Seminario Antropología Activista y Co-producción de conocimientos presenta su 8ª sesión titulada ÑAMNAGÜN MEWTA PÜNON: Memorias de mujeres mapuche familiares de detenidos desaparecidos\, a cargo de María José Lucero. \nEl propósito del Seminario  crear un espacio de diálogo de saberes entre la academia activista y los colectivos de búsqueda\, en torno a la co-producción de conocimiento. La idea es invitar a reflexionar en torno a los aportes que la investigación antropológica\, y en un sentido más amplio\, la investigación social puede hacer a sus luchas. Tendrán prioridad las presentaciones de libros\, documentales u otro tipo de textos que hayan sido producto de este tipo de colaboración. En una primera etapa el seminario se centrará en las alianzas con colectivos de búsqueda en México y en una segunda etapa en experiencias de Argentina\, Colombia\, España y México. \nEl público interesado podrá seguir la transmisión a través de Facebook Live\, y por  Zoom con registro previo al correo antropología.activista@gmail.com \n \n\n 
URL:https://ciesas.edu.mx/event/memorias-de-mujeres-mapuche-familiares-de-detenidos-desaparecidos/
LOCATION:Ciudad de México
CATEGORIES:Seminario
ATTACH;FMTTYPE=image/jpeg:https://ciesas.edu.mx/wp-content/uploads/2025/10/Banner1200x500SeminarioInvestigacionActivistaOctubreCIESAS-e1760135578102.jpg
ORGANIZER;CN="Seminario Investigaci%C3%B3n Activa":MAILTO:antropología.activista@gmail.com
END:VEVENT
BEGIN:VEVENT
DTSTART;TZID=America/Mexico_City:20251029T100000
DTEND;TZID=America/Mexico_City:20251031T180000
DTSTAMP:20260419T151222
CREATED:20251029T221030Z
LAST-MODIFIED:20251029T221530Z
UID:35729-1761732000-1761933600@ciesas.edu.mx
SUMMARY:Feria del Libro de Remate del Instituto Mora
DESCRIPTION:  \nEsta semana\, el CIESAS estará presente en la Feria del Libro de Remate del Instituto Mora\, cuya edición especial combinará la celebración del Día de Muertos y estará dedicada al tema del Arte Urbano. Del miércoles 29 al viernes 31 de octubre\, el público asistente podrá disfrutar deActividades culturalesVenta de librosVenta de productos artesanalesConsulta el Programa completo de actividades.
URL:https://ciesas.edu.mx/event/feria-del-libro-de-remate-del-instituto-mora/
LOCATION:Instituto Mora\, Plaza Valentín Gómez Farías #12 Col. San Juan Mixcoac\, Benito Juárez\, Ciudad de México\, 03730\, México
CATEGORIES:Festival/Feria
ATTACH;FMTTYPE=image/jpeg:https://ciesas.edu.mx/wp-content/uploads/2025/10/Banner1200WebFeriaLibroInstitutoMora-CIESAS-e1761776113331.jpg
END:VEVENT
END:VCALENDAR