BEGIN:VCALENDAR
VERSION:2.0
PRODID:-//CIESAS - ECPv6.15.20//NONSGML v1.0//EN
CALSCALE:GREGORIAN
METHOD:PUBLISH
X-WR-CALNAME:CIESAS
X-ORIGINAL-URL:https://ciesas.edu.mx
X-WR-CALDESC:Eventos para CIESAS
REFRESH-INTERVAL;VALUE=DURATION:PT1H
X-Robots-Tag:noindex
X-PUBLISHED-TTL:PT1H
BEGIN:VTIMEZONE
TZID:America/Mexico_City
BEGIN:STANDARD
TZOFFSETFROM:-0600
TZOFFSETTO:-0600
TZNAME:CST
DTSTART:20240101T000000
END:STANDARD
END:VTIMEZONE
BEGIN:VEVENT
DTSTART;TZID=America/Mexico_City:20251110T100000
DTEND;TZID=America/Mexico_City:20251111T180000
DTSTAMP:20260424T090648
CREATED:20251104T212927Z
LAST-MODIFIED:20251104T213107Z
UID:35761-1762768800-1762884000@ciesas.edu.mx
SUMMARY:Coloquio México-Brasil: Abdias Nacimiento
DESCRIPTION:El CIESAS Golfo les invita al 5to. Coloquio México-Brasil de profesores y becarios del programa de desarrollo académico Abdias Nacimiento en México\, el cual se desarrollará los días 10 y 11 de noviembre\, el cual se centra en el proyecto «Sertão-Mesoamérica: acciones afirmativas\, derechos y diversidad epistémica». \nEl proyecto Abdias Nascimento promueve la movilidad internacional para jóvenes negros e indígenas\, y el coloquio busca fortalecer los lazos educativos y exponer los avances en las estancias de investigación de los becarios. Consultar el programa del Coloquio \nEl Coloquio se se realizará en un formato híbrido\, permitiendo la asistencia presencial en las sedes del CIESAS (Unidades Golfo\, Pacífico Sur y Ciudad de México) y la transmisión en vivo a través de Facebook Live. \nPara mayores informes comunicarse al correo: catedradeoliveira@ciesas.edu.mx \nConsultar el programa del Coloquio
URL:https://ciesas.edu.mx/event/coloquio-mexico-brasil-abdias-nacimiento/
LOCATION:CIESAS Golfo\, Av. Encanto s/n esq. Antonio Nava\, col. El Mirador\, Xalapa\, Veracruz\, 91170\, México
CATEGORIES:Coloquio
ATTACH;FMTTYPE=image/jpeg:https://ciesas.edu.mx/wp-content/uploads/2025/11/Banner-Coloqui-Mexico-Brasil-e1762291439937.jpg
END:VEVENT
END:VCALENDAR