BEGIN:VCALENDAR
VERSION:2.0
PRODID:-//CIESAS - ECPv6.15.20//NONSGML v1.0//EN
CALSCALE:GREGORIAN
METHOD:PUBLISH
X-ORIGINAL-URL:https://ciesas.edu.mx
X-WR-CALDESC:Eventos para CIESAS
REFRESH-INTERVAL;VALUE=DURATION:PT1H
X-Robots-Tag:noindex
X-PUBLISHED-TTL:PT1H
BEGIN:VTIMEZONE
TZID:America/Mexico_City
BEGIN:STANDARD
TZOFFSETFROM:-0600
TZOFFSETTO:-0600
TZNAME:CST
DTSTART:20240101T000000
END:STANDARD
END:VTIMEZONE
BEGIN:VEVENT
DTSTART;TZID=America/Mexico_City:20251113T093000
DTEND;TZID=America/Mexico_City:20251114T190000
DTSTAMP:20260424T090857
CREATED:20251104T204415Z
LAST-MODIFIED:20251104T205134Z
UID:35749-1763026200-1763146800@ciesas.edu.mx
SUMMARY:Taller y Simposio de Lexicografía Maya
DESCRIPTION:Com parte del Proyecto LEXMA: Documentación y descripción lexicográfica en lenguas mayas\, el Cimsur Unam\, el CIESAS Sureste y la Academia de las Lenguas Mayas de Guatemala invitan al Taller de Lexicografía Maya (13-nov) y al Primer Simposio de Lexicografía Maya (14-nov)\, en los que se abordarán temas relacionados con la lexicografía tales como documentación\, herramientas\, corpus\, tipos de diccionarios\, aspectos metodológicos y prácticos\, etc. \nEl Taller se llevará a cabo en las instalaciones del CIESAS Sureste (Carretera a San Juan Chamula km. 3.5\, s/n\, Barrio la Quinta San Martín\, San Cristóbal de Las Casas\, Chiapas)\, mientras que el Simposio se realizarán en el CIMSUR UNAM (Calle María Adelina Flores 34A\, Barrio de Guadalupe\, San Cristóbal de Las Casas\, Chiapas). \nMayores informes en: balammt@gmail.com/yaushu@ciencias.unam.mx \nPrograma del simposio: \n \n 
URL:https://ciesas.edu.mx/event/taller-y-simposio-de-lexicografia-maya/
LOCATION:CDMX
CATEGORIES:Simposio,Taller
ATTACH;FMTTYPE=image/png:https://ciesas.edu.mx/wp-content/uploads/2025/11/Banner-Lexicografia-e1762288965856.png
END:VEVENT
BEGIN:VEVENT
DTSTART;TZID=America/Mexico_City:20251113T160000
DTEND;TZID=America/Mexico_City:20251113T160000
DTSTAMP:20260424T090857
CREATED:20251107T200221Z
LAST-MODIFIED:20251107T202553Z
UID:35774-1763049600-1763049600@ciesas.edu.mx
SUMMARY:Etnografía Política: Estado\, poder y prácticas políticas contemporáneas
DESCRIPTION:El CIESAS invita a la presentación del Seminario permanente de Etnografía Política: Estado\, poder y prácticas políticas contemporáneas\, coordinado por el Dr. Edgars Martínez Navarrete (FCPyS-UNAM / CIESAS-CDMX) y Dr. Víctor Santillán Ortega (IIS-UNAM). \nComo primera actividad\, el seminario tendrá la conferencia El arte popular como categoría política en el Perú del siglo XX a cargo del Dr. Mijail Mitrovic (PUCP-Perú)\, la cual presenta diversos pasajes de la historia política y cultural del Perú durante el siglo XX donde la noción de “arte popular” se desplazó desde su inicial sentido de los años 20 –importada del México posrevolucionario– vinculado a ciertos objetos valorados por el indigenismo\, hacia su apropiación por parte de productores artesanales y artísticos del campo y las ciudades entre los años 70 y 80. Esta se llevará a cabo el  13 de noviembre en el auditorio Luis Reyes garcía del CIESAS CDMX y tendrá transmisión vía Facebook Live.  \nEl Seminario permanente de Etnografía Política: Estado\, poder y prácticas políticas contemporáneas tiene como propósito fomentar y generar un espacio inter y transdisciplinario de diálogo y reflexión\, donde investigadores\, estudiantes de pregrado y posgrado presenten sus estudios etnográficos sobre los distintos campos de la política y las diversas formas que asume el poder en las sociedades contemporáneas\, ya sean concluidos o en curso\, para su discusión desde perspectivas teóricas plurales. Asimismo\, busca debatir los retos metodológicos\, éticos y epistemológicos que enfrentan las y los etnógrafos en sus diversas inmersiones en el trabajo de campo. \nMayores informes en: seminarioetnografiapolitica@gmail.com.
URL:https://ciesas.edu.mx/event/seminario-etnografia-politica/
LOCATION:Auditorio Luis Reyes García\, Juárez 222\, Tlalpan\, Tlalpan\, CDMX\, 14000\, Mexico
CATEGORIES:Seminario
ATTACH;FMTTYPE=image/png:https://ciesas.edu.mx/wp-content/uploads/2025/11/Banner_SeminarioEtnografiaPolitica-e1762545615626.png
END:VEVENT
END:VCALENDAR