BEGIN:VCALENDAR
VERSION:2.0
PRODID:-//CIESAS - ECPv6.15.20//NONSGML v1.0//EN
CALSCALE:GREGORIAN
METHOD:PUBLISH
X-ORIGINAL-URL:https://ciesas.edu.mx
X-WR-CALDESC:Eventos para CIESAS
REFRESH-INTERVAL;VALUE=DURATION:PT1H
X-Robots-Tag:noindex
X-PUBLISHED-TTL:PT1H
BEGIN:VTIMEZONE
TZID:America/Mexico_City
BEGIN:STANDARD
TZOFFSETFROM:-0600
TZOFFSETTO:-0600
TZNAME:CST
DTSTART:20240101T000000
END:STANDARD
END:VTIMEZONE
BEGIN:VEVENT
DTSTART;TZID=America/Mexico_City:20251127T090000
DTEND;TZID=America/Mexico_City:20251128T173000
DTSTAMP:20260424T220418
CREATED:20251125T200401Z
LAST-MODIFIED:20251125T200507Z
UID:35887-1764234000-1764351000@ciesas.edu.mx
SUMMARY:Conversatorios Lenguas\, cuerpos y espiritualidad
DESCRIPTION:El CIESAS CDMX invita a los Conversatorios Lenguas\, cuerpos y espiritualidad. Diálogos desde la Antropología de la Religión\, donde investigadores\, estudiantes\, integrantes de comunidades y docentes y compartirán experiencias sobre lenguas\, cuerpos y espiritualidades a participar en los reflexionar y compartir experiencias sobre lenguas\, cuerpos y espiritualidades. \nLos temas abarcaran Lengua y religión\, formas religiosas de curación  y sanación del cuerpo Diversidad Religiosa Contemporánea\, entre otras. El público interesado podrá asistir al Auditorio Arturo Warman de la Casa Chata\, o bien\, seguir la transmisión por Facebook Live. \nDescargar programa completo.\n \n  \n 
URL:https://ciesas.edu.mx/event/conversatorios-lenguas-cuerpos-y-espiritualidad/
LOCATION:Casa Chata\, Miguel Hidalgo s/n\, Tlalpan Centro\, Tlalpan\, Ciudad de México\, 14000\, México
CATEGORIES:Conversatorio
ATTACH;FMTTYPE=image/jpeg:https://ciesas.edu.mx/wp-content/uploads/2025/11/Banner1200WebAntropologiaDeLaReligion-e1764100952739.jpg
END:VEVENT
BEGIN:VEVENT
DTSTART;TZID=America/Mexico_City:20251127T110000
DTEND;TZID=America/Mexico_City:20251127T130000
DTSTAMP:20260424T220418
CREATED:20251112T222739Z
LAST-MODIFIED:20251120T201625Z
UID:35802-1764241200-1764248400@ciesas.edu.mx
SUMMARY:La economía doméstica en los internados indígenas y rurales
DESCRIPTION:El Seminario de Historia Económica del Sureste invita a la ponencia La economía doméstica en los internados indígenas y rurales. La península de Yucatán durante la primera mitad del siglo XX: entre saberes y prácticas\, a cargo del Dr. Lorgio Cobá Noh de la Universidad Autónoma de Yucatán.  \nEl objetivo de la sesión es abordar como en la segunda década del siglo XX las nacientes normales rurales fueron encargadas de formar a maestros y maestras para contribuir a modernizar las comunidades rurales del país. En la península de Yucatán se echaron a andar dos experiencias (Hecelchakán\, en Campeche y San Diego en Tekax) en las que se reclutaron a estudiantes de diversos orígenes\, pero en condiciones económicas de pobreza. \nDurante estos años los estudiantes experimentaron diversos procesos educativos en las que adquirieron saberes que tenían como objetivo obtener herramientas para contribuir a la modernización del país. Pero las condiciones económicas de los estudiantes y sus familias los llevaron a echar a andar diversas estrategias para obtener recursos extraordinarios para apoyar a su hogar de origen o viceversa\, los padres de familia\, sabiendo de las limitaciones presupuestaria de los internados crearon formas para hacer llegar recursos a sus hijos o hijas al interior del internado. La hipótesis es que estas experiencias que buscaron dotar a los normalistas de herramientas para liderar la modernización de las comunidades (una mezcla entre lo moderno y lo tradicional) construyeron una tradición que le dio identidad a las normales. Las fuentes sobre la que se construye el presente documento están compuestas por documentos provenientes del Archivo General de la Nación e Historia oral. \nEl público interesado podrá asistir a las instalaciones del CIESAS Peninsular\, o bien\, seguir la transmisión por Zoom.  \nID de reunión: 922 2588 0636Código de acceso: 525786 \n \n  \n  \n 
URL:https://ciesas.edu.mx/event/la-economia-domestica-en-los-internados-indigenas-y-rurales/
LOCATION:CIESAS Peninsular\, Km 5.5 Carretera Sierra Papacal – Chuburná\, Merida\, Yucatán\, 97302\, México
CATEGORIES:Seminario
ATTACH;FMTTYPE=image/jpeg:https://ciesas.edu.mx/wp-content/uploads/2025/11/Banner1200SHES_EconomiaDomesticaYucatan-CIESAS-e1763669743694.jpg
ORGANIZER;CN="Seminario Historia de la Miner%C3%ADa en M%C3%A9xico y Regiones Comparadas":MAILTO:seminariohistoriadelamineria@ciesas.edu.mx
END:VEVENT
END:VCALENDAR