BEGIN:VCALENDAR
VERSION:2.0
PRODID:-//CIESAS - ECPv6.15.20//NONSGML v1.0//EN
CALSCALE:GREGORIAN
METHOD:PUBLISH
X-WR-CALNAME:CIESAS
X-ORIGINAL-URL:https://ciesas.edu.mx
X-WR-CALDESC:Eventos para CIESAS
REFRESH-INTERVAL;VALUE=DURATION:PT1H
X-Robots-Tag:noindex
X-PUBLISHED-TTL:PT1H
BEGIN:VTIMEZONE
TZID:America/Mexico_City
BEGIN:STANDARD
TZOFFSETFROM:-0600
TZOFFSETTO:-0600
TZNAME:CST
DTSTART:20240101T000000
END:STANDARD
END:VTIMEZONE
BEGIN:VEVENT
DTSTART;TZID=America/Mexico_City:20251129T090000
DTEND;TZID=America/Mexico_City:20251207T230000
DTSTAMP:20260424T091111
CREATED:20251115T010827Z
LAST-MODIFIED:20251115T011031Z
UID:35825-1764406800-1765148400@ciesas.edu.mx
SUMMARY:CIESAS en la FIL Guadalajara 2025
DESCRIPTION:Del 29 de noviembre al 7 de diciembre de 2024\, el CIESAS tendrá a la venta parte de su catálogo editorial en la Feria Internacional del Libro de Guadalajara 2024\, en el Stand K31 del Área Nacional\, donde además habrá ofertas en títulos seleccionados en su versión impresa.  \n\n\n\nIgualmente\, en el marco de esta celebración literaria la Librería Virtual del CIESAS ofrecerá un 10% de descuento en todos sus títulos\, en las dos semanas que dura la FIL. \nLa Feria Internacional del Libro de Guadalajara es la reunión editorial más importante de Iberoamérica y un extraordinario festival cultural. Fundada por la Universidad de Guadalajara\, es una feria para profesionales donde el público es bienvenido\, lo que la distingue del resto de las principales ferias que se realizan en el mundo. Sin descuidar su vocación como un encuentro de negocios\, la FIL fue concebida como un festival cultural en el que la literatura es la columna vertebral\, con un programa en el que participan autores de todos los continentes y diferentes lenguas\, así como un espacio para la discusión académica de los grandes temas que cruzan nuestra actualidad. Consulta precios y horarios \n \n  \n 
URL:https://ciesas.edu.mx/event/ciesas-en-la-fil-guadalajara-2025/
LOCATION:Expo Guadalajara\, Av. Mariano Otero #1499\, Verde Valle\, Guadalajara\, 44550\, México
CATEGORIES:Festival/Feria
ATTACH;FMTTYPE=image/png:https://ciesas.edu.mx/wp-content/uploads/2025/11/Banner1200WebFIL_Guadalajara2025-e1763168311845.png
END:VEVENT
END:VCALENDAR