BEGIN:VCALENDAR
VERSION:2.0
PRODID:-//CIESAS - ECPv6.15.20//NONSGML v1.0//EN
CALSCALE:GREGORIAN
METHOD:PUBLISH
X-WR-CALNAME:CIESAS
X-ORIGINAL-URL:https://ciesas.edu.mx
X-WR-CALDESC:Eventos para CIESAS
REFRESH-INTERVAL;VALUE=DURATION:PT1H
X-Robots-Tag:noindex
X-PUBLISHED-TTL:PT1H
BEGIN:VTIMEZONE
TZID:America/Mexico_City
BEGIN:STANDARD
TZOFFSETFROM:-0600
TZOFFSETTO:-0600
TZNAME:CST
DTSTART:20250101T000000
END:STANDARD
END:VTIMEZONE
BEGIN:VEVENT
DTSTART;TZID=America/Mexico_City:20260119T130000
DTEND;TZID=America/Mexico_City:20260119T150000
DTSTAMP:20260425T223038
CREATED:20260119T155809Z
LAST-MODIFIED:20260119T155955Z
UID:36073-1768827600-1768834800@ciesas.edu.mx
SUMMARY:Contacto mapudugun – español
DESCRIPTION:El Seminario Lingüística Antropológica invita a su ponencia Contacto mapudugun – español: variación fonético-fonológica en el mapudungun hablado por jóvenes bilingües de comunidades pewenches de la región del Biobío\, Chile\, a cargo de Marisol Henríquez.  \nLa ponencia expondrá los resultados preliminares de un estudio sobre variación y cambio fonético fonológico en el mapudungun hablado por jóvenes mapuche bilingües del Alto Biobío\, destacando los efectos del contacto lingüístico con el español y los primeros hallazgos del trabajo de campo. \nLa ponencia se llevará a cabo en la Casa Chata y podrá verse a través de Facebook Live.
URL:https://ciesas.edu.mx/event/contacto-mapudugun-espanol/
LOCATION:Casa Chata\, Miguel Hidalgo s/n\, Tlalpan Centro\, Tlalpan\, Ciudad de México\, 14000\, México
CATEGORIES:Seminario
ATTACH;FMTTYPE=image/jpeg:https://ciesas.edu.mx/wp-content/uploads/2026/01/Banner1200Web_ContactoMapudugun_CIESAS-e1768838236970.jpg
END:VEVENT
END:VCALENDAR