BEGIN:VCALENDAR
VERSION:2.0
PRODID:-//CIESAS - ECPv6.15.15//NONSGML v1.0//EN
CALSCALE:GREGORIAN
METHOD:PUBLISH
X-WR-CALNAME:CIESAS
X-ORIGINAL-URL:https://ciesas.edu.mx
X-WR-CALDESC:Eventos para CIESAS
REFRESH-INTERVAL;VALUE=DURATION:PT1H
X-Robots-Tag:noindex
X-PUBLISHED-TTL:PT1H
BEGIN:VTIMEZONE
TZID:America/Mexico_City
BEGIN:STANDARD
TZOFFSETFROM:-0600
TZOFFSETTO:-0600
TZNAME:CST
DTSTART:20250101T000000
END:STANDARD
END:VTIMEZONE
BEGIN:VEVENT
DTSTART;TZID=America/Mexico_City:20260430T120000
DTEND;TZID=America/Mexico_City:20260430T140000
DTSTAMP:20260419T135811
CREATED:20260415T182635Z
LAST-MODIFIED:20260415T183243Z
UID:36412-1777550400-1777557600@ciesas.edu.mx
SUMMARY:Racismo judicial у violencias carcelarias
DESCRIPTION:El Seminario Investigación activista y co-producción de conocimientos invita a su tercera sesión del año titulada Racismo judicial у violencias carcelarias\, la cual se erige como un espacio donde la investigación deja de ser un ejercicio distante y se convierte en herramienta de resistencia. Las trayectorias de las y los ponentes muestran que el conocimiento no se produce en aislamiento académico\, sino en diálogo con las experiencias de mujeres encarceladas\, comunidades indígenas\, colectivos universitarios y organizaciones de derechos humanos. \nEl racismo judicial y las violencias carcelarias no son fenómenos abstractos: se encarnan en cuerpos y vidas que enfrentan exclusión\, discriminación y castigo desproporcionado. Frente a ello\, la escritura colectiva\, la pedagogía crítica\, la acción legislativa y la antropología comprometida se articulan como estrategias de co-producción de saberes. Este seminario invita a reconocer que la investigación activista no solo documenta la injusticia\, sino que la confronta\, generando alianzas entre academia y sociedad civil. La co-producción de conocimientos se convierte así en un acto político: construir narrativas que dignifiquen\, visibilicen y transformen las realidades de quienes han sido históricamente silenciados por el sistema judicial y penitenciario. \n\nEl público interesado podrá inscribirse en el siguiente formulario. \n\n\nMás informes en  antropologia.activista@gmail.com\n  \n\n 
URL:https://ciesas.edu.mx/event/racismo-judicial-%d1%83-violencias-carcelarias/
CATEGORIES:Seminario
END:VEVENT
END:VCALENDAR