BEGIN:VCALENDAR
VERSION:2.0
PRODID:-//CIESAS - ECPv6.15.20//NONSGML v1.0//EN
CALSCALE:GREGORIAN
METHOD:PUBLISH
X-WR-CALNAME:CIESAS
X-ORIGINAL-URL:https://ciesas.edu.mx
X-WR-CALDESC:Eventos para CIESAS
REFRESH-INTERVAL;VALUE=DURATION:PT1H
X-Robots-Tag:noindex
X-PUBLISHED-TTL:PT1H
BEGIN:VTIMEZONE
TZID:America/Mexico_City
BEGIN:STANDARD
TZOFFSETFROM:-0600
TZOFFSETTO:-0600
TZNAME:CST
DTSTART:20240101T000000
END:STANDARD
END:VTIMEZONE
BEGIN:VEVENT
DTSTART;TZID=America/Mexico_City:20250312T130000
DTEND;TZID=America/Mexico_City:20250312T143000
DTSTAMP:20260422T092224
CREATED:20250306T154823Z
LAST-MODIFIED:20250306T154923Z
UID:34353-1741784400-1741789800@ciesas.edu.mx
SUMMARY:El regreso de Trump y su impacto en el trabajo
DESCRIPTION:El Conversatorio Antropología de las migraciones: Análisis de las políticas de Trump en México presenta la sesión Trabajo y trabajadores/as:\, la cual sellevará a cabo en la Sala Juárez del CIESAS CDMX y podrá seguirse por el Facebook del CIESAS CDMX. \nEste Conversatorio es organizado por la línea Movilidad: género\, famlia y trabajo de la línea de especialización del Posgrado en Antropología CDMX\, que buscar ofrecer herramientas teóricas y metodológicas para analizar y comprender un fenómeno social de tan largo data\, como la movilidad humana\, pero con procesos particularmente acelerados de diversificación y complejización que se observa en la época actual. \n 
URL:https://ciesas.edu.mx/event/el-regreso-de-trump-y-su-impacto-en-el-trabajo/
LOCATION:Sala Juárez del CIESAS\, Juárez 87\, Tlalpan\, Tlalpan\, Ciudad de México\, MEXICO CITY\, 14000\, México
CATEGORIES:Conversatorio
ATTACH;FMTTYPE=image/jpeg:https://ciesas.edu.mx/wp-content/uploads/2025/03/Banner1200_ElRegresodeTrumpSuImpacto-e1741276058555.jpg
END:VEVENT
BEGIN:VEVENT
DTSTART;TZID=America/Mexico_City:20250320T110000
DTEND;TZID=America/Mexico_City:20250320T110000
DTSTAMP:20260422T092224
CREATED:20250310T174759Z
LAST-MODIFIED:20250306T221009Z
UID:34370-1742468400-1742468400@ciesas.edu.mx
SUMMARY:Un Cosmograma para Teotihuacán
DESCRIPTION:Un Cosmograma para Teotihuacán es la nueva sesión del Seminario Interinstitucional: Ritualidad\, Imagen y Etnografía del Mundo Indígena\, a cargo del Dr. Arturo Montero\, en que se podrán explorar la rica y enigmática historia de una de las civilizaciones más fascinantes de Mesoamérica.  \nAlgunos de los temas que se abordarán incluyen: \n\nIntroducción a Teotihuacán: Breve reseña histórica y cultural de la ciudad.\nCosmovisión Teotihuacana: Análisis de cómo los antiguos teotihuacanos comprendían el universo y su relación con él.\nCosmograma y su significado: Exploración del concepto de cosmograma y cómo se manifiesta en la arquitectura y arte de Teotihuacan.\nEstructuras Principales: Estudio de las pirámides del Sol y la Luna\, la Ciudadela y el Templo de Quetzalcóatl\, y su conexión con la cosmovisión.\nSimbología y Arte: Interpretación de símbolos y obras de arte encontrados en Teotihuacán que reflejan su cosmograma.\nInfluencia en Mesoamérica: Impacto y legado de la cosmovisión teotihuacana en otras culturas de la región.\n\nLa sesión podrá seguirse en vivo por YouTube. \n \n 
URL:https://ciesas.edu.mx/event/un-cosmograma-para-teotihuacan/
CATEGORIES:Seminario
ATTACH;FMTTYPE=image/jpeg:https://ciesas.edu.mx/wp-content/uploads/2025/03/Banner1200_CosmogramaTeotihuacan-e1741298867713.jpg
ORGANIZER;CN="SIAEE":MAILTO:semi.antropologiadelaeducacion@gmail.com
END:VEVENT
END:VCALENDAR