BEGIN:VCALENDAR
VERSION:2.0
PRODID:-//CIESAS - ECPv6.15.15//NONSGML v1.0//EN
CALSCALE:GREGORIAN
METHOD:PUBLISH
X-WR-CALNAME:CIESAS
X-ORIGINAL-URL:https://ciesas.edu.mx
X-WR-CALDESC:Eventos para CIESAS
REFRESH-INTERVAL;VALUE=DURATION:PT1H
X-Robots-Tag:noindex
X-PUBLISHED-TTL:PT1H
BEGIN:VTIMEZONE
TZID:America/Mexico_City
BEGIN:STANDARD
TZOFFSETFROM:-0600
TZOFFSETTO:-0600
TZNAME:CST
DTSTART:20250101T000000
END:STANDARD
END:VTIMEZONE
BEGIN:VEVENT
DTSTART;TZID=America/Mexico_City:20260319T120000
DTEND;TZID=America/Mexico_City:20260319T140000
DTSTAMP:20260420T104839
CREATED:20260304T223229Z
LAST-MODIFIED:20260304T223311Z
UID:36314-1773921600-1773928800@ciesas.edu.mx
SUMMARY:Desarrollo de las ciudades fronterizas de Baja California
DESCRIPTION:El Seminario de Historia Económica del Sureste invita a la ponencia Desarrollo de las ciudades fronterizas de Baja California a inicios del siglo XX: apuntes para una historia comparada\, a cargo de la Dra. Araceli Almaraz Alvarado.  \nEl objetivo de la ponencia es analizar el desarrollo de las ciudades fronterizas de Baja California a inicios del siglo XX\, especialmente Tijuana\, Mexicali y Ensenada\, desde una perspectiva de historia comparada\, con el fin de identificar similitudes\, diferencias y dinámicas regionales en sus procesos de conformación urbana\, económica y social \nEl público interesado podrá asistir a las instalaciones del CIESAS Peninsular\, o bien\, seguir la transmisión por Zoom.  \nID de reunión: 784 459 4771Código de acceso: 201638 \n \n  \n  \n 
URL:https://ciesas.edu.mx/event/desarrollo-de-las-ciudades-fronterizas-de-baja-california/
LOCATION:CIESAS Peninsular\, Km 5.5 Carretera Sierra Papacal – Chuburná\, Merida\, Yucatán\, 97302\, México
CATEGORIES:Seminario
ATTACH;FMTTYPE=image/png:https://ciesas.edu.mx/wp-content/uploads/2026/03/Banner1200-BajaCalifornia-SHES-CIESAS-e1772663519490.png
ORGANIZER;CN="Seminario Historia de la Miner%C3%ADa en M%C3%A9xico y Regiones Comparadas":MAILTO:seminariohistoriadelamineria@ciesas.edu.mx
END:VEVENT
END:VCALENDAR