BEGIN:VCALENDAR
VERSION:2.0
PRODID:-//CIESAS - ECPv6.15.15//NONSGML v1.0//EN
CALSCALE:GREGORIAN
METHOD:PUBLISH
X-ORIGINAL-URL:https://ciesas.edu.mx
X-WR-CALDESC:Eventos para CIESAS
REFRESH-INTERVAL;VALUE=DURATION:PT1H
X-Robots-Tag:noindex
X-PUBLISHED-TTL:PT1H
BEGIN:VTIMEZONE
TZID:America/Mexico_City
BEGIN:STANDARD
TZOFFSETFROM:-0600
TZOFFSETTO:-0600
TZNAME:CST
DTSTART:20250101T000000
END:STANDARD
END:VTIMEZONE
BEGIN:VEVENT
DTSTART;TZID=America/Mexico_City:20260415T100000
DTEND;TZID=America/Mexico_City:20260417T190000
DTSTAMP:20260419T202355
CREATED:20260416T221907Z
LAST-MODIFIED:20260416T221948Z
UID:36426-1776247200-1776452400@ciesas.edu.mx
SUMMARY:CIESAS en la Feria del Libro Antropológico 2026
DESCRIPTION:Del miércoles 15 al viernes 17 de abril el CIESAS estará presente en la Feria del Libro Antropológico organizada por el Instituto de Investigaciones Antropológicas de la UNAM. En el stand se encontrará parte de nuestro catálogo editorial con descuentos en títulos seleccionados. Durante tres días\, la Feria reunirá 44 actividades académicas\, culturales\, lúdicas y deportivas que invitan al diálogo entre especialistas\, estudiantes y público más amplio. \n \nEn esta edición el Instituto conmemora 52 años de labor académica\, cifra que en la tradición mesoamericana representa el cierre de un ciclo y el inicio de otro. En este marco simbólico\, el eje temático de la feria gira en torno a la relación entre la antropología y el deporte\, entendiendo al deporte como una práctica cultural que articula cuerpo\, ritual\, disciplina\, competencia\, identidad\, colectividad y memoria.
URL:https://ciesas.edu.mx/event/ciesas-en-la-feria-del-libro-antropologico-2026/
LOCATION:Instituto de Investigaciones Antropológicas UNAM\, Circuito Exterior\, s/n Ciudad Universitaria\, Coyoacán\, Ciudad de México\, 04510\, México
CATEGORIES:Festival/Feria
ATTACH;FMTTYPE=image/jpeg:https://ciesas.edu.mx/wp-content/uploads/2026/04/Banner1200WebFeriaLibroAntropologico-CIESAS-IIA-UNAM_abril-e1776377811300.jpg
END:VEVENT
END:VCALENDAR