BEGIN:VCALENDAR
VERSION:2.0
PRODID:-//CIESAS - ECPv6.15.20//NONSGML v1.0//EN
CALSCALE:GREGORIAN
METHOD:PUBLISH
X-ORIGINAL-URL:https://ciesas.edu.mx
X-WR-CALDESC:Eventos para CIESAS
REFRESH-INTERVAL;VALUE=DURATION:PT1H
X-Robots-Tag:noindex
X-PUBLISHED-TTL:PT1H
BEGIN:VTIMEZONE
TZID:America/Mexico_City
BEGIN:STANDARD
TZOFFSETFROM:-0600
TZOFFSETTO:-0600
TZNAME:CST
DTSTART:20250101T000000
END:STANDARD
END:VTIMEZONE
BEGIN:VEVENT
DTSTART;TZID=America/Mexico_City:20260220T110000
DTEND;TZID=America/Mexico_City:20260301T210000
DTSTAMP:20260422T044942
CREATED:20260211T185724Z
LAST-MODIFIED:20260408T211434Z
UID:36166-1771585200-1772398800@ciesas.edu.mx
SUMMARY:El CIESAS en la 47 FILPM
DESCRIPTION:El Centro de Investigaciones y Estudios Superiores en Antropología Social (CIESAS) anuncia sus actividades que llevará a cabo en la 47 edición de la Feria Internacional del Libro del Palacio de Minería (FILPM). \nLos asistentes podrán adquirir ejemplares y novedades sobre Antropología\, Historia y Lingüística\, entre otras especialidades de la institución\, en el stand 1209\, Mezzanine del Palacio\, con descuentos en publicaciones impresas seleccionadas\, además si visitan la Librería Virtual podrán adquirir cualquier título con un 10% de descuento.  \n\n\n\n\n\nAsimismo\, el CIESAS realizará las  presentaciones editoriales de las siguientes publicaciones:  \n  \nLa FILPM es organizada anualmente con el objeto de dar a conocer a la sociedad en su conjunto y a la comunidad universitaria\, las novedades de la industria editorial mexicana. \n \n  \n\n\n\n  \n\n\n\n\n\n\n\n \n\n\n\n\n\n\n\n 
URL:https://ciesas.edu.mx/event/el-ciesas-en-la-47-filpm/
LOCATION:Palacio de Minería\, Tacuba 5\,\, Centro Histórico\, Cuauhtémoc\, Ciudad de México\, 06000\, México
CATEGORIES:Festival/Feria
ATTACH;FMTTYPE=image/jpeg:https://ciesas.edu.mx/wp-content/uploads/2026/02/Banner1200_47FILPM-CIESAS_2026-e1770836231531.jpg
END:VEVENT
BEGIN:VEVENT
DTSTART;TZID=America/Mexico_City:20260221T130000
DTEND;TZID=America/Mexico_City:20260221T140000
DTSTAMP:20260422T044942
CREATED:20260212T195341Z
LAST-MODIFIED:20260212T201538Z
UID:36194-1771678800-1771682400@ciesas.edu.mx
SUMMARY:Presentación Matehuala. Poblamiento e incorporación de una frontera
DESCRIPTION:Como parte de las actividades de la 47 Feria Internacional del Libro del Palacio de Minería\, que se celebrará del 20 de febrero al 1 de marzo\, se presentará su libro Matehuala. Poblamiento e incorporación de una frontera de la América septentrional a la Monarquía Hispánica\, 1600-1750. \nEste libro muestra cómo los indios y los hacendados\, los religiosos y los capitanes\, se apropiaron y modularon en su favor los discursos\, las prácticas políticas y las concepciones jurídicas sobre las que se sustentaba el poder del rey de España. Gracias a una investigación innovadora y a una pesquisa inteligente\, este volumen ilumina la historia de Matehuala y permite comprender sus tiempos y sus espacios\, construye un modelo de historia sobre cómo estudiar las fronteras y su gente\, un análisis que permite pensarlas mejor en América\, Europa y África. \n\n\n\nLa presentación se llevará a cabo en el Auditorio Sotero Prieto del Palacio de Minería.
URL:https://ciesas.edu.mx/event/presentacion-matehuala-poblamiento-e-incorporacion-de-una-frontera/
LOCATION:Palacio de Minería\, Tacuba 5\,\, Centro Histórico\, Cuauhtémoc\, Ciudad de México\, 06000\, México
CATEGORIES:Presentación editorial
ATTACH;FMTTYPE=image/jpeg:https://ciesas.edu.mx/wp-content/uploads/2026/02/Banner1200_47FILPM_Matehuala-CIESAS-e1770925843704.jpg
END:VEVENT
BEGIN:VEVENT
DTSTART;TZID=America/Mexico_City:20260225T160000
DTEND;TZID=America/Mexico_City:20260225T170000
DTSTAMP:20260422T044942
CREATED:20260212T200757Z
LAST-MODIFIED:20260212T200757Z
UID:36199-1772035200-1772038800@ciesas.edu.mx
SUMMARY:Presentación Revista Desacatos 77
DESCRIPTION:Como parte de las actividades de la 47 Feria Internacional del Libro del Palacio de Minería\, que se celebrará del 20 de febrero al 1 de marzo\, se realizará la presentación editorial del número 77 de la Revista Desacatos: Discusiones en torno a las distintas formas de violencia en México. \nEn este dosier los autores buscaron analizar y discutir cómo las violencias directa\, cultural y estructural devienen en otras violencias específicas en distintos entornos y regiones: la situación de las personas que viven en las calles de alguna ciudad fronteriza\, como ocurre en Tijuana\, Baja California; el trabajo de las mujeres buscadoras en Guanajuato\, y la disputa por la explotación hídrica del lago de Pátzcuaro\, en Michoacán. \nPara ello\, se utilizaron metodologías etnográficas y participativas que permitieron conocer la experiencia mediante el diálogo con aquellas personas que son blanco de distintas violencias.  \n\n\n\nLa presentación se llevará a cabo en el Auditorio Sotero Prieto del Palacio de Minería. \n \n 
URL:https://ciesas.edu.mx/event/presentacion-revista-desacatos-77/
LOCATION:Palacio de Minería\, Tacuba 5\,\, Centro Histórico\, Cuauhtémoc\, Ciudad de México\, 06000\, México
CATEGORIES:Presentación editorial
ATTACH;FMTTYPE=image/jpeg:https://ciesas.edu.mx/wp-content/uploads/2026/02/Banner1200x500_47FILPM_Desacatos77-e1770926750637.jpg
END:VEVENT
END:VCALENDAR