BEGIN:VCALENDAR
VERSION:2.0
PRODID:-//CIESAS - ECPv6.15.20//NONSGML v1.0//EN
CALSCALE:GREGORIAN
METHOD:PUBLISH
X-ORIGINAL-URL:https://ciesas.edu.mx
X-WR-CALDESC:Eventos para CIESAS
REFRESH-INTERVAL;VALUE=DURATION:PT1H
X-Robots-Tag:noindex
X-PUBLISHED-TTL:PT1H
BEGIN:VTIMEZONE
TZID:America/Mexico_City
BEGIN:STANDARD
TZOFFSETFROM:-0600
TZOFFSETTO:-0600
TZNAME:CST
DTSTART:20250101T000000
END:STANDARD
END:VTIMEZONE
BEGIN:VEVENT
DTSTART;TZID=America/Mexico_City:20260423T100000
DTEND;TZID=America/Mexico_City:20260426T190000
DTSTAMP:20260422T051639
CREATED:20260416T214724Z
LAST-MODIFIED:20260416T214724Z
UID:36422-1776938400-1777230000@ciesas.edu.mx
SUMMARY:El CIESAS en la Fiesta del Libro y la Rosa 2026
DESCRIPTION:Del jueves 23 al domingo 26 de abril de 2026\, el CIESAS estará presente en el stand 62  de la Feria del Libro y la Rosa que se llevará a cabo en el Centro Cultural Universitario de Ciudad Universitaria\,  UNAM. Los asistentes tendrán oportunidad de adquirir las novedades editoriales y otros títulos editados con el sello del Centro de Investigación y Estudios Superiores en Antropología Social (CIESAS)\, con descuentos especiales.  \n \n\n\n\nA diecisiete años de su primera edición en abril de 2009\, con la finalidad de festejar el Día Internacional del Libro y del Derecho de Autor\, instituido por la UNESCO\, la Fiesta del libro y la rosa UNAM se ha consolidado como una de las ferias editoriales más importantes en la Ciudad de México. Ofrece actividades culturales tales como presentaciones editoriales\, conversatorios\, mesas de diálogo\, talleres\, narraciones orales\, exposiciones\, obras de teatro\, así como la presencia de sellos editoriales con su amplia oferta literaria\, teniendo como sede principal el Centro Cultural Universitario a la cual se han sumado otras sedes de la UNAM.
URL:https://ciesas.edu.mx/event/el-ciesas-en-la-fiesta-del-libro-y-la-rosa-2026/
LOCATION:Centro Cultural Universitario UNAM\, Av. del Iman 5\, Cd. Universitaria\, Coyoacán\, Ciudad de México\, 04510\, México
CATEGORIES:Festival/Feria
ATTACH;FMTTYPE=image/jpeg:https://ciesas.edu.mx/wp-content/uploads/2026/04/Banner1200Web_FiestaLibro_y_LaRosa2026UNAM-CIESAS-e1776376016722.jpg
END:VEVENT
END:VCALENDAR