BEGIN:VCALENDAR
VERSION:2.0
PRODID:-//CIESAS - ECPv6.15.20//NONSGML v1.0//EN
CALSCALE:GREGORIAN
METHOD:PUBLISH
X-WR-CALNAME:CIESAS
X-ORIGINAL-URL:https://ciesas.edu.mx
X-WR-CALDESC:Eventos para CIESAS
REFRESH-INTERVAL;VALUE=DURATION:PT1H
X-Robots-Tag:noindex
X-PUBLISHED-TTL:PT1H
BEGIN:VTIMEZONE
TZID:America/Mexico_City
BEGIN:STANDARD
TZOFFSETFROM:-0600
TZOFFSETTO:-0600
TZNAME:CST
DTSTART:20240101T000000
END:STANDARD
END:VTIMEZONE
BEGIN:VEVENT
DTSTART;TZID=America/Mexico_City:20251210T100000
DTEND;TZID=America/Mexico_City:20251210T130000
DTSTAMP:20260425T075057
CREATED:20251205T202108Z
LAST-MODIFIED:20251205T202108Z
UID:35938-1765360800-1765371600@ciesas.edu.mx
SUMMARY:Prácticas de cuidado en los territorios mixtecos
DESCRIPTION:El Seminario Permanente: Subjetividad\, Cuerpos y Lenguajes presenta Los dueños del lugar: Caminos\, parajes y prácticas de cuidado en los territorios mixtecos\, a cargo de la Mtra. Betsabé Piña Morales del CIESAS CDMX. \nEl público interesado podrá asistir a las instalaciones del CIESAS CDMX \, o bien seguir la transmisión en vivo por Zoom\, para solicitar la liga es necesario solicitarla a jsanchez@ciesas.edu.mx. \nEl Seminario busca profundizar en la relación entre subjetividad\, cuerpos y lenguajes\, así como su aplicación heurística en diversos campos convergentes: psicoanálisis\, antropología\, sociología y ciencias médicas. \n \n  \n 
URL:https://ciesas.edu.mx/event/practicas-de-cuidado-en-los-territorios-mixtecos/
LOCATION:Sala Juárez del CIESAS\, Juárez 87\, Tlalpan\, Tlalpan\, Ciudad de México\, MEXICO CITY\, 14000\, México
CATEGORIES:Seminario
ATTACH;FMTTYPE=image/jpeg:https://ciesas.edu.mx/wp-content/uploads/2025/12/Banner1200WebSeminarioSubjetividadCuerposLenguajesdiciembre2025CIESAS-e1764965995921.jpg
END:VEVENT
END:VCALENDAR