BEGIN:VCALENDAR
VERSION:2.0
PRODID:-//CIESAS - ECPv6.15.20//NONSGML v1.0//EN
CALSCALE:GREGORIAN
METHOD:PUBLISH
X-ORIGINAL-URL:https://ciesas.edu.mx
X-WR-CALDESC:Eventos para CIESAS
REFRESH-INTERVAL;VALUE=DURATION:PT1H
X-Robots-Tag:noindex
X-PUBLISHED-TTL:PT1H
BEGIN:VTIMEZONE
TZID:America/Mexico_City
BEGIN:STANDARD
TZOFFSETFROM:-0600
TZOFFSETTO:-0600
TZNAME:CST
DTSTART:20240101T000000
END:STANDARD
END:VTIMEZONE
BEGIN:VEVENT
DTSTART;TZID=America/Mexico_City:20251105T120000
DTEND;TZID=America/Mexico_City:20251105T140000
DTSTAMP:20260425T212331
CREATED:20251029T203925Z
LAST-MODIFIED:20251029T205243Z
UID:35711-1762344000-1762351200@ciesas.edu.mx
SUMMARY:Caminos hacia la revitalización afrobrasileña
DESCRIPTION:El Seminario Permanente de Lingüística Antropológica (Posgrado en Linguística Indoamericana) invita a la sesión ‘Inganazambi: Caminos hacia la revitalización de una lengua afrobrasileña\, que será encabezada por la profesora Maria Luisa Freitas. \nDurante la ponencia se presentarán los enfoques metodológicos en el establecimiento de una planificación lingüística comunitaria para la revitalización de la Língua do Negro da Costa (también llamada Língua da Costa o Gíria da Tabatinga). Esta lengua fue descrita en la década de 1980 por la profesora Sonia Queiroz y\, según la investigadora\, es ‘una lengua afrobrasileña con una base gramatical del portugués rural brasileño y vocabulario africano\, aparentemente basado en el kimbundu’ (Queiroz\, 1998\, 2002). \nEl proyecto investiga también importantes aspectos ontológicos en relación a una intrincada dinámica de transmisión de conocimiento y comunicación entre humanos y las entidades más-que-humanas \nLa sesión se llevará a cabo en la Sala Luis Reyes García del CIESAS CDMX y también podrá seguirse vía Facebook Live.  \n \nLa Dra. Maria Luisa Freitas es profesora adjunta de Lingüística en la Universidad Federal de Pernambuco (UFPE). Profesora titular del Programa de Posgrado en Lenguas (PPGL) de la UFPE. Actualmente es investigadora postdoctoral en el Programa de Posgrado en Antropología Social de la Universidad Federal de São Carlos (UFSCar) y cumple una estancia de investigación en el Centro de Investigaciones y Estudios Superiores en Antropología Social (CIESAS). Lidera el Núcleo de Estudos Indígenistas (NEI) de la Universidad Federal de Pernambuco (UFPE). Coordina la Comisión de Revitalización Lingüística y es miembro de la Comisión de Lenguas Indígenas\, ambas afiliadas a la Asociación Brasileña de Lingüística (ABRALIN).
URL:https://ciesas.edu.mx/event/caminos-hacia-la-revitalizacion-afrobrasilena/
LOCATION:Auditorio Luis Reyes García\, Juárez 222\, Tlalpan\, Tlalpan\, CDMX\, 14000\, Mexico
CATEGORIES:Seminario
ATTACH;FMTTYPE=image/jpeg:https://ciesas.edu.mx/wp-content/uploads/2025/10/Banner1200WebLinguisticaAntropologica2025NoviembreCIESAS-e1761770989626.jpg
ORGANIZER;CN="Lourdes de Le%C3%B3n Pasquel":MAILTO:sniasistente@gmail.com
END:VEVENT
END:VCALENDAR