BEGIN:VCALENDAR
VERSION:2.0
PRODID:-//CIESAS - ECPv6.15.20//NONSGML v1.0//EN
CALSCALE:GREGORIAN
METHOD:PUBLISH
X-ORIGINAL-URL:https://ciesas.edu.mx
X-WR-CALDESC:Eventos para CIESAS
REFRESH-INTERVAL;VALUE=DURATION:PT1H
X-Robots-Tag:noindex
X-PUBLISHED-TTL:PT1H
BEGIN:VTIMEZONE
TZID:America/Mexico_City
BEGIN:STANDARD
TZOFFSETFROM:-0600
TZOFFSETTO:-0600
TZNAME:CST
DTSTART:20250101T000000
END:STANDARD
END:VTIMEZONE
BEGIN:VEVENT
DTSTART;TZID=America/Mexico_City:20260317T110000
DTEND;TZID=America/Mexico_City:20260317T120000
DTSTAMP:20260424T215851
CREATED:20260304T215950Z
LAST-MODIFIED:20260304T215950Z
UID:36310-1773745200-1773748800@ciesas.edu.mx
SUMMARY:El chinanteco fuera de casa
DESCRIPTION:El Seminario Bilingüismos\, identidades y reproducción sociolingüística de la población indígena en contextos urbanos invita a su ponencia El chinanteco fuera de casa “xiaˈ kwooˈ\, a cargo del Dr. Miguel Castellanos Cruz\, la cual podrá seguirse a través de la plataforma Zoom. \nEl presente seminario tiene como objetivo generar un espacio de diálogo\, discusión y reflexión sobre la migración de poblaciones indígenas hacia entornos urbanos. El seminario será en modalidad virtual y busca reunir a académicos\, estudiantes y hablantes de lenguas indígenas interesados en compartir sus investigaciones o avances de investigación. Se abordarán varias temáticas en torno a las dinámicas migratorias de las poblaciones indígenas tales como los siguientes: a) patrones migratorios de las poblaciones indígenas; b) la situación sociolingüística de las poblaciones indígenas; y c) bilinguismo indígena\, entre otras. \nID de reunión: 815 6011 5438\nCódigo de acceso: 845568 \nMayores informes a jaimei.chi.pech@gmail.com
URL:https://ciesas.edu.mx/event/el-chinanteco-fuera-de-casa/
CATEGORIES:Seminario
ATTACH;FMTTYPE=image/jpeg:https://ciesas.edu.mx/wp-content/uploads/2026/03/Banner1200_Chinanteco_BilinguismosIdentidades2026-e1772661558528.jpg
ORGANIZER;CN="Seminario Biling%C3%BCismos%2C identidades y reproducci%C3%B3n socioling%C3%BC%C3%ADstica de la poblaci%C3%B3n ind%C3%ADgena en contextos urbanos":MAILTO:jaimei.chi.pech@gmail.com
END:VEVENT
END:VCALENDAR