BEGIN:VCALENDAR
VERSION:2.0
PRODID:-//CIESAS - ECPv6.15.20//NONSGML v1.0//EN
CALSCALE:GREGORIAN
METHOD:PUBLISH
X-WR-CALNAME:CIESAS
X-ORIGINAL-URL:https://ciesas.edu.mx
X-WR-CALDESC:Eventos para CIESAS
REFRESH-INTERVAL;VALUE=DURATION:PT1H
X-Robots-Tag:noindex
X-PUBLISHED-TTL:PT1H
BEGIN:VTIMEZONE
TZID:America/Mexico_City
BEGIN:STANDARD
TZOFFSETFROM:-0600
TZOFFSETTO:-0600
TZNAME:CST
DTSTART:20250101T000000
END:STANDARD
END:VTIMEZONE
BEGIN:VEVENT
DTSTART;TZID=America/Mexico_City:20260212T110000
DTEND;TZID=America/Mexico_City:20260212T110000
DTSTAMP:20260425T223426
CREATED:20260205T205733Z
LAST-MODIFIED:20260211T192201Z
UID:36156-1770894000-1770894000@ciesas.edu.mx
SUMMARY:El Códice de Iztapalapa
DESCRIPTION:El Seminario Tlatemoani invita a la ponencia El Códice de Iztapalapa. Método de lectura\, a cargo de la Mtra. Raquel Crespo Chiapa\, investigadora de la Escuela Nacional de Antropología e Historia (ENAH)\, especializada en estudios de códices coloniales y manuscritos indígenas\, particularmente vinculados a la región de Iztapalapa y los documentos Techialoyan. \nEl Códice de Iztapalapa es más que un manuscrito\, es la voz de un pueblo que narró su historia en papel amate. La ponente abordará cómo este documento revela la vida\, el territorio y la memoria de Iztapalapa en la época virreinal\, acercándonos a nuestro patrimonio cultural de manera viva y cercana. El público interesado podrá seguir la transmisión vía Zoom. \n \nEl Seminario Tlatemoani de CIESAS tiene como objetivo la presentación y discusión académica de avances de investigación relacionados con el estudio de la imagen en códices\, pintura mural\, arqueología y textiles. Es un espacio donde se analizan aspectos simbólicos y culturales de los manuscritos indígenas novohispanos\, explorando su reelaboración y reproducción cultural. \n  \n  \n 
URL:https://ciesas.edu.mx/event/el-codice-de-iztapalapa/
CATEGORIES:Seminario
ATTACH;FMTTYPE=image/jpeg:https://ciesas.edu.mx/wp-content/uploads/2026/02/Banner1200_SeminarioTlatemoani_CodiceIztapalapa-e1770837696730.jpg
ORGANIZER;CN="Seminario Tlatemoani":MAILTO:quecholli@gmail.com
END:VEVENT
END:VCALENDAR