BEGIN:VCALENDAR
VERSION:2.0
PRODID:-//CIESAS - ECPv6.15.20//NONSGML v1.0//EN
CALSCALE:GREGORIAN
METHOD:PUBLISH
X-WR-CALNAME:CIESAS
X-ORIGINAL-URL:https://ciesas.edu.mx
X-WR-CALDESC:Eventos para CIESAS
REFRESH-INTERVAL;VALUE=DURATION:PT1H
X-Robots-Tag:noindex
X-PUBLISHED-TTL:PT1H
BEGIN:VTIMEZONE
TZID:America/Mexico_City
BEGIN:DAYLIGHT
TZOFFSETFROM:-0600
TZOFFSETTO:-0500
TZNAME:CDT
DTSTART:20210404T080000
END:DAYLIGHT
BEGIN:STANDARD
TZOFFSETFROM:-0500
TZOFFSETTO:-0600
TZNAME:CST
DTSTART:20211031T070000
END:STANDARD
BEGIN:DAYLIGHT
TZOFFSETFROM:-0600
TZOFFSETTO:-0500
TZNAME:CDT
DTSTART:20220403T080000
END:DAYLIGHT
BEGIN:STANDARD
TZOFFSETFROM:-0500
TZOFFSETTO:-0600
TZNAME:CST
DTSTART:20221030T070000
END:STANDARD
END:VTIMEZONE
BEGIN:VEVENT
DTSTART;TZID=America/Mexico_City:20220830T100000
DTEND;TZID=America/Mexico_City:20220904T190000
DTSTAMP:20260424T124636
CREATED:20220830T184608Z
LAST-MODIFIED:20220830T184803Z
UID:25190-1661853600-1662318000@ciesas.edu.mx
SUMMARY:CIESAS en la FILUNI 2022
DESCRIPTION:La Feria Internacional del Libro de las Universitarias y de los Universitarios (Filuni) es juventud y descubrimiento\, es acción desde la lectura\, es curiosidad y experiencia. Filuni es una celebración única en su tipo\, donde las comunidades de preparatoria\, bachillerato y universidad hacen del conocimiento una fiesta.  \n\n\n\n\n\n\n\nEn su edición 2022 se reinventa\, tras el difícil periodo de confinamiento a causa de la pandemia\, busca ser un espacio de reencuentro con la comunidad universitaria y la cultura. Se llevará a cabo del 30 de agosto al 4 de septiembre de 2022 y tendrá como sede el Centro de Exposiciones y Congresos de la UNAM. \n\n\n\nA este espíritu de celebración y esperanza se unen la Universidad de Costa Rica y la Universidad Complutense de Madrid como invitadas especiales de esta edición\, con un atractivo y sustancial programa cultural y académico\, que ofrecerá talleres\, charlas\, conferencias\, muestras de cine y eventos artísticos\, además de la exhibición de todo su catalogo editorial.
URL:https://ciesas.edu.mx/event/ciesas-en-la-filuni-2022/
LOCATION:Centro de Exposiciones y Congresos UNAM\, Av. del Iman 5\, Ciudad Universitaria\, Ciudad de México\, 04530\, México
CATEGORIES:Festival/Feria
ATTACH;FMTTYPE=image/jpeg:https://ciesas.edu.mx/wp-content/uploads/2022/08/BannerFILUNI_2022-CIESAS.jpg
END:VEVENT
BEGIN:VEVENT
DTSTART;TZID=America/Mexico_City:20220908T160000
DTEND;TZID=America/Mexico_City:20220908T180000
DTSTAMP:20260424T124636
CREATED:20220824T163000Z
LAST-MODIFIED:20220831T164536Z
UID:25161-1662652800-1662660000@ciesas.edu.mx
SUMMARY:La diversidad cultural y la producción de la verdad
DESCRIPTION:El GIASF presenta la cuarta entrega del Seminario Alejandro Arteaga. Diálogo de saberes en torno a las nociones de verdad en México y América Latina. Bajo el título La diversidad cultural y la producción de la verdad\, la sesión contará con la participación de Guadalupe Pérez\, Natalia de Marinis y Marisol Alcocer\, tres ponentes que han trabajado de forma activa sobre la temática.
URL:https://ciesas.edu.mx/event/seminario-alejandro-arteaga-sesion-4/
LOCATION:CDMX
CATEGORIES:Seminario
ATTACH;FMTTYPE=image/jpeg:https://ciesas.edu.mx/wp-content/uploads/2022/08/Banner_Seminario-Alejandro-Arteaga.jpg
ORGANIZER;CN="GIASF":MAILTO:seminario.giasf@gmail.com
END:VEVENT
BEGIN:VEVENT
DTSTART;TZID=America/Mexico_City:20220908T180000
DTEND;TZID=America/Mexico_City:20220908T180000
DTSTAMP:20260424T124636
CREATED:20220901T170000Z
LAST-MODIFIED:20220829T194222Z
UID:25177-1662660000-1662660000@ciesas.edu.mx
SUMMARY:Niñez\, adolescencia y violencia crónica en el noreste. Mesa 2
DESCRIPTION:El CIESAS Noreste presenta Niñez\, adolescencia y desaparición forzada de personas\, ciclo de mesas redondas en el que se busca dar a conocer los resultados del proyecto Conacyt «Infancias amputadas\, adolescencias en riesgo. Niñez y violencia crónica en el noreste» coordinado por la Dra. Séverine Durin.
URL:https://ciesas.edu.mx/event/ninez-adolescencia-y-violencia-cronica-en-el-noreste-mesa-2/
LOCATION:CIESAS Noreste\, Prolongación José María Morelos #822\, Barrio Antiguo\, Monterrey\, Nuevo León\, 64000\, México
CATEGORIES:Conferencia
ATTACH;FMTTYPE=image/jpeg:https://ciesas.edu.mx/wp-content/uploads/2022/08/BannerNinezAdolescencia_y_DesaparicionForzadaDePersonas.jpg
ORGANIZER;CN="CIESAS Noreste":MAILTO:recepcion.noreste@ciesas.edu.mx
END:VEVENT
BEGIN:VEVENT
DTSTART;TZID=America/Mexico_City:20220914T120000
DTEND;TZID=America/Mexico_City:20220914T120000
DTSTAMP:20260424T124636
CREATED:20220907T151242Z
LAST-MODIFIED:20220907T151244Z
UID:25435-1663156800-1663156800@ciesas.edu.mx
SUMMARY:La perspectiva interseccional: recorridos\, alcances y desafíos
DESCRIPTION:El Comité de Ética del CIESAS presenta Charlas virtuales en temas de género con La perspectiva interseccional: recorridos\, alcances y desafíos\, sesión a cargo de la investigadora Natalia De Marinis.
URL:https://ciesas.edu.mx/event/charlas-virtuales-temas-de-genero-sesion11/
LOCATION:CDMX
CATEGORIES:Conversatorio
ATTACH;FMTTYPE=image/jpeg:https://ciesas.edu.mx/wp-content/uploads/2022/09/Banner_ComiteDeEtica.jpg
END:VEVENT
BEGIN:VEVENT
DTSTART;TZID=America/Mexico_City:20220922T110000
DTEND;TZID=America/Mexico_City:20220922T110000
DTSTAMP:20260424T124636
CREATED:20220913T153532Z
LAST-MODIFIED:20220913T153532Z
UID:25476-1663844400-1663844400@ciesas.edu.mx
SUMMARY:El paisaje lacustre de Yurirápundaro (S XVI-XVII) reconstrucción de un orden territorial novohispano desde las geohumanidades digitales.
DESCRIPTION:El Seminario Interinstitucional Ritualidad\, Imagen y Etnografía del Mundo Indígena presenta «El paisaje lacustre de Yurirápundaro (S XVI-XVII) reconstrucción de un orden territorial novohispano desde las geohumanidades digitales»\, conferencia a cargo de la Dra. Mariana Favila Vázquez del CIESAS Ciudad de México.
URL:https://ciesas.edu.mx/event/seminario-interinstitucional-ritualidad-imagen-etnografia-mundo-indigena-sesion-22sep/
LOCATION:CDMX
CATEGORIES:Seminario
ATTACH;FMTTYPE=image/jpeg:https://ciesas.edu.mx/wp-content/uploads/2022/09/BannerSeminario-Interinstitucional.jpg
END:VEVENT
BEGIN:VEVENT
DTSTART;TZID=America/Mexico_City:20220927T170000
DTEND;TZID=America/Mexico_City:20220927T170000
DTSTAMP:20260424T124636
CREATED:20220907T145720Z
LAST-MODIFIED:20220907T150141Z
UID:25425-1664298000-1664298000@ciesas.edu.mx
SUMMARY:Seminario Interinstitucional de Antropología y Etnografía de la Educación. Sesión 1
DESCRIPTION:Seminario Interinstitucional de Antropología y Etnografía de la Educación presenta su primera sesión titulada Prácticas de re-existencia\, género e inseguridad en contextos de violencia escolar por el crimen organizado de Michoacán.  \n\n\n\nEl acceso es abierto al público\, pero deberá registrarse previamente para obtener la liga de Zoom enviando un  correo a semi.antropologiadelaeducacion@gmail.com \n\n\n\nPresentacion Seminario SIAEEDescarga
URL:https://ciesas.edu.mx/event/seminario-interinstitucional-de-antropologia-y-etnografia-de-la-educacion-sesion-1/
LOCATION:CDMX
CATEGORIES:Seminario
ATTACH;FMTTYPE=image/jpeg:https://ciesas.edu.mx/wp-content/uploads/2022/09/SeminarioInteInstitucional_AntropologíaEtnografíaDeLaEducacion.jpg
ORGANIZER;CN="Seminario Interinstitucional de Antropolog%C3%ADa y Etnograf%C3%ADa de la Educaci%C3%B3n":MAILTO:semi.antropologiadelaeducacion@gmail.com
END:VEVENT
BEGIN:VEVENT
DTSTART;TZID=America/Mexico_City:20220928T120000
DTEND;TZID=America/Mexico_City:20220928T140000
DTSTAMP:20260424T124636
CREATED:20220923T130800Z
LAST-MODIFIED:20220922T184745Z
UID:25172-1664366400-1664373600@ciesas.edu.mx
SUMMARY:Seminario Permanente Agua y Cultura
DESCRIPTION:Quinta sesión del año del Seminario Permanente Agua y Cultura\, coordinado por el profesor investigador Daniel Murillo Licea. \n\n\n\nII Panel de discusión sobre manejo comunitario del agua.  Presenta: Daniel Murillo Licea (CIESAS Ciudad de México)\, Margarita Gutiérrez Vizcaíno y José Luis Méndez Rodríguez (Cántaro Azul) \n\n\n\n \n\n\n\n\n\n\n\nLos objetivos del seminario son promover\, reconocer y comprender los vínculos entre el agua\, el ambiente y la diversidad cultural. También proporcionar una definición de la cultura hídrica al conjunto de los gestores del agua\, académicos\, sociedad civil\, estudiosos de las ciencias sociales y ciencias del agua que permita construir una serie de marcos teóricos conceptuales desde una perspectiva latinoamericana compleja e integradora.
URL:https://ciesas.edu.mx/event/seminario-permanente-agua-y-cultura-sesion5/
LOCATION:CDMX
CATEGORIES:Seminario
ATTACH;FMTTYPE=image/jpeg:https://ciesas.edu.mx/wp-content/uploads/2022/08/BannerBannersSeminarioPermanenteAgua_y_CulturaSeptiembre2022..jpg
END:VEVENT
BEGIN:VEVENT
DTSTART;TZID=America/Mexico_City:20220928T130000
DTEND;TZID=America/Mexico_City:20220928T150000
DTSTAMP:20260424T124636
CREATED:20220923T182728Z
LAST-MODIFIED:20220923T214830Z
UID:25569-1664370000-1664377200@ciesas.edu.mx
SUMMARY:Adquisición de verbos posicionales
DESCRIPTION:El Seminario Permanente de Lingüística Antropológica presenta «Adquisición de verbos posicionales en niños bilingües en un contexto de desplazamiento lingüístico en una comunidad zapoteca de Oaxaca»\, ponencia a cargo de la Dra. Ana Alonso Ortiz. \n\n\n\nLa conferencia será vía Zoom con registro previo en el correo sniasistente@gmail.com
URL:https://ciesas.edu.mx/event/adquisicion-de-verbos-posicionales/
LOCATION:CDMX
CATEGORIES:Seminario
ATTACH;FMTTYPE=image/jpeg:https://ciesas.edu.mx/wp-content/uploads/2022/09/BannerSeminarioPermanenteDeLinguistica_AdquisisionDeVerbos-CIESAS-Zapoteca-Oaxaca.jpg
ORGANIZER;CN="Seminario Permanente de Ling%C3%BC%C3%ADstica%C2%A0Antropol%C3%B3gica":MAILTO:sniasistente@gmail.com
END:VEVENT
BEGIN:VEVENT
DTSTART;TZID=America/Mexico_City:20220929T093000
DTEND;TZID=America/Mexico_City:20220930T180000
DTSTAMP:20260424T124636
CREATED:20220923T192359Z
LAST-MODIFIED:20220923T215925Z
UID:25577-1664443800-1664560800@ciesas.edu.mx
SUMMARY:Foro final de Mujeres Indígenas Posdoctorantes STEM
DESCRIPTION:El CIESAS presenta el Foro final de Mujeres Indígenas Posdoctorantes STEM\, evento con el cual concluye el programa que tuvo como objetivo general construir capacidades entre las mujeres indígenas en México para que se conviertan en líderes en campos STEM.  \n\n\n\nEl foro se realizará los días 29 y 30 de septiembre\, en la ciudad de Mérida con transmisión en vivo a través del canal de YouTube del CIESAS. El programa incluye la presentación de resultados de los proyectos académicos de las 12 becarias del Programa\, de las convocatorias 2018 y 2019\, así como de los proyectos comunitarios que llevaron a cabo.
URL:https://ciesas.edu.mx/event/foro-final-de-mujeres-indigenas-posdoctorantes-stem/
LOCATION:CDMX
CATEGORIES:Conferencia
ATTACH;FMTTYPE=image/jpeg:https://ciesas.edu.mx/wp-content/uploads/2022/09/BannerForoFinalDeMujeresIndigenasPosdoctorantesSTEM.jpg
END:VEVENT
BEGIN:VEVENT
DTSTART;TZID=America/Mexico_City:20220929T110000
DTEND;TZID=America/Mexico_City:20220929T110000
DTSTAMP:20260424T124636
CREATED:20220920T163000Z
LAST-MODIFIED:20220920T205823Z
UID:25530-1664449200-1664449200@ciesas.edu.mx
SUMMARY:Seminario Binacional Diversidad sin Violencia
DESCRIPTION:El Seminario Binacional Diversidad sin Violencia presenta las ponencias: \n\n\n\nExclusiones sociales por cuestiones de género: migrantes transexuales en Ciudad Juárez y El Paso. \n\n\n\n Aproximaciones a la diversidad de género en el islam contemporáneo. \n\n\n\nTransmisión vía Zoom. Se requiere registro previo en sads542@yahoo.com.mx
URL:https://ciesas.edu.mx/event/seminario-binacional-diversidad-sin-violencia-sesion-29-sep/
LOCATION:CDMX
CATEGORIES:Seminario
ATTACH;FMTTYPE=image/jpeg:https://ciesas.edu.mx/wp-content/uploads/2022/09/BannerSeminario-Diversidad-sin-Violencia-invita-a-sesión-sobre-el-feminicidio.jpg
END:VEVENT
BEGIN:VEVENT
DTSTART;TZID=America/Mexico_City:20220930T100000
DTEND;TZID=America/Mexico_City:20220930T100000
DTSTAMP:20260424T124636
CREATED:20220905T171851Z
LAST-MODIFIED:20220905T171853Z
UID:25408-1664532000-1664532000@ciesas.edu.mx
SUMMARY:XV Aniversario de CCiudadano
DESCRIPTION:Este septiembre\, CCiudadano. Construcción y articulación de lo público\, programa especial del CIESAS\, que nació como Centro de Contraloría Social y Estudios de la Construcción Democrática\, cumple XV años realizando incidencia en los procesos de Control Democrático de lo Público. \n\n\n\nComo parte de las celebraciones se llevará a cabo el Conversatorio en el marco del XV Aniversario de CCiudadano.
URL:https://ciesas.edu.mx/event/xv-aniversario-de-cciudadano/
LOCATION:Casa Chata\, Miguel Hidalgo s/n\, Tlalpan Centro\, Tlalpan\, Ciudad de México\, 14000\, México
CATEGORIES:Conversatorio
ATTACH;FMTTYPE=image/jpeg:https://ciesas.edu.mx/wp-content/uploads/2022/09/Banner_AniversarioCCiudadano.jpg
END:VEVENT
BEGIN:VEVENT
DTSTART;TZID=America/Mexico_City:20220930T100000
DTEND;TZID=America/Mexico_City:20220930T130000
DTSTAMP:20260424T124636
CREATED:20220919T160000Z
LAST-MODIFIED:20220914T200810Z
UID:25509-1664532000-1664542800@ciesas.edu.mx
SUMMARY:Reformas y política minera a fines del siglo XVIII. Los Subdelegados como jueces de minas en el Río de la Plata y Nueva España
DESCRIPTION:El Seminario Historia de la Minería en México y Regiones Comparadas presenta Reformas y política minera a fines del siglo XVIII. Los Subdelegados como jueces de minas en el Río de la Plata y Nueva España\, ponencia a cargo de María Concepción Gavira Márquez  de la Facultad de Historias de la Universidad Michoacana de San Nicolás de Hidalgo).
URL:https://ciesas.edu.mx/event/seminario-historia-mineria-mexico-y-regiones-comparadas-sesion-30-sep/
LOCATION:CDMX
CATEGORIES:Seminario
ATTACH;FMTTYPE=image/jpeg:https://ciesas.edu.mx/wp-content/uploads/2022/09/BannerSeminarioHistoriaDeLaMineria_Reformas_y_PoliticaMinera.jpg
END:VEVENT
BEGIN:VEVENT
DTSTART;TZID=America/Mexico_City:20220930T170000
DTEND;TZID=America/Mexico_City:20220930T170000
DTSTAMP:20260424T124636
CREATED:20220927T214524Z
LAST-MODIFIED:20220927T214526Z
UID:25599-1664557200-1664557200@ciesas.edu.mx
SUMMARY:Reconstrucción de comunidad en el municipio de Ixhuatlán de Madero\, Veracruz
DESCRIPTION:El Seminario Permanente de Estudios sobre la Huaxteca «Lorenzo Ochoa Salas» presenta Reconstrucción de comunidad en el municipio de Ixhuatlán de Madero\, Veracruz: comuneros\, ejidatarios\, propietarios y campesinos ante los proyectos posrevolucionarios\, 1922-1992\, a cargo de la Dra. Jacinta Toribio Torres (Universidad Veracruzana Intercultural\, Sede Regional Huasteca).
URL:https://ciesas.edu.mx/event/seminario-permanente-estudios-huaxteca-30-sep/
LOCATION:CDMX
CATEGORIES:Conferencia
ATTACH;FMTTYPE=image/jpeg:https://ciesas.edu.mx/wp-content/uploads/2022/09/BannerSeminarioPermanenteDeEstudiosSobreLaHuaxteca.jpg
END:VEVENT
END:VCALENDAR