BEGIN:VCALENDAR
VERSION:2.0
PRODID:-//CIESAS - ECPv6.15.20//NONSGML v1.0//EN
CALSCALE:GREGORIAN
METHOD:PUBLISH
X-WR-CALNAME:CIESAS
X-ORIGINAL-URL:https://ciesas.edu.mx
X-WR-CALDESC:Eventos para CIESAS
REFRESH-INTERVAL;VALUE=DURATION:PT1H
X-Robots-Tag:noindex
X-PUBLISHED-TTL:PT1H
BEGIN:VTIMEZONE
TZID:America/Mexico_City
BEGIN:DAYLIGHT
TZOFFSETFROM:-0600
TZOFFSETTO:-0500
TZNAME:CDT
DTSTART:20210404T080000
END:DAYLIGHT
BEGIN:STANDARD
TZOFFSETFROM:-0500
TZOFFSETTO:-0600
TZNAME:CST
DTSTART:20211031T070000
END:STANDARD
BEGIN:DAYLIGHT
TZOFFSETFROM:-0600
TZOFFSETTO:-0500
TZNAME:CDT
DTSTART:20220403T080000
END:DAYLIGHT
BEGIN:STANDARD
TZOFFSETFROM:-0500
TZOFFSETTO:-0600
TZNAME:CST
DTSTART:20221030T070000
END:STANDARD
END:VTIMEZONE
BEGIN:VEVENT
DTSTART;TZID=America/Mexico_City:20221005T100000
DTEND;TZID=America/Mexico_City:20221026T100000
DTSTAMP:20260422T073220
CREATED:20220922T155810Z
LAST-MODIFIED:20220922T155830Z
UID:25552-1664964000-1666778400@ciesas.edu.mx
SUMMARY:El litio. Una minería esencial de la globalización
DESCRIPTION:El INAH y el CIESAS presenta el Ciclo de Conferencias «El litio. Una minería esencial de la globalización» que se llevará a cabo los miércoles de octubre\, en modalidad virtual.
URL:https://ciesas.edu.mx/event/litio-una-mineria-esencial-de-la-globalizacion/
LOCATION:Ciudad de México
CATEGORIES:Ciclo
ATTACH;FMTTYPE=image/jpeg:https://ciesas.edu.mx/wp-content/uploads/2022/09/BannerLitio.jpg
END:VEVENT
BEGIN:VEVENT
DTSTART;TZID=America/Mexico_City:20221006T090000
DTEND;TZID=America/Mexico_City:20221016T170000
DTSTAMP:20260422T073220
CREATED:20221003T155513Z
LAST-MODIFIED:20221003T155515Z
UID:25691-1665046800-1665939600@ciesas.edu.mx
SUMMARY:El CIESAS en la FILAH
DESCRIPTION:Del 6 al 16 de octubre el CIESAS estará presente en el Stand 72 de la Feria Internacional del Libro de Antropología e Historia (FILAH). Además de tener a la venta las novedades editoriales y su catálogo de publicaciones enfocadas a la Antropología\, Historia y Ciencias Sociales\, tendrá dos presentaciones editoriales.  \n\n\n\n\n\n\n\nEn su edición 33\, la FILAH se fortalece como un gran foro para la investigación\, el pensamiento crítico y la reflexión en torno a los temas inherentes a lo humano y su devenir. Tras dos ediciones en línea\, regresa al Museo Nacional de Antropología\, para dar cabida a la oferta editorial de 70 de los principales sellos del país.
URL:https://ciesas.edu.mx/event/ciesas-en-la-filah/
LOCATION:Museo Nacional de Antropología\, Av. Paseo de la Reforma y Calzada Gandhi s/n\, Miguel Hidalgo\, Cidudad de México\, 11560\, México
CATEGORIES:Festival/Feria,Presentación editorial
ATTACH;FMTTYPE=image/jpeg:https://ciesas.edu.mx/wp-content/uploads/2022/10/BannerPresentacionesEditoriales_FILA33_CIESAS.jpg
ORGANIZER;CN="Feria Internacional del Libro de Antropolog%C3%ADa e Historia (FILAH)":MAILTO:feriafilah@inah.gob.mx
END:VEVENT
BEGIN:VEVENT
DTSTART;TZID=America/Mexico_City:20221006T100000
DTEND;TZID=America/Mexico_City:20221006T100000
DTSTAMP:20260422T073220
CREATED:20221003T165000Z
LAST-MODIFIED:20221004T192147Z
UID:25666-1665050400-1665050400@ciesas.edu.mx
SUMMARY:Dinámicas sociales\, exclusión y racismo antinmigrante
DESCRIPTION:El Seminario Interinstitucional Movilidades en Contextos Migratorios presenta el Coloquio Dinámicas sociales\, exclusión y racismo antinmigrante.  \n\n\n\nParticipan: Tanya Golash\, Yajaira Ceciliano\, Francisco Torres\, Hiroko Asakura y Patricia Torres. \n\n\n\nComentaristas: Alejandra Díaz de León y Laurent Faret. \n\n\n\nModera: Magdalena Barros.
URL:https://ciesas.edu.mx/event/coloquio-dinamicas-sociales/
LOCATION:Ciudad de México
CATEGORIES:Coloquio,Seminario
ATTACH;FMTTYPE=image/jpeg:https://ciesas.edu.mx/wp-content/uploads/2022/04/BannerMovilidadesEnContextosMigratorios_octubre_2022-1.jpg
END:VEVENT
BEGIN:VEVENT
DTSTART;TZID=America/Mexico_City:20221006T160000
DTEND;TZID=America/Mexico_City:20221006T180000
DTSTAMP:20260422T073220
CREATED:20220928T205641Z
LAST-MODIFIED:20220928T210134Z
UID:25612-1665072000-1665079200@ciesas.edu.mx
SUMMARY:La producción de la verdad en los casos de desaparición forzada
DESCRIPTION:El GIASF presenta la quinta sesión del Seminario Alejandro Arteaga\, el cual abordará el tema La producción de la verdad en los casos de desaparición forzada. Contaremos con la participación de tres ponentes que han trabajado y participando de forma activa sobre la temática. \n\n\n\nSe otorgará constancia de asistencia a todas las personas que estén presentes en el 80% de las sesiones. \n\n\n\n\n\n\n\n\n\n\n\n\nFlorildalma Pérez\n\n\n\nAriana Denisse García Bosque\n\n\n\nLuisa Guadalupe Villa Grego\nPonentes
URL:https://ciesas.edu.mx/event/seminario-alejandro-arteaga-quinta-sesion/
LOCATION:Ciudad de México
CATEGORIES:Seminario
ATTACH;FMTTYPE=image/jpeg:https://ciesas.edu.mx/wp-content/uploads/2022/09/BannerSeminarioGIAFS-Sesion5.jpg
ORGANIZER;CN="GIASF":MAILTO:seminario.giasf@gmail.com
END:VEVENT
BEGIN:VEVENT
DTSTART;TZID=America/Mexico_City:20221006T180000
DTEND;TZID=America/Mexico_City:20221006T180000
DTSTAMP:20260422T073220
CREATED:20220919T163000Z
LAST-MODIFIED:20220914T200838Z
UID:25515-1665079200-1665079200@ciesas.edu.mx
SUMMARY:Niñez\, adolescencia y violencia crónica en el noreste. Mesa 3
DESCRIPTION:El CIESAS Noreste presenta la tercera mesa redonda de Niñez\, adolescencia y desaparición forzada de personas\, ciclo que busca dar a conocer los resultados del proyecto Conacyt «Infancias amputadas\, adolescencias en riesgo. Niñez y violencia crónica en el noreste» coordinado por la Dra. Séverine Durin.
URL:https://ciesas.edu.mx/event/ninez-adolescencia-violencia-cronica-noreste-mesa-3/
LOCATION:CIESAS Noreste\, Prolongación José María Morelos #822\, Barrio Antiguo\, Monterrey\, Nuevo León\, 64000\, México
CATEGORIES:Conferencia
ATTACH;FMTTYPE=image/jpeg:https://ciesas.edu.mx/wp-content/uploads/2022/09/Banner3NinezAdolescencia_y_DesaparicionForzadaDePersonas.jpg
ORGANIZER;CN="CIESAS Noreste":MAILTO:recepcion.noreste@ciesas.edu.mx
END:VEVENT
BEGIN:VEVENT
DTSTART;TZID=America/Mexico_City:20221007T100000
DTEND;TZID=America/Mexico_City:20221016T190000
DTSTAMP:20260422T073220
CREATED:20221004T205319Z
LAST-MODIFIED:20221005T150420Z
UID:25711-1665136800-1665946800@ciesas.edu.mx
SUMMARY:El CIESAS en la FIL IPN
DESCRIPTION:Del 7 al 16 de octubre el CIESAS estará presente en la XXXIX Feria Internacional del Libro 2022 del Instituto Politécnico Nacional. El público podrá encontrarnos en el Centro Cultural «Jaime Torres Bodet». Habrá descuentos en catálogo seleccionado.
URL:https://ciesas.edu.mx/event/ciesas-en-la-fil-ipn/
LOCATION:Centro Cultural Jaime Torres Bodet\, IPN\, Av. Wilfrido Massieu s/n\, Nueva Industrial Vallejo\,\, Gustavo A. Madero\, 07738\, México
CATEGORIES:Festival/Feria
ATTACH;FMTTYPE=image/jpeg:https://ciesas.edu.mx/wp-content/uploads/2022/10/BannerFeriaInternacionalDelLibro-IPN-2022.jpg
END:VEVENT
BEGIN:VEVENT
DTSTART;TZID=America/Mexico_City:20221012T173000
DTEND;TZID=America/Mexico_City:20221012T173000
DTSTAMP:20260422T073220
CREATED:20220929T222303Z
LAST-MODIFIED:20220929T222321Z
UID:25636-1665595800-1665595800@ciesas.edu.mx
SUMMARY:Conferencia magistral «Vienen de cerca los torrentes»
DESCRIPTION:Como parte de la Estancia Académica Cátedra Jan De Vos\, la Unidad CIESAS Sureste presenta un serie de actividades en el mes de octubre en la que investigador especialista en temas relacionados con la Cátedra.  \n\n\n\nEste año\, el invitado es el Dr. Jaime Rivas Castillo\, de la Universidad Don Bosco\, El Salvador\, quien ofrecerá la conferencia magistral Vienen de cerca los torrentes: dinámicas de movilidad humana en el sureste mexicano y el norte de Centroamérica\, una oportunidad de colaboración académica.  \n\n\n\n\n\n\n\nLa Cátedra Jan De Vos CIESAS-ECOSUR fue constituida como un homenaje al historiador\, académico e investigador nacional emérito originario de Bélgica\, quien durante más de 30 años se dedicó a producir conocimiento sobre la historia y problemática social contemporánea de Chiapas y Centroamérica. \n\n\n\nA través de dicha Cátedra\, el Centro de Investigaciones y Estudios de Antropología Social (CIESAS)\, en conjunto con El Colegio de la Frontera Sur (ECOSUR)\, invita al público general a participar en las convocatorias Estancia Académica\, en San Cristóbal de Las Casas\, Chiapas y al Premio Jan De Vos a la mejor tesis doctoral. \n\n\n\n 
URL:https://ciesas.edu.mx/event/conferencia-magistral-vienen-de-cerca-los-torrentes/
LOCATION:La Enseñanza\, Belisario Domínguez 13\, Centro Histórico\, San Cristóbal de Las Casas\, 29210\, México
CATEGORIES:Conferencia
ATTACH;FMTTYPE=image/jpeg:https://ciesas.edu.mx/wp-content/uploads/2022/09/BannerFormatoConPlecaInstitucionalConacyt_RRSS.jpg
ORGANIZER;CN="C%C3%A1tedra Jan De Vos":MAILTO:catedrajandevos@ciesas.edu.mx
END:VEVENT
BEGIN:VEVENT
DTSTART;TZID=America/Mexico_City:20221013T110000
DTEND;TZID=America/Mexico_City:20221013T110000
DTSTAMP:20260422T073220
CREATED:20221012T175931Z
LAST-MODIFIED:20221012T175932Z
UID:25739-1665658800-1665658800@ciesas.edu.mx
SUMMARY:Historia tolteca chichimeca
DESCRIPTION:El Seminario Tlatemoani presenta la ponencia Historia tolteca chichimeca\, a cargo de la Dra. Cecilia Rosell Gutiérrez (CIESAS CDMX).
URL:https://ciesas.edu.mx/event/historia-tolteca-chichimeca/
LOCATION:Ciudad de México
CATEGORIES:Seminario
ATTACH;FMTTYPE=image/jpeg:https://ciesas.edu.mx/wp-content/uploads/2022/08/Banner_DoctrinaImagenesNahuatl.jpg
ORGANIZER;CN="Seminario Tlatemoani":MAILTO:quecholli@gmail.com
END:VEVENT
BEGIN:VEVENT
DTSTART;TZID=America/Mexico_City:20221013T170000
DTEND;TZID=America/Mexico_City:20221025T200000
DTSTAMP:20260422T073220
CREATED:20220930T201647Z
LAST-MODIFIED:20220930T201955Z
UID:25674-1665680400-1666728000@ciesas.edu.mx
SUMMARY:Seminario impartido por Jaime Rivas Castillo
DESCRIPTION:Como parte de las actividades de su Estancia Académica Cátedra Jan De Vos en el CIESAS Sureste\, el profesor investigador Jaime Rivas Castillo impartirá el Seminario Dinámicas de movilidad humana en el sureste mexicano y el norte centroamericano: apuntes para una agenda de investigación compartida.  \n\n\n\nInformes e inscripciones al correo karlat@ciesas.edu.mx
URL:https://ciesas.edu.mx/event/seminario-impartido-por-jaime-rivas-castillo/
LOCATION:Sala Otto Schumann – CIMSUR UNAM\, Av. María Adelina Flores 34 A\, Barrio de Guadalupe\, San Cristóbal de las Casas\, Chiapas\, 29230\, México
CATEGORIES:Seminario
ATTACH;FMTTYPE=image/jpeg:https://ciesas.edu.mx/wp-content/uploads/2022/09/BannerCatedraJanDeVos_Seminario.jpg
END:VEVENT
BEGIN:VEVENT
DTSTART;TZID=America/Mexico_City:20221017T100000
DTEND;TZID=America/Mexico_City:20221017T100000
DTSTAMP:20260422T073220
CREATED:20220930T202859Z
LAST-MODIFIED:20220930T202901Z
UID:25684-1666000800-1666000800@ciesas.edu.mx
SUMMARY:Reunión académica de profesores
DESCRIPTION:Como parte de las actividades del Programa de la Estancia Académica Cátedra Jan De Vos\, el CIESAS Sureste realizara la reunión académica de profesores Fronteras y movilidades. Diálogo académico entre investigadores del sureste mexicano y Centroamérica\, encabezada del profesor investigador Jaime Rivas Castillo\, invitado de la Estancia.  
URL:https://ciesas.edu.mx/event/reunion-academica-de-profesores/
LOCATION:CIESAS Sureste\, Carretera a San Juan Chamula KM 3.5\, Barrio La Quinta San Martín\, San Cristóbal de las Casas\, 29247\, México
CATEGORIES:Coloquio
ATTACH;FMTTYPE=image/jpeg:https://ciesas.edu.mx/wp-content/uploads/2022/09/BannerCatedraJanDeVos_ReunionAcademicaDeProfesores.jpg
END:VEVENT
BEGIN:VEVENT
DTSTART;TZID=America/Mexico_City:20221017T160000
DTEND;TZID=America/Mexico_City:20221017T180000
DTSTAMP:20260422T073220
CREATED:20221003T212213Z
LAST-MODIFIED:20221004T160812Z
UID:25700-1666022400-1666029600@ciesas.edu.mx
SUMMARY:Conversatorio sobre el documental Tu'un Savi
DESCRIPTION:La Revista Ichan Tecolotl del CIESAS invita a Rastros y voces de la Mixteca: Conversatorio sobre el documental Tu’un Savi\, en  el cual participará tres investigadoras especialistas en Lingüística y el director del largometraje.  \n\n\n\nEn el documental Tu’un Savi el realizador hace una búsqueda del idioma de su familia que le fue prohibido desde la infancia. \n\n\n\n\n\n\n\nNute Kuijin (Uriel López España) comenzó sus estudios en el Centro Fotográfico Manuel Álvarez Bravo (2005). Forma parte del Estudio Taller Selenium junto al fotógrafo Daniel Mendoza desde el 2006. Estudió video arte con el artista multidisciplinario Taniel Morales (2006) y cine experimental con el cineasta Jesse Lerner (2007) y posteriormente Eve Heller (2013) en la Cátedra Bergman\, también tomó un taller de Cine con Harun Farocki (2014).  \n\n\n\nEstudió la carrera de cine en la Escuela Nacional de Artes Cinematográficas (UNAM)\, donde se especializó en documental y cinefotografía. Su obra a recorrido diferentes espacios culturales como Museo de Arte alameda (2010)\, Cinemateca de Bogotá (2011)\, 33 Festival Internacional del nuevo cine latinoamericano\, la Habana\, Cuba (2012)\, Cineteca Nacional (2014\, 2022)\, Centro de la Imagen (2016)\, Galería Ramón Alva de la Canal (2018)\, Festival de Morelia (2013 y 2020). En el 2020 su documental Tu’un Savi ganó en Festival internacional de Cine de Morelia (FICM) y nominada en los Arieles 2021. Es académico en la Escuela Nacional de Artes Cinematográficos (ENAC-UNAM).
URL:https://ciesas.edu.mx/event/conversatorio-sobre-el-documental-tuun-savi/
LOCATION:Casa Chata\, Miguel Hidalgo s/n\, Tlalpan Centro\, Tlalpan\, Ciudad de México\, 14000\, México
CATEGORIES:Conversatorio
ATTACH;FMTTYPE=image/png:https://ciesas.edu.mx/wp-content/uploads/2022/10/Banner-RastrosyRostros1024×360.png
ORGANIZER;CN="Revista Ichan Tecolotl":MAILTO:ichan@ciesas.edu.mx
END:VEVENT
BEGIN:VEVENT
DTSTART;TZID=America/Mexico_City:20221020T110000
DTEND;TZID=America/Mexico_City:20221020T110000
DTSTAMP:20260422T073220
CREATED:20221014T182055Z
LAST-MODIFIED:20221014T182057Z
UID:25783-1666263600-1666263600@ciesas.edu.mx
SUMMARY:Ofrendas de petición de lluvias
DESCRIPTION:El Seminario Interinstitucional Ritualidad\, Imagen y Etnografía del Mundo Indígena presenta Ofrendas de petición de lluvias y de primicias en Guerrero en comparación con la Ofrenda 102 del Templo Mayor\, conferencia cargo de la Dra. Aurora Montúfar López (Subdirección de Laboratorios y Apoyo Académico\, INAH).
URL:https://ciesas.edu.mx/event/ofrendas-de-peticion-de-lluvias/
LOCATION:Ciudad de México
CATEGORIES:Seminario
ATTACH;FMTTYPE=image/jpeg:https://ciesas.edu.mx/wp-content/uploads/2022/10/Banner-MundoIndigena-OfrendasDePeticionDeLLuvias.jpg
ORGANIZER;CN="Seminario Interinstitucional Ritual%2C imagen y etnograf%C3%ADa del mundo ind%C3%ADgena":MAILTO:quecholli@gmail.com
END:VEVENT
BEGIN:VEVENT
DTSTART;TZID=America/Mexico_City:20221024T173000
DTEND;TZID=America/Mexico_City:20221024T173000
DTSTAMP:20260422T073220
CREATED:20220929T181041Z
LAST-MODIFIED:20220930T202941Z
UID:25623-1666632600-1666632600@ciesas.edu.mx
SUMMARY:Presentación editorial «He vuelto a leer»
DESCRIPTION:Como parte de las actividades del Programa de la Estancia Académica Cátedra Jan De Vos del profesor investigador Jaime Rivas Castillo la Unidad CIESAS Sureste\, se llevará a cabo la presentación editorial de He vuelto a leer…Una autobiografía libresca\, el último libro que logró terminar Jan De Vos\, poco antes de fallecer. Dicha publicación la presentó como una autobiografía intelectual a través del análisis de los libros que marcaron su vida en forma duradera.  \n\n\n\n\n\n\n\n\n\n\n\n\n\nPrecio especial durante el día de su presentación: $150\n\n\n\n\n\nAl ser un libro de reflexiones tan personales\, las ideas que desarrolla el autor buscan interpelar al lector: despertar su simpatía a veces\, incomodarlo en ocasiones\, pero siempre le obligarán a sopesar detenidamente los argumentos expuestos.  \n\n\n\nAunque habrá quien juzgue que algunas descripciones embellecen en exceso ciertas realidades\, todos podrán disfrutar de la amplia y diversa erudición de Jan de Vos\, expuesta con la claridad\, la fluidez y el orden de los que siempre hizo gala en sus obras. \n\n\n\nEl libro tendrá precio especial por su presentación: $150 en cualquiera de sus versiones. \n\n\n\nComprar
URL:https://ciesas.edu.mx/event/presentacion-editorial-he-vuelto-a-leer/
LOCATION:La Enseñanza\, Belisario Domínguez 13\, Centro Histórico\, San Cristóbal de Las Casas\, 29210\, México
CATEGORIES:Presentación editorial
ATTACH;FMTTYPE=image/jpeg:https://ciesas.edu.mx/wp-content/uploads/2022/09/BannerCatedraJanDeVos_PresentacionDeLibro.jpg
END:VEVENT
BEGIN:VEVENT
DTSTART;TZID=America/Mexico_City:20221026T093000
DTEND;TZID=America/Mexico_City:20221027T140000
DTSTAMP:20260422T073220
CREATED:20221012T174833Z
LAST-MODIFIED:20221012T175223Z
UID:25735-1666776600-1666879200@ciesas.edu.mx
SUMMARY:Jornada de Capacitación en Temas Periciales para la Construcción de la Verdad
DESCRIPTION:El GIASF\, el Observatorio Etnográfico de las Violencias del CIESAS y la Licenciatura en Ciencia Forense Fac. Med. UNAM CIESAS presentan la Jornada de Capacitación en Temas Periciales para la Construcción de la Verdad\, donde se compartirán temas entorno a la reparación integral\, búsqueda e identificación de personas\, construcción de la verdad.
URL:https://ciesas.edu.mx/event/jornada-de-capacitacion-en-temas-periciales/
LOCATION:Ciudad de México
CATEGORIES:Seminario
ATTACH;FMTTYPE=image/jpeg:https://ciesas.edu.mx/wp-content/uploads/2022/10/Banner_JornadasForenses.jpg
ORGANIZER;CN="GIASF":MAILTO:seminario.giasf@gmail.com
END:VEVENT
END:VCALENDAR