BEGIN:VCALENDAR
VERSION:2.0
PRODID:-//CIESAS - ECPv6.15.20//NONSGML v1.0//EN
CALSCALE:GREGORIAN
METHOD:PUBLISH
X-WR-CALNAME:CIESAS
X-ORIGINAL-URL:https://ciesas.edu.mx
X-WR-CALDESC:Eventos para CIESAS
REFRESH-INTERVAL;VALUE=DURATION:PT1H
X-Robots-Tag:noindex
X-PUBLISHED-TTL:PT1H
BEGIN:VTIMEZONE
TZID:America/Mexico_City
BEGIN:DAYLIGHT
TZOFFSETFROM:-0600
TZOFFSETTO:-0500
TZNAME:CDT
DTSTART:20210404T080000
END:DAYLIGHT
BEGIN:STANDARD
TZOFFSETFROM:-0500
TZOFFSETTO:-0600
TZNAME:CST
DTSTART:20211031T070000
END:STANDARD
BEGIN:DAYLIGHT
TZOFFSETFROM:-0600
TZOFFSETTO:-0500
TZNAME:CDT
DTSTART:20220403T080000
END:DAYLIGHT
BEGIN:STANDARD
TZOFFSETFROM:-0500
TZOFFSETTO:-0600
TZNAME:CST
DTSTART:20221030T070000
END:STANDARD
END:VTIMEZONE
BEGIN:VEVENT
DTSTART;TZID=America/Mexico_City:20221103T170000
DTEND;TZID=America/Mexico_City:20221103T170000
DTSTAMP:20260422T065941
CREATED:20221020T221212Z
LAST-MODIFIED:20221020T221600Z
UID:25832-1667494800-1667494800@ciesas.edu.mx
SUMMARY:Presentación del libro «Entre chácharas y ropa usada» en el Colmex
DESCRIPTION:El CIESAS Noreste\, en colaboración con el Colegio de México\, presenta «Entre chácharas y ropa usada. Proceso globalizador y comercio de fayuca en la frontera de Texas y los tianguis de Monterrey». La presentación editorial contará con el autor\, Efrén Sandoval Hernández\, quien estará acompañado de Federico Besserer\, Carlos Alba y Susana Rosales.Se podrá asistir al vestíbulo de la Biblioteca Daniel Cosío Villegas o en su defecto seguir la transmisión en vivo a través del Canal de YouTube del Colmex. \n\n\n\n\n\n\n\nEste libro atiende un entramado complejo de tipos de mercancías que pasan por sistemas diversos para terminar en el consumo de los habitantes de Monterrey como un ejemplo de las relaciones entre el Norte Global y el Sur Global.  \n\n\n\nAsimismo\, trasciende las metodologías centradas en la construcción de grandes encadenamientos de mercancías para explicar la articulación económica a escala global\, porque muestra entramados más complejos que incluyen los cambios en las formas de consumo\, la migración y las dinámicas de poder que operan en el tránsito de estos productos a través de las fronteras\, entre otros aspectos de este proceso. Comprar el libro.
URL:https://ciesas.edu.mx/event/presentacion-del-libro-entre-chacharas-y-ropa-usada/
LOCATION:Colegio de México (COLMEX)\, Carretera Picacho Ajusco 20\, Tlalpan\, CDMX\, 14110\, México
CATEGORIES:Presentación editorial
ATTACH;FMTTYPE=image/jpeg:https://ciesas.edu.mx/wp-content/uploads/2022/10/Banner_EntreChacharas.jpg
ORGANIZER;CN="CIESAS Noreste":MAILTO:recepcion.noreste@ciesas.edu.mx
END:VEVENT
BEGIN:VEVENT
DTSTART;TZID=America/Mexico_City:20221107T100000
DTEND;TZID=America/Mexico_City:20221110T130000
DTSTAMP:20260422T065941
CREATED:20221103T185238Z
LAST-MODIFIED:20221103T191001Z
UID:26016-1667815200-1668085200@ciesas.edu.mx
SUMMARY:Curso Claves Epistemológicas de la Geografía Humana
DESCRIPTION:La Cátedra de Geografía Humana Elisée Reclus invita al Curso Claves Epistemológicas de la Geografía Humana\, impartido por Nicolás Ortega Cantero\, de la Universidad Autónoma de Madrid.La Cátedra es un iniciativa conjunta del CIESAS\, el Instituto Mora\, el Centro GEO y COLMICH. Tiene como objetivo principal la difusión entre investigadores\, estudiantes y público en general de las aportaciones que los especialistas franceses hacen en el ámbito de la geografía humana. La Cátedra intenta fortalecer el diálogo interdisciplinario\, interinstitucional e internacional. \n\n\n\n\n\n\n\n\n\n\n\nDesde su inauguración en 1997\, la Cátedra invita a un especialista a impartir cursos sobre la definición de regiones\, las ciudades y sus procesos de cambio\, la definición de fronteras\, la planificación\, las políticas públicas en relación al territorio\, la geopolítica\, la cartografía histórica\, la modelización del territorio\, el turismo y su impacto\, la conceptualización de medio ambiente y ecosistema\, la contribución de la geografía al estudio de las identidades\, la reconfiguración de espacios rurales en tiempos de la globalización.
URL:https://ciesas.edu.mx/event/catedra-elisee-reclus/
LOCATION:Ciudad de México
CATEGORIES:webinar
ATTACH;FMTTYPE=image/jpeg:https://ciesas.edu.mx/wp-content/uploads/2022/11/Banner600x400Elisee_Reclus.jpg
END:VEVENT
BEGIN:VEVENT
DTSTART;TZID=America/Mexico_City:20221108T090000
DTEND;TZID=America/Mexico_City:20221108T100000
DTSTAMP:20260422T065941
CREATED:20221103T165659Z
LAST-MODIFIED:20221103T173537Z
UID:25986-1667898000-1667901600@ciesas.edu.mx
SUMMARY:Presentación editorial Negocios de sombras
DESCRIPTION:En el marco del VIII Congreso Nacional de Ciencias Sociales del Instituto de Investigaciones Económicas UNAM se llevará a cabo la presentación del libro Negocios de sombras. Red de poder hegemónica\, contrabando\, tráfico de drogas y lavado de dinero en Nuevo León. El evento contará con la presencia del autor Carlos A. Flores Pérez y comentarán el Dr. César Alarcón Gil  (UNAM) y el Dr. Alejandro Lerch Huacuja (Universidad de Cambridge\, UK) \n\n\n\n\n\n\n\n\n\n\n\nNegocios de sombras. Red de poder hegemónica\, contrabando\, tráfico de drogas y lavado de dinero en Nuevo León explora las redes de poder hegemónicas que nacen vinculadas a procesos de formación del Estado o a grandes transformaciones en el entramado político y económico. El caso de estudio que la publicación aborda es el de Nuevo León: cuna de formación de una red de políticos y empresarios que han ejercido influencia no sólo estatal y regional\, sino nacional. Este estado ha sido epicentro de múltiples actividades económicas donde se mezclan de manera secular recursos legales e ilegales. El contrabando\, el tráfico de drogas y el lavado de dinero muestran su conexión con los pasillos del poder y la gran empresa privada\, para formar patrones entreverados de fortuna\, poder\, crimen e impunidad\, elementos manifiestos de la realidad mexicana de nuestros días.
URL:https://ciesas.edu.mx/event/presentacion-editorial-negocios-de-sombras/
LOCATION:Instituto de Investigaciones Económicas – UNAM\, Circuito Mario de la Cueva\, Coyoacán\, Ciudad de México\, 04510\, México
CATEGORIES:Presentación editorial
ATTACH;FMTTYPE=image/jpeg:https://ciesas.edu.mx/wp-content/uploads/2022/11/BannerPresentacionEditorialNegociosDeSombras.jpg
END:VEVENT
BEGIN:VEVENT
DTSTART;TZID=America/Mexico_City:20221109T083000
DTEND;TZID=America/Mexico_City:20221111T153000
DTSTAMP:20260422T065941
CREATED:20221108T182538Z
LAST-MODIFIED:20221108T182919Z
UID:26064-1667982600-1668180600@ciesas.edu.mx
SUMMARY:XVII Encuentro Internacional de Historia de la Educación 
DESCRIPTION:Bajo el tema «Afectos\, emociones y salud mental en la historia de la educación»\, el encuentro se llevará a cabo los días 9\, 10 y 11 de noviembre de 2022 con un formato híbrido. El CIESAS será sede el día viernes 11 de noviembre para las actividades presenciales.  \n\n\n\nConsultar programa general\n\n\n\nOrganizan la Sociedad Mexicana de Historia de la Educacion (SOMEHIDE)\, la Universidad Autónoma Metropolitana (UAM) Iztapalapa\, el Departamento de Investigaciones Educativas (DIE-CINVESTAV) y el Centro de Investigaciones y Estudios Superiores en Antropología Social (CIESAS).
URL:https://ciesas.edu.mx/event/xvii-encuentro-internacional-de-historia-de-la-educacion/
LOCATION:Casa Chata\, Miguel Hidalgo s/n\, Tlalpan Centro\, Tlalpan\, Ciudad de México\, 14000\, México
CATEGORIES:Conferencia
ATTACH;FMTTYPE=image/jpeg:https://ciesas.edu.mx/wp-content/uploads/2022/11/BannerCIESAS_XVII_EncuentroInternacionalHistoriaDeLaEducacion_AfectosEmocionesSaludMental-.jpg
END:VEVENT
BEGIN:VEVENT
DTSTART;TZID=America/Mexico_City:20221117T100000
DTEND;TZID=America/Mexico_City:20221118T130000
DTSTAMP:20260422T065941
CREATED:20221020T215058Z
LAST-MODIFIED:20221020T215104Z
UID:25821-1668679200-1668776400@ciesas.edu.mx
SUMMARY:Recomposiciones territoriales\, entre procesos identitarios y dinámicas normativas
DESCRIPTION:El Laboratorio Mixto Internacional (LMI Meso) del CIESAS presenta el Seminario anual del GT2 titulado «Recomposiciones territoriales\, entre procesos identitarios y dinámicas normativas». A lo largo de dos jornadas\, el seminario abordará el modelo neoliberal dominante y de sus consecuencias en términos de recomposición en los territorios mesoamericanos\, ya sean urbanos o rurales\, mexicanos o centroamericanos\, mostrando las diversas contradicciones y las consecuencias sociopolíticas y ambientales de dicho modelo. La última tarde estará dedicada a una evaluación de las actividades del GT 2 y a programar la participación en el coloquio 2023 con el que el LMI concluirá sus actividades.  \n\n\n\nDescargar programa
URL:https://ciesas.edu.mx/event/lmi-meso-coloquio-nov-2022/
LOCATION:Auditorio Luis Reyes García\, Juárez 222\, Tlalpan\, Tlalpan\, CDMX\, 14000\, Mexico
CATEGORIES:Seminario
ATTACH;FMTTYPE=image/jpeg:https://ciesas.edu.mx/wp-content/uploads/2022/10/BannerRecomposicionesTerritoriales_EntreProcesosIdentitarios-yDinamicas-CIESAS.jpg
ORGANIZER;CN="LMI Meso":MAILTO:emivel@ciesas.edu.mx
END:VEVENT
BEGIN:VEVENT
DTSTART;TZID=America/Mexico_City:20221123T100000
DTEND;TZID=America/Mexico_City:20221125T130000
DTSTAMP:20260422T065941
CREATED:20221123T160721Z
LAST-MODIFIED:20221123T161025Z
UID:26229-1669197600-1669381200@ciesas.edu.mx
SUMMARY:Seminario Mistralear las tierras: Diálogos entre México y Chile
DESCRIPTION:La Subdirección de Investigación del SEPART\, el Colegio de San Luis Potosí\, el Colegio de México\, la Cátedra Indígena\, la Universidad de Chile\, la Fundación Rectángulos de Agua\, la Fundación Agora y la Cátedra de Estudios Interinstitucionales de la Educación «Dra. Luz Elena Galván y Lafarga»\, del CIESAS invitan al Seminario Mistralear las tierras: Diálogos entre México y Chile.El seminario forma parte de las II Jornadas Mistralianas\, en las cuales especialistas nacionales e internacionales hablarán del aporte de Gabriela Mistral. El público podrá seguirlas a través del canal de YouTube del Servicio Nacional del Patrimonio Cultural\, los días 23\, 24 y 25 de noviembre\, a partir de las 10:00 horas. \n\n\n\n\n\nDía 1\n\n\n\n\n\nDía 2\n\n\n\n\n\nDía 3
URL:https://ciesas.edu.mx/event/seminario-mistralear-las-tierras-dialogos-entre-mexico-y-chile/
LOCATION:Ciudad de México
CATEGORIES:Seminario
ATTACH;FMTTYPE=image/jpeg:https://ciesas.edu.mx/wp-content/uploads/2022/11/Banner600x400.jpg
END:VEVENT
BEGIN:VEVENT
DTSTART;TZID=America/Mexico_City:20221124T110000
DTEND;TZID=America/Mexico_City:20221124T110000
DTSTAMP:20260422T065941
CREATED:20221111T190653Z
LAST-MODIFIED:20221111T191728Z
UID:26133-1669287600-1669287600@ciesas.edu.mx
SUMMARY:Seminario Diversidad sin Violencia invita a sesión sobre feminismos
DESCRIPTION:El Seminario Diversidad sin Violencia invita a sesión sobre feminismos\, conformada por la presentación del libro Antropologías Feministas en México\, así como la presentación de ponencia: Percepciones sobre roles de género y maternidad en madres adolescentes de tres municipios de Chihuahua. \n\n\n\nPara acceder a le sesión es necesario registro previo a través del correo sads542@yahoo.com.mx \n\n\n\n\n\n\n\n\n\n\n\nAntropologías Feministas en México: Epistemologías\, éticas\, prácticas y miradas diversas constituye un esfuerzo colectivo que plasma una poderosa conversación entre antropólogas de varias instituciones\, regiones y generaciones. A través de 20 capítulos se abordan desde los modelos epistemológicos surgidos en los años 80\, hasta los acercamientos metodológicos\, como el dialógico y el colaborativo. Se presentan trayectorias personales y temas abordados desde la perspectiva feminista\, que dan cuenta de la persistencia de la cultura patriarcal y la violencia estructural que lesiona los derechos de las mujeres y de otros sujetos diversos\, pero también se documentan expresiones de su agencia desde la academia\, el activismo político\, las organizaciones de la sociedad civil\, los movimientos de mujeres indígenas\, afrodescendientes\, campesinas\, lgtb+\, entre otros; mostrando la vigencia del feminismo como una de las corrientes teórico-políticas más significativas de este milenio. La obra en su conjunto es una contribución a los debates actuales y al diálogo dentro y fuera de las ciencias antropológicas.
URL:https://ciesas.edu.mx/event/seminario-diversidad-sin-violencia-invita-a-sesion-sobre-feminismos/
LOCATION:Ciudad de México
CATEGORIES:Seminario
ATTACH;FMTTYPE=image/jpeg:https://ciesas.edu.mx/wp-content/uploads/2022/11/Banner-SeminarioDiversidadsinViolencia.jpg
ORGANIZER;CN="Seminario Diversidad sin Violencia":MAILTO:sads542@yahoo.com.mx
END:VEVENT
BEGIN:VEVENT
DTSTART;TZID=America/Mexico_City:20221125T100000
DTEND;TZID=America/Mexico_City:20221125T130000
DTSTAMP:20260422T065941
CREATED:20221114T182805Z
LAST-MODIFIED:20221114T182807Z
UID:26147-1669370400-1669381200@ciesas.edu.mx
SUMMARY:Análisis espacial en la región histórica minera de El Oro y Tlalpujahua entre los siglos XVIII y XIX
DESCRIPTION:El Seminario Historia de la Minería en México y Regiones Comparadas presenta Análisis espacial en la región histórica minera de El Oro y Tlalpujahua entre los siglos XVIII y XIX. Una aproximación desde la cartografía histórica\, ponencia a cargo de Pedro Gómez Molina (Doctorante de la Universidad Autónoma de Zacatecas).
URL:https://ciesas.edu.mx/event/seminario-historia-mineria-mexico-regiones-comparadas-sesion25nov/
LOCATION:Ciudad de México
CATEGORIES:Seminario
ATTACH;FMTTYPE=image/jpeg:https://ciesas.edu.mx/wp-content/uploads/2022/11/BannerSeminarioHistoriaMineriaMexico.jpg
END:VEVENT
BEGIN:VEVENT
DTSTART;TZID=America/Mexico_City:20221125T170000
DTEND;TZID=America/Mexico_City:20221125T190000
DTSTAMP:20260422T065941
CREATED:20221115T185633Z
LAST-MODIFIED:20221116T173134Z
UID:26161-1669395600-1669402800@ciesas.edu.mx
SUMMARY:Danza y terapéutica entre los teenek de San Luis Potosí
DESCRIPTION:El Seminario Permanente de Estudios Sobre la Huaxteca “Lorenzo Ochoa Salas” presenta Danza y terapéutica entre los teenek de San Luis Potosí\, conferencia a cargo de Imelda Aguirre Mendoza (Museo Regional Potosino\, S.L.P. INAH) y  Joel Lara González (Escuela de Bellas Artes del Gobierno del Estado de México).Se podrá acceder a la ponencia en BlueJeans o segurla a través del Facebook del Seminario \n\n\n\nInformes:  parahablardelahuaxteca@gmail.com
URL:https://ciesas.edu.mx/event/danza-y-terapeutica-entre-los-teenek-de-san-luis-potosi/
LOCATION:Ciudad de México
CATEGORIES:Seminario
ATTACH;FMTTYPE=image/png:https://ciesas.edu.mx/wp-content/uploads/2022/11/Banner_DanzaTerapeuticaEntreLosTeenek.png
ORGANIZER;CN="Seminario Permanente de Estudios sobre la Huaxteca":MAILTO:parahablardelahuaxteca@gmail.com
END:VEVENT
BEGIN:VEVENT
DTSTART;TZID=America/Mexico_City:20221126T090000
DTEND;TZID=America/Mexico_City:20221204T210000
DTSTAMP:20260422T065941
CREATED:20221118T185500Z
LAST-MODIFIED:20221124T222932Z
UID:26178-1669453200-1670187600@ciesas.edu.mx
SUMMARY:CIESAS en la FIL Guadalajara
DESCRIPTION:El CIESAS llega a la Feria Internacional del Libro de Guadalajara\, edición 2022\,  para presentar parte de su catálogo editorial. Además de adquirir títulos con descuentos especiales en títulos seleccionados en el Stand J31 del Área Nacional\, los asistentes podrán asistir a las presentaciones de los libros Acceso efectivo al desarrollo social\, de Agustín Escobar Latapí y Mercedes González de la Rocha; así como de Todavía no\, publicación coordinada por Carolina Robledo\, Ana Guglielmucci y Juan Pablo Vera. Cabe señalar que durante este período todo el catálogo de la Librería Virtual del CIESAS estará con un 10% de descuento. La mayor reunión del mundo editorial en español le espera en Guadalajara\, del 26 de noviembre al 4 de diciembre de 2022.
URL:https://ciesas.edu.mx/event/ciesas-en-la-fil-guadalajara/
LOCATION:Expo Guadalajara\, Av. Mariano Otero #1499\, Verde Valle\, Guadalajara\, 44550\, México
CATEGORIES:Festival/Feria,Presentación editorial
ATTACH;FMTTYPE=image/png:https://ciesas.edu.mx/wp-content/uploads/2022/11/BannerCIESAS_FILGuadalajara2022.png
END:VEVENT
BEGIN:VEVENT
DTSTART;TZID=America/Mexico_City:20221126T160000
DTEND;TZID=America/Mexico_City:20221126T160000
DTSTAMP:20260422T065941
CREATED:20221118T190000Z
LAST-MODIFIED:20221117T192701Z
UID:26183-1669478400-1669478400@ciesas.edu.mx
SUMMARY:Acceso efectivo al desarrollo social
DESCRIPTION:Como parte de las actividades de la Feria Internacional del Libro de Guadalajara 2022\, se llevará a cabo la presentación editorial de Acceso efectivo al desarrollo social\, de Agustín Escobar Latapí y Mercedes González de la Rocha. La actividad se llevará a cabo en el Stand de la Red Altexto con el número F13\, en Avenida Cronistas del Área Nacional de la Expo Guadalajara.La publicación aborda cómo en décadas recientes\, en México\, se ha incrementado la cantidad y los recursos destinados a programas sociales. ¿Acceden efectivamente los mexicanos de escasos recursos a ellos? ¿obtienen beneficios tangibles? Los programas sociales sólo hacen realidad los derechos cuando la población que se pretende beneficiar recibe sus beneficios. El libro describe\, a partir de múltiples comunidades\, estados y familias\, cómo y por qué algunos acceden a esos beneficios y otros no\, y qué hace falta para que entreguen realmente sus bienes y servicios a la población que justifica su existencia.
URL:https://ciesas.edu.mx/event/acceso-efectivo-al-desarrollo-social/
LOCATION:Expo Guadalajara\, Av. Mariano Otero #1499\, Verde Valle\, Guadalajara\, 44550\, México
CATEGORIES:Presentación editorial
ATTACH;FMTTYPE=image/png:https://ciesas.edu.mx/wp-content/uploads/2022/11/BannerCIESAS_FILGuadalajara2022.png
END:VEVENT
BEGIN:VEVENT
DTSTART;TZID=America/Mexico_City:20221129T110000
DTEND;TZID=America/Mexico_City:20221129T130000
DTSTAMP:20260422T065941
CREATED:20221108T205529Z
LAST-MODIFIED:20221123T223733Z
UID:26073-1669719600-1669726800@ciesas.edu.mx
SUMMARY:Presentación editorial Todavía no
DESCRIPTION:El Observatorio Etnográfico de las Violencias del CIESAS invita a la presentación del libro Todavía no: Justicia\, democracia y transición en América Latina. El evento será en modalidad híbrida\, por lo que se podrá asistir las instalaciones del CIESAS y verse a través de facebook.com/ciesas.oficial. \n\n\n\n\n\n\n\n\n\n\n\n \n\n\n\n\n\nEste libro se pregunta por qué todavía no ha sido posible la justicia en los países latinoamericanos\, que afrontan nuevas olas de amnesia\, impunidad\, represión y violencia\, sin que las heridas del pasado hayan sido reparadas aún. Los capítulos exploran cuáles han sido las secuelas de las apuestas programáticas de justicia transicional\, más allá de los límites del derecho y la institucionalidad\, para reconocer los cambios producidos en los lenguajes\, las prácticas\, los sentidos\, las estrategias\, los repertorios políticosy la vida de la gente que\, con gran capacidad creativa y de resistencia\, anhela superar el pasado violento y conseguir la paz en sus territorios.América Latina se ha constituido en un extenso campo de experimentación de mecanismos de justicia transicional\, a través de numerosas apuestas institucionales orientadas a esclarecer la verdad y garantizar la no repetición de procesos de violencia masiva y represión estatal. Todavíano contribuye al análisis empírico y reflexivo de estas experiencias en México\, Guatemala\, Colombia\, Argentina y Nicaragua\, problematizando nociones convencionales de la gramática y la aplicabilidad de este sistema transnacional de gestión del conflicto en su encuentro con agendas y realidades locales profundamente diversas.  \n\n\n\nComprar libro
URL:https://ciesas.edu.mx/event/presentacion-editorial-todavia-no/
LOCATION:Auditorio Luis Reyes García\, Juárez 222\, Tlalpan\, Tlalpan\, CDMX\, 14000\, Mexico
CATEGORIES:Presentación editorial
ATTACH;FMTTYPE=image/jpeg:https://ciesas.edu.mx/wp-content/uploads/2022/11/BannerPresentacionEditorial_TodaviaNo.jpg
ORGANIZER;CN="Observatorio Etnogr%C3%A1fico de las Violencias del CIESAS":MAILTO:observatorio.ev@ciesas.edu.mx
END:VEVENT
BEGIN:VEVENT
DTSTART;TZID=America/Mexico_City:20221130T110000
DTEND;TZID=America/Mexico_City:20221130T130000
DTSTAMP:20260422T065941
CREATED:20221123T212252Z
LAST-MODIFIED:20221123T212541Z
UID:26246-1669806000-1669813200@ciesas.edu.mx
SUMMARY:Seminario Permanente Agua y Cultura
DESCRIPTION:Séptima sesión del año del Seminario Permanente Agua y Cultura\, coordinado por el profesor investigador Daniel Murillo Licea.La expansión del monocultivo de fresa y el desplazamiento del maíz en el corredor agrícola “Morelia- Pátzcuaro”\, Estado de Michoacán.Presenta: Carla Labra Concha (Egresada de la Maestría en Ciencias de la Sostenibilidad\, UNAM). Conflictos subnacionales en torno al agua y factores institucionales asociados a su gestación\, emergencia y escalación en México. Presenta: Rafael Ruiz Ortega (Universidad Autónoma de Baja California). \n\n\n\n\n\n\n\n\n\n\n\nLos objetivos del seminario son promover\, reconocer y comprender los vínculos entre el agua\, el ambiente y la diversidad cultural. También proporcionar una definición de la cultura hídrica al conjunto de los gestores del agua\, académicos\, sociedad civil\, estudiosos de las ciencias sociales y ciencias del agua que permita construir una serie de marcos teóricos conceptuales desde una perspectiva latinoamericana compleja e integradora.
URL:https://ciesas.edu.mx/event/seminario-permanente-agua-cultura-sesion7/
LOCATION:Ciudad de México
CATEGORIES:Seminario
ATTACH;FMTTYPE=image/jpeg:https://ciesas.edu.mx/wp-content/uploads/2022/11/Banner_SeptimaSesion_SeminarioAgua.jpg
END:VEVENT
BEGIN:VEVENT
DTSTART;TZID=America/Mexico_City:20221130T170000
DTEND;TZID=America/Mexico_City:20221130T170000
DTSTAMP:20260422T065941
CREATED:20221115T173828Z
LAST-MODIFIED:20221116T173447Z
UID:26152-1669827600-1669827600@ciesas.edu.mx
SUMMARY:Movilidad estudiantil multicomunitaria: significados de la Universidad Comunitaria en Oaxaca
DESCRIPTION:El Seminario Interinstitucional en Antropología y Etnografía de la Educación (SIAEE) invita al conversatorio Movilidad estudiantil multicomunitaria: significados de la Universidad Comunitaria en Oaxaca\, sesión donde se intersectan dos temas importantes para la antropología: la migración y la inserción de jóvenes indígenas a la educación superior. Algunas preguntas en torno al cual girará la presentación de la Dra. Susana Vargas serán: ¿Cuál es la perspectiva de la inserción a la educación superior de las y los jóvenes oaxaqueños procedentes de comunidades rurales e indígenas? ¿Cuál es la propuesta de la educación superior comunitaria y la apuesta por la permanencia de las y los jóvenes en sus comunidades de origen? ¿Cuáles son los desafíos de la Unixhidza para proponer una movilidad multicomunitaria entre las juventudes del Rincón de la Sierra Norte?Para acceder a la sesión es necesario registrarse previamente al correo semi.antropologiadelaeducacion@gmail.com  \n\n\n\n\n\n\n\n\n\n\n\nEl SIAEE tiene como objetivo construir un espacio de encuentro en torno a investigaciones antropológicas y etnográficas de y sobre la educación en diferentes territorios de México\, así como abrir espacio para nuevos y nuevas investigadorxs de antropología de la educación y ponerlas en diálogo con investigadoras consolidadas.
URL:https://ciesas.edu.mx/event/movilidad-estudiantil-multicomunitaria/
LOCATION:Ciudad de México
CATEGORIES:Seminario
ATTACH;FMTTYPE=image/jpeg:https://ciesas.edu.mx/wp-content/uploads/2022/11/Banner_ovilidadEstudiantilMulticomunitaria.jpg
ORGANIZER;CN="Seminario Interinstitucional de Antropolog%C3%ADa y Etnograf%C3%ADa de la Educaci%C3%B3n":MAILTO:semi.antropologiadelaeducacion@gmail.com
END:VEVENT
END:VCALENDAR