BEGIN:VCALENDAR
VERSION:2.0
PRODID:-//CIESAS - ECPv6.15.20//NONSGML v1.0//EN
CALSCALE:GREGORIAN
METHOD:PUBLISH
X-WR-CALNAME:CIESAS
X-ORIGINAL-URL:https://ciesas.edu.mx
X-WR-CALDESC:Eventos para CIESAS
REFRESH-INTERVAL;VALUE=DURATION:PT1H
X-Robots-Tag:noindex
X-PUBLISHED-TTL:PT1H
BEGIN:VTIMEZONE
TZID:America/Mexico_City
BEGIN:STANDARD
TZOFFSETFROM:-0600
TZOFFSETTO:-0600
TZNAME:CST
DTSTART:20240101T000000
END:STANDARD
END:VTIMEZONE
BEGIN:VEVENT
DTSTART;TZID=America/Mexico_City:20251129T090000
DTEND;TZID=America/Mexico_City:20251207T230000
DTSTAMP:20260424T124650
CREATED:20251115T010827Z
LAST-MODIFIED:20251115T011031Z
UID:35825-1764406800-1765148400@ciesas.edu.mx
SUMMARY:CIESAS en la FIL Guadalajara 2025
DESCRIPTION:Del 29 de noviembre al 7 de diciembre de 2024\, el CIESAS tendrá a la venta parte de su catálogo editorial en la Feria Internacional del Libro de Guadalajara 2024\, en el Stand K31 del Área Nacional\, donde además habrá ofertas en títulos seleccionados en su versión impresa.  \n\n\n\nIgualmente\, en el marco de esta celebración literaria la Librería Virtual del CIESAS ofrecerá un 10% de descuento en todos sus títulos\, en las dos semanas que dura la FIL. \nLa Feria Internacional del Libro de Guadalajara es la reunión editorial más importante de Iberoamérica y un extraordinario festival cultural. Fundada por la Universidad de Guadalajara\, es una feria para profesionales donde el público es bienvenido\, lo que la distingue del resto de las principales ferias que se realizan en el mundo. Sin descuidar su vocación como un encuentro de negocios\, la FIL fue concebida como un festival cultural en el que la literatura es la columna vertebral\, con un programa en el que participan autores de todos los continentes y diferentes lenguas\, así como un espacio para la discusión académica de los grandes temas que cruzan nuestra actualidad. Consulta precios y horarios \n \n  \n 
URL:https://ciesas.edu.mx/event/ciesas-en-la-fil-guadalajara-2025/
LOCATION:Expo Guadalajara\, Av. Mariano Otero #1499\, Verde Valle\, Guadalajara\, 44550\, México
CATEGORIES:Festival/Feria
ATTACH;FMTTYPE=image/png:https://ciesas.edu.mx/wp-content/uploads/2025/11/Banner1200WebFIL_Guadalajara2025-e1763168311845.png
END:VEVENT
BEGIN:VEVENT
DTSTART;TZID=America/Mexico_City:20251202T110000
DTEND;TZID=America/Mexico_City:20251202T130000
DTSTAMP:20260424T124650
CREATED:20251125T162257Z
LAST-MODIFIED:20251125T162724Z
UID:35871-1764673200-1764680400@ciesas.edu.mx
SUMMARY:Remembrance as Resistance
DESCRIPTION:El CIESAS CDMX invita a Remembrance as Resistance: Alternative Commemorations of War Atrocities (Recuerdo como resistencia: Conmemoraciones alternativas de atrocidades de guerra)\, conferencia a cargo de la Dra. Ana Devic de la Aix-Marseille Université (AMU). \nLa conversación se llevará acabo en idioma inglés y se enfocará  en cómo los recuerdos de las atrocidades de la guerra pueden reintegrarse en la vida social a través de prácticas conmemorativas\, centrándose en los sitios del espacio post-yugoslavo\, caracterizado por el exilio\, la «reingeniería étnica» y el genocidio. Yuxtapone las prácticas conmemorativas oficiales a las iniciativas de base\, en particular los casos de activismo artístico. \nLos interesados podrán asistir a la Sala 2 del CIESAS Ciudad de México.
URL:https://ciesas.edu.mx/event/remembrance-as-resistance/
LOCATION:Sala 2 CIESAS CDMX\, Juárez 87\, Tlalpan\, Ciudad de México\, 14000\, Mexico
CATEGORIES:Conferencia
ATTACH;FMTTYPE=image/jpeg:https://ciesas.edu.mx/wp-content/uploads/2025/11/Banner1200_ConmemoracionResistencia2025-e1764087991405.jpg
END:VEVENT
BEGIN:VEVENT
DTSTART;TZID=America/Mexico_City:20251202T163000
DTEND;TZID=America/Mexico_City:20251202T163000
DTSTAMP:20260424T124650
CREATED:20251126T195815Z
LAST-MODIFIED:20251126T195815Z
UID:35894-1764693000-1764693000@ciesas.edu.mx
SUMMARY:Hallazgos en paisajes hidrosociales al norte y oriente del Valle de México
DESCRIPTION:El Seminario Permanente Interinstitucional sobre Dinámicas Socio-Ambientales y Regulaciones Territoriales en las Metrópolis invita a conocer los Avances de investigación y hallazgos en paisajes hidrosociales al norte y oriente de la cuenca del Valle de México\, a cargo de los investigadores Roberto Melville (CIESAS CDMX)\, Itzam Pineda (UACM) y Guillermo Boils (IIS-UNAM).  \nLos invitados abordarán la estacionalidad cíclica cada vez más extrema en la región central del país\, que se expresa\, por un lado\, a través de sequías prolongadas y escasez de agua en la zona\, y por el otro\, en la súbita entrada torrencial de lluvias.  La sesión se llevará a cabo de manera presencial en la Sala Juárez del CIESAS CDMX\, ubicada en Juárez 87\, de la colonia Tlalpan y tendrá transmión vía Facebook Live.  \n \n  \n 
URL:https://ciesas.edu.mx/event/hallazgos-en-paisajes-hidrosociales-al-norte-y-oriente-del-valle-de-mexico/
LOCATION:Sala Juárez del CIESAS\, Juárez 87\, Tlalpan\, Tlalpan\, Ciudad de México\, MEXICO CITY\, 14000\, México
CATEGORIES:Seminario
ATTACH;FMTTYPE=image/jpeg:https://ciesas.edu.mx/wp-content/uploads/2025/11/Banner1200-PaisajesHidrosociales-e1764187050274.jpg
END:VEVENT
BEGIN:VEVENT
DTSTART;TZID=America/Mexico_City:20251204T110000
DTEND;TZID=America/Mexico_City:20251204T130000
DTSTAMP:20260424T124650
CREATED:20251128T194554Z
LAST-MODIFIED:20251201T175359Z
UID:35910-1764846000-1764853200@ciesas.edu.mx
SUMMARY:La circulación de cacao en el Golfo de México
DESCRIPTION:El Seminario de Historia Económica del Sureste invita a la ponencia La circulación de cacao en las tierras bajas del Golfo de México\, durante el último tercio del siglo XVII\, a cargo del Mtro. Aarón David Hernández Contreras. \nEl objetivo de la sesión es explicar el comercio de una mercancía por tierra y agua entre varios pueblos del Golfo de México\, en donde el gran ausente es la autoridad alcabalatoria\, todo esto a partir de un registro comercial de cacao. Esto con el objetivo de explicar un espacio de especializando de cultivo y comercio de cacao\, la circulación de un género por tierra y agua\, un comercio sin gravamen de larga distancia\, la legalización de un registro comercial que no garantizaba que lo que se registraba se pagara a las finanzas del rey\, y las interacciones entre mercaderes y arrieros\, entre 1677 y 1700. \nEl público interesado podrá asistir a las instalaciones del CIESAS Peninsular\, o bien\, seguir la transmisión por Zoom.  \nID de reunión: 922 2588 0636Código de acceso: 525786 \n \n  \n 
URL:https://ciesas.edu.mx/event/la-circulacion-de-cacao-en-el-golfo-de-mexico/
LOCATION:CIESAS Peninsular\, Km 5.5 Carretera Sierra Papacal – Chuburná\, Merida\, Yucatán\, 97302\, México
CATEGORIES:Seminario
ATTACH;FMTTYPE=image/jpeg:https://ciesas.edu.mx/wp-content/uploads/2025/11/BannerWeb1200x500SHES_EconomiaDomesticaYucatan-CIESAS-e1764611623226.jpg
ORGANIZER;CN="Seminario Historia de la Miner%C3%ADa en M%C3%A9xico y Regiones Comparadas":MAILTO:seminariohistoriadelamineria@ciesas.edu.mx
END:VEVENT
BEGIN:VEVENT
DTSTART;TZID=America/Mexico_City:20251204T120000
DTEND;TZID=America/Mexico_City:20251204T140000
DTSTAMP:20260424T124650
CREATED:20251121T195423Z
LAST-MODIFIED:20251128T170915Z
UID:35851-1764849600-1764856800@ciesas.edu.mx
SUMMARY:Conferencia Magistral de la Embajadora de Palestina en México
DESCRIPTION:El colectivo CIESAS por Palestina y el Laboratorio de Antropología de las Justicias y las Violencias  invitan a Contra la ocupación y el genocidio: Palestina y la conciencia del mundo\, Conferencia Magistral de la Embajadora de Palestina en México\, Nadya Rasheed\, la cual busca   generar un espacio de diálogo que permita profundizar en la comprensión de la situación actual en Palestina desde una mirada histórica\, política y de derechos humanos. \nEste encuentro busca reflexionar sobre las resonancias entre la ocupación de Palestina y las violencias coloniales y patriarcales que atraviesan a los pueblos de América Latina; fortalecer redes de solidaridad académica\, cultural y diplomática entre comunidades\, instituciones y movimientos sociales; promover el intercambio académico y cultural con la Embajada de Palestina; e impulsar la participación de jóvenes\, estudiantes y activistas en la construcción de una conciencia crítica y solidaria frente a las injusticias globales. \nCIESAS por Palestina es un colectivo integrado por profesores investigadores\, estudiantes y trabajadores del CIESAS que ha impulsado diversas acciones de solidaridad frente al genocidio del pueblo palestino.
URL:https://ciesas.edu.mx/event/conferencia-magistral-de-la-embajadora-de-palestina-en-mexico/
LOCATION:Casa Chata\, Miguel Hidalgo s/n\, Tlalpan Centro\, Tlalpan\, Ciudad de México\, 14000\, México
CATEGORIES:Conferencia
ATTACH;FMTTYPE=image/jpeg:https://ciesas.edu.mx/wp-content/uploads/2025/11/Banner_1200EmbajadoraPalestinaConferenciaMagistral-CIESAS-e1763754760813.jpg
ORGANIZER;CN="Laboratorio de Antropolog%C3%ADa de las Justicias y las Violencias":MAILTO:antropologia.activista@gmail.com
END:VEVENT
BEGIN:VEVENT
DTSTART;TZID=America/Mexico_City:20251208T110000
DTEND;TZID=America/Mexico_City:20251208T130000
DTSTAMP:20260424T124650
CREATED:20251203T224538Z
LAST-MODIFIED:20251203T224707Z
UID:35931-1765191600-1765198800@ciesas.edu.mx
SUMMARY:Casos de comerciantes irlandeses en la Era de las revoluciones
DESCRIPTION:El Seminario de Historia Económica del Sureste invita a la ponencia Redes transimperiales y archivos globales: casos de comerciantes irlandeses en la Era de las revoluciones\, a cargo de la Dra. Deborah Besseghini. \nEn la presentación la ponente charlará sobre su experiencia en la búsqueda y manejo de fuentes documentales para la historia global\, a través de la comunidad hispano-irlandesa como un caso representativo en lo que fue la Monarquía hispánica durante la Era de las revoluciones. \nA partir del tema\, se reflexionará sobre las redes transimperiales formadas durante las guerras atlánticas en las que participó España y que alcanzaron a sus territorios americanos\, mismos en los que actuaron diversos actores de origen irlandés\, como intermediarios de los imperios europeos. \nEl público interesado podrá asistir a las instalaciones del CIESAS Peninsular\, o bien\, seguir la transmisión por Zoom.  \nID de reunión: 922 2588 0636Código de acceso: 525786 \n \n  \n 
URL:https://ciesas.edu.mx/event/casos-de-comerciantes-irlandeses-en-la-era-de-las-revoluciones/
LOCATION:CIESAS Peninsular\, Km 5.5 Carretera Sierra Papacal – Chuburná\, Merida\, Yucatán\, 97302\, México
CATEGORIES:Seminario
ATTACH;FMTTYPE=image/jpeg:https://ciesas.edu.mx/wp-content/uploads/2025/12/BannerWeb1200SHES_ComerciantesIrlandeses_CIESAS-e1764802006543.jpg
ORGANIZER;CN="Seminario Historia de la Miner%C3%ADa en M%C3%A9xico y Regiones Comparadas":MAILTO:seminariohistoriadelamineria@ciesas.edu.mx
END:VEVENT
BEGIN:VEVENT
DTSTART;TZID=America/Mexico_City:20251210T100000
DTEND;TZID=America/Mexico_City:20251210T130000
DTSTAMP:20260424T124650
CREATED:20251205T202108Z
LAST-MODIFIED:20251205T202108Z
UID:35938-1765360800-1765371600@ciesas.edu.mx
SUMMARY:Prácticas de cuidado en los territorios mixtecos
DESCRIPTION:El Seminario Permanente: Subjetividad\, Cuerpos y Lenguajes presenta Los dueños del lugar: Caminos\, parajes y prácticas de cuidado en los territorios mixtecos\, a cargo de la Mtra. Betsabé Piña Morales del CIESAS CDMX. \nEl público interesado podrá asistir a las instalaciones del CIESAS CDMX \, o bien seguir la transmisión en vivo por Zoom\, para solicitar la liga es necesario solicitarla a jsanchez@ciesas.edu.mx. \nEl Seminario busca profundizar en la relación entre subjetividad\, cuerpos y lenguajes\, así como su aplicación heurística en diversos campos convergentes: psicoanálisis\, antropología\, sociología y ciencias médicas. \n \n  \n 
URL:https://ciesas.edu.mx/event/practicas-de-cuidado-en-los-territorios-mixtecos/
LOCATION:Sala Juárez del CIESAS\, Juárez 87\, Tlalpan\, Tlalpan\, Ciudad de México\, MEXICO CITY\, 14000\, México
CATEGORIES:Seminario
ATTACH;FMTTYPE=image/jpeg:https://ciesas.edu.mx/wp-content/uploads/2025/12/Banner1200WebSeminarioSubjetividadCuerposLenguajesdiciembre2025CIESAS-e1764965995921.jpg
END:VEVENT
BEGIN:VEVENT
DTSTART;TZID=America/Mexico_City:20251210T190000
DTEND;TZID=America/Mexico_City:20251210T190000
DTSTAMP:20260424T124650
CREATED:20251208T210439Z
LAST-MODIFIED:20251208T210439Z
UID:35942-1765393200-1765393200@ciesas.edu.mx
SUMMARY:Presentación editorial: Panorama de la educación para los mayas en Yucatán
DESCRIPTION:La Subdirección de Publicaciones del CIESAS invita a la presentación editorial de Panorama de la educación para los mayas en Yucatán. Momentos históricos y situaciones contextuales\, de Jesús Lizama Quijano\, la cual se llevará acabo en Museo Pinacoteca Juan Gamboa Guzmán\, en Mérida\, Yucatán. \nEste libro analiza las políticas y estrategias de educación ins­tauradas por las autoridades educativas en momentos espe­cíficos de la historia de Yucatán. Su objetivo se centra en la po­blación indígena y\, en especial\, en los menores mayas\, para observar la forma en que se ha llevado a cabo la vinculación escuela-­población originaria\, ayudando a comprender mejor su desarrollo en las últimas décadas. \nLa evolución de los distintos modelos de educación dirigidos a los mayas nos permite visualizar que este proce­so no ha sido ni continuo ni estático. Es decir\, con el paso del tiempo observamos múltiples transformaciones\, y el surgimiento de diferentes modelos o tendencias. Si bien los ensayos aquí presentados no cubren todos los periodos históricos del proceso educativo en cuestión\, al menos muestran parte del camino recorrido por los mayas en las aulas. Consideramos que su aporte radica en expo­ner\, a partir de unos pocos detalles\, una historia influi­da por diversas ideologías y múltiples políticas estatales. \nLa publicación está disponible en versión digital en la siguiente liga.  \n  \n  \n 
URL:https://ciesas.edu.mx/event/presentacion-editorial-panorama-de-la-educacion-para-los-mayas-en-yucatan/
LOCATION:Museo Pinacoteca Juan Gamboa Guzmán\, Calle 59 núm. 499 por calle 58 y 60\, Centro\, Mérida\, Yucatán\, 97000\, Mexico
CATEGORIES:Presentación editorial
ATTACH;FMTTYPE=image/jpeg:https://ciesas.edu.mx/wp-content/uploads/2025/12/Presentacion_PanoramaDeLaEducacion-e1765227787125.jpg
END:VEVENT
BEGIN:VEVENT
DTSTART;TZID=America/Mexico_City:20251211T110000
DTEND;TZID=America/Mexico_City:20251211T110000
DTSTAMP:20260424T124650
CREATED:20251201T224948Z
LAST-MODIFIED:20251201T224948Z
UID:35919-1765450800-1765450800@ciesas.edu.mx
SUMMARY:La muerte en los códices mayas
DESCRIPTION:El Seminario Tlatemoani presenta Aj Kíimil\, la muerte en los códices mayas\, a cargo del Dr. Manuel  Alberto Morales Damián (Universidad Autónoma del Estado de Hidalgo)\, quien interpreta a Ah Kimil / Aj Kíimil no sólo como un agente de fin sino como una figura ritual que articula muerte\, fertilidad y renovación en la iconografía del Códice Madrid. \nEl invitado analizará las escenas donde la figura participa en ofrendas\, sacrificios y actos simbólicos que conectan la muerte con procesos agrícolas y de regeneración ritual. Su metodología se basa en lectura iconográfica y comparativa de las viñetas del códice\, atención a textos glíficos y correlación con rituales descritos en fuentes coloniales y etnográficas. Asimismo explorará la muerte en la cosmología maya es funcional y productiva. \nManuel Alberto Morales Damián es Doctor en Estudios Mesoamericanos (UNAM) y licenciado en Historia por la misma institución. Es profesor e investigador en el Área Académica de Historia y Antropología de la Universidad Autónoma del Estado de Hidalgo (UAEH)\, con reconocimiento en el Sistema Nacional de Investigadores (nivel 2). Ha ocupado cargos académicos y administrativos dentro de la UAEH y sus líneas de trabajo incluyen historia de la religión y cultura visual\, con especial atención al área maya\nEl público interesado podrá seguir la transmisión vía Zoom.  \n \nEl Seminario Tlatemoani de CIESAS tiene como objetivo la presentación y discusión académica de avances de investigación relacionados con el estudio de la imagen en códices\, pintura mural\, arqueología y textiles. Es un espacio donde se analizan aspectos simbólicos y culturales de los manuscritos indígenas novohispanos\, explorando su reelaboración y reproducción cultural. \n  \n  \n 
URL:https://ciesas.edu.mx/event/la-muerte-en-los-codices-mayas/
LOCATION:CDMX
CATEGORIES:Seminario
ATTACH;FMTTYPE=image/jpeg:https://ciesas.edu.mx/wp-content/uploads/2025/12/Banner1200_SeminarioTlatemoani2025Noviembre-e1764629303295.jpg
ORGANIZER;CN="Seminario Tlatemoani":MAILTO:quecholli@gmail.com
END:VEVENT
END:VCALENDAR